Felt | Verdi |
AlreadyApplied | True |
Aperture | 4.0 |
ApertureValue | 4.0 |
ApproximateFocusDistance | 53.1 |
Artist | Terje Sylte |
AutoLateralCA | 0 |
AutoWhiteVersion | 134348800 |
BitsPerSample | 8 |
Blacks2012 | -14 |
BlueHue | 0 |
BlueSaturation | 0 |
By-line | Terje Sylte |
CameraProfile | Adobe Standard |
CFAPattern | [Red,Green][Green,Blue] |
CircleOfConfusion | 0.030 mm |
Clarity2012 | 0 |
ColorComponents | 3 |
ColorMode | RGB |
ColorNoiseReduction | 25 |
ColorNoiseReductionDetail | 50 |
ColorNoiseReductionSmoothness | 50 |
ColorSpace | sRGB |
ColorTemperature | 4700 |
ColorTransform | YCbCr |
Contrast | Normal |
Contrast2012 | +51 |
ConvertToGrayscale | False |
Copyright | Terje Sylte |
CopyrightNotice | Terje Sylte |
CreateDate (1) | 2014:06:06 21:10:07.60 |
CreateDate | 2014:06:06 21:10:07 |
Creator | Terje Sylte |
CreatorTool | Adobe Photoshop Lightroom 5.4 (Macintosh) |
CropAngle | 0 |
CropBottom | 1 |
CropConstrainToWarp | 0 |
CropLeft | 0.254668 |
CropRight | 0.955731 |
CropTop | 0.298937 |
CustomRendered | Normal |
DateCreated | 2014:06:06 |
DateTimeDigitized | 2014:06:06 21:10:07+02:00 |
DateTimeOriginal (1) | 2014:06:06 21:10:07+02:00 |
DateTimeOriginal | 2014:06:06 21:10:07 |
DefringeGreenAmount | 0 |
DefringeGreenHueHi | 60 |
DefringeGreenHueLo | 40 |
DefringePurpleAmount | 0 |
DefringePurpleHueHi | 70 |
DefringePurpleHueLo | 30 |
DigitalZoomRatio | 1 |
DOF | 7.53 m (49.60 - 57.13 m) |
ExifImageHeight | 681 |
ExifImageWidth | 1024 |
Exposure2012 | -0.25 |
ExposureCompensation | 0 |
ExposureMode | Auto |
ExposureProgram | Aperture-priority AE |
ExposureTime | 1/6400 |
Flash | No Flash |
FlashFired | False |
FlashFunction | False |
FlashMode | Unknown |
FlashRedEyeMode | False |
FlashReturn | No return detection |
FNumber | 4.0 |
FocalLength | 300.0 mm |
FocalLength35efl | 300.0 mm (35 mm equivalent: 300.0 mm) |
FocalLengthIn35mmFormat | 300 mm |
Format | image/jpeg |
FOV | 6.9 deg |
GainControl | High gain up |
GrainAmount | 0 |
GreenHue | 0 |
GreenSaturation | 0 |
HasCrop | True |
HasSettings | True |
Highlights2012 | -40 |
HueAdjustmentAqua | 0 |
HueAdjustmentBlue | 0 |
HueAdjustmentGreen | 0 |
HueAdjustmentMagenta | 0 |
HueAdjustmentOrange | 0 |
HueAdjustmentPurple | 0 |
HueAdjustmentRed | 0 |
HueAdjustmentYellow | 0 |
HyperfocalDistance | 748.85 m |
ICCProfileName | sRGB IEC61966-2.1 |
ImageHeight | 681 |
ImageNumber | 43330 |
ImageSize | 1024x681 |
ImageWidth | 1024 |
ISO | 1600 |
Keywords | Terner |
Lens | 100.0-300.0 mm f/4.0 |
LensID (1) | 72 |
LensID | Sigma APO 100-300mm F4 EX IF HSM |
LensInfo | 100-300mm f/4 |
LensManualDistortionAmount | 0 |
LensModel | 100.0-300.0 mm f/4.0 |
LensProfileEnable | 1 |
LensProfileSetup | LensDefaults |
LightSource | Unknown |
LightValue | 12.6 |
LuminanceAdjustmentAqua | 0 |
LuminanceAdjustmentBlue | 0 |
LuminanceAdjustmentGreen | 0 |
LuminanceAdjustmentMagenta | 0 |
LuminanceAdjustmentOrange | 0 |
LuminanceAdjustmentPurple | 0 |
LuminanceAdjustmentRed | 0 |
LuminanceAdjustmentYellow | 0 |
LuminanceSmoothing | 0 |
Make | NIKON CORPORATION |
MaxApertureValue | 4.0 |
Megapixels | 0.697 |
MeteringMode | Multi-segment |
Model | NIKON D4 |
ModifyDate (1) | 2014:06:22 00:08:48+02:00 |
ModifyDate | 2014:06:22 00:08:48 |
Orientation | Horizontal (normal) |
ParametricDarks | 0 |
ParametricHighlights | +60 |
ParametricHighlightSplit | 75 |
ParametricLights | +10 |
ParametricMidtoneSplit | 50 |
ParametricShadows | 0 |
ParametricShadowSplit | 25 |
PerspectiveAspect | 0 |
PerspectiveHorizontal | 0 |
PerspectiveRotate | 0.0 |
PerspectiveScale | 100 |
PerspectiveUpright | 0 |
PerspectiveVertical | 0 |
PostCropVignetteAmount | 0 |
ProcessVersion | 6.7 |
ProfileDescription | sRGB IEC61966-2.1 |
Rating | 4 |
RedHue | 0 |
RedSaturation | 0 |
Rights | Terje Sylte |
Saturation (1) | 0 |
Saturation | Normal |
SaturationAdjustmentAqua | +50 |
SaturationAdjustmentBlue | +58 |
SaturationAdjustmentGreen | +10 |
SaturationAdjustmentMagenta | 0 |
SaturationAdjustmentOrange | +13 |
SaturationAdjustmentPurple | +23 |
SaturationAdjustmentRed | 0 |
SaturationAdjustmentYellow | +23 |
ScaleFactor35efl | 1.0 |
SceneCaptureType | Standard |
SceneType | Directly photographed |
SensingMethod | One-chip color area |
SensitivityType | Recommended Exposure Index |
SerialNumber | 2028263 |
Shadows2012 | 0 |
ShadowTint | 0 |
SharpenDetail | 25 |
SharpenEdgeMasking | 0 |
SharpenRadius | +1.0 |
Sharpness (1) | 25 |
Sharpness | Normal |
ShutterSpeed | 1/6400 |
ShutterSpeedValue | 1/6400 |
Software | Adobe Photoshop CS4 Macintosh |
SplitToningBalance | 0 |
SplitToningHighlightHue | 0 |
SplitToningHighlightSaturation | 0 |
SplitToningShadowHue | 0 |
SplitToningShadowSaturation | 0 |
Subject | Terner |
SubjectDistanceRange | Unknown |
Tint | +4 |
ToneCurve | 0, 0, 255, 255 |
ToneCurveBlue | 0, 0, 255, 255 |
ToneCurveGreen | 0, 0, 255, 255 |
ToneCurveName | Linear |
ToneCurveName2012 | Linear |
ToneCurvePV2012 | 0, 0, 255, 255 |
ToneCurvePV2012Blue | 0, 0, 255, 255 |
ToneCurvePV2012Green | 0, 0, 255, 255 |
ToneCurvePV2012Red | 0, 0, 255, 255 |
ToneCurveRed | 0, 0, 255, 255 |
URL_List | |
Version | 8.4 |
Vibrance | 0 |
VignetteAmount | 0 |
WhiteBalance (1) | As Shot |
WhiteBalance | Auto |
Whites2012 | 0 |