Felt | Verdi |
AlreadyApplied | True |
Aperture | 16.0 |
ApertureValue | 16.0 |
ApproximateFocusDistance | 4294967295 |
AutoLateralCA | 1 |
AutoWhiteVersion | 134348800 |
BitsPerSample | 16 |
Blacks2012 | -25 |
BlueHue | 0 |
BlueSaturation | 0 |
CameraProfile | Matrix |
CircleOfConfusion | 0.028 mm |
Clarity2012 | 0 |
ColorNoiseReduction | 0 |
ColorSpace (1) | sRGB |
ColorSpace | Uncalibrated |
ColorTemperature | 6600 |
Contrast2012 | +13 |
ConvertToGrayscale | True |
CopyrightFlag | False |
CreateDate (1) | 2014:10:18 16:13:06.00 |
CreateDate | 2014:10:18 16:13:06 |
CreatorTool | Adobe Photoshop CS Windows |
CropAngle | 1.51541 |
CropBottom | 0.870561 |
CropConstrainToWarp | 1 |
CropLeft | 0.026568 |
CropRight | 0.985514 |
CropTop | 0.010599 |
CustomRendered | Normal |
DateCreated | 2014:10:18 |
DateTimeDigitized | 2014:10:18 16:13:06+01:00 |
DateTimeOriginal (1) | 2014:10:18 16:13:06+01:00 |
DateTimeOriginal | 2014:10:18 16:13:06 |
DOF | inf (2.74 m - inf) |
ExifImageHeight | 2997 |
ExifImageWidth | 5328 |
Exposure2012 | -2.38 |
ExposureCompensation | 0 |
ExposureMode | Manual |
ExposureProgram | Manual |
ExposureTime | 6 |
Firmware | 1.1.3 |
Flash | Off, Did not fire |
FlashCompensation | 0 |
FlashFired | False |
FlashFunction | False |
FlashMode | Off |
FlashRedEyeMode | False |
FlashReturn | No return detection |
FNumber | 16.0 |
FocalLength | 35.0 mm |
FocalLength35efl | 35.0 mm (35 mm equivalent: 37.7 mm) |
Format | image/tiff |
FOV | 51.1 deg |
GrainAmount | 0 |
GrayMixerAqua | -17 |
GrayMixerBlue | +13 |
GrayMixerGreen | -27 |
GrayMixerMagenta | +4 |
GrayMixerOrange | -20 |
GrayMixerPurple | +17 |
GrayMixerRed | -11 |
GrayMixerYellow | -24 |
GreenHue | 0 |
GreenSaturation | 0 |
HasCrop | True |
HasSettings | True |
Highlights2012 | -100 |
HyperfocalDistance | 2.74 m |
ImageHeight | 2997 |
ImageNumber | 0 |
ImageSize | 5328x2997 |
ImageWidth | 5328 |
ISO | 100 |
Lens | 35mm |
LensID (1) | 169 |
LensID | Sigma 35mm f/1.4 DG HSM or Sigma 35mm f/1.5 FF High-Speed Prime | 017 |
LensInfo | 35mm f/? |
LensManualDistortionAmount | 0 |
LensModel | 35mm |
LensProfileEnable | 1 |
LensProfileSetup | Auto |
LensSerialNumber | 0000000000 |
LightValue | 5.4 |
LuminanceNoiseReductionContrast | 0 |
LuminanceNoiseReductionDetail | 50 |
LuminanceSmoothing | 15 |
Make | Canon |
MaxApertureValue | 1.4 |
Megapixels | 16.0 |
MeteringMode | Multi-segment |
Model | Canon EOS 6D |
ModifyDate (1) | 2014:10:18 16:59:50+01:00 |
ModifyDate | 2014:10:18 16:59:50 |
ParametricDarks | 0 |
ParametricHighlights | 0 |
ParametricHighlightSplit | 75 |
ParametricLights | 0 |
ParametricMidtoneSplit | 50 |
ParametricShadows | 0 |
ParametricShadowSplit | 25 |
PerspectiveAspect | 0 |
PerspectiveHorizontal | 0 |
PerspectiveRotate | 0.0 |
PerspectiveScale | 100 |
PerspectiveUpright | 0 |
PerspectiveVertical | 0 |
PhotometricInterpretation | BlackIsZero |
PostCropVignetteAmount | -5 |
PostCropVignetteFeather | 50 |
PostCropVignetteHighlightContrast | 0 |
PostCropVignetteMidpoint | 50 |
PostCropVignetteRoundness | 0 |
PostCropVignetteStyle | 1 |
ProcessVersion | 6.7 |
RecommendedExposureIndex | 100 |
RedHue | 0 |
RedSaturation | 0 |
RowsPerStrip | 98 |
SamplesPerPixel | 1 |
ScaleFactor35efl | 1.1 |
SceneCaptureType | Standard |
SensitivityType | Recommended Exposure Index |
SerialNumber | 043024001646 |
Shadows2012 | -45 |
ShadowTint | 0 |
SharpenDetail | 25 |
SharpenEdgeMasking | 0 |
SharpenRadius | +1.0 |
Sharpness | 70 |
ShutterSpeed | 6 |
ShutterSpeedValue | 6 |
Software | Adobe Photoshop CS Windows |
SplitToningBalance | 0 |
SplitToningHighlightHue | 0 |
SplitToningHighlightSaturation | 0 |
SplitToningShadowHue | 0 |
SplitToningShadowSaturation | 0 |
SubfileType | Full-resolution Image |
Tint | -3 |
ToneCurveName2012 | Linear |
ToneCurvePV2012 | 0, 0, 255, 255 |
ToneCurvePV2012Blue | 0, 0, 255, 255 |
ToneCurvePV2012Green | 0, 0, 255, 255 |
ToneCurvePV2012Red | 0, 0, 255, 255 |
URL_List | |
Version | 8.2 |
VignetteAmount | 0 |
WhiteBalance (2) | Auto |
WhiteBalance | As Shot |
Whites2012 | +24 |