Felt | Verdi |
ActiveD-Lighting | Off |
AELockButton | AE/AF Lock |
AF-CPrioritySelection | Release |
AFAperture | 1.8 |
AFAreaMode | Single Area |
AFAssist | Off |
AFInfo2Version | 0100 |
AFPointsUsed | (none) |
AlreadyApplied | True |
Aperture | 2.8 |
ApertureValue | 2.8 |
ApproximateFocusDistance | 14.13 |
AutoBracketSet | Exposure |
AutoDistortionControl | Off |
AutoFocus | Off |
AutoLateralCA | 0 |
AutoWhiteVersion | 134348800 |
Beep | Off |
BitsPerSample | 8 |
Blacks2012 | -31 |
BlueBalance | 1.945313 |
BlueHue | 0 |
BlueSaturation | 0 |
Brightness | Normal |
CameraProfile | Adobe Standard |
CFAPattern | [Red,Green][Green,Blue] |
CircleOfConfusion | 0.020 mm |
Clarity2012 | 0 |
ColorComponents | 3 |
ColorNoiseReduction | 25 |
ColorNoiseReductionDetail | 50 |
ColorNoiseReductionSmoothness | 50 |
ColorSpace | sRGB |
ColorTemperature | 4250 |
ColorTransform | YCbCr |
CommandDialsReverseRotation | No |
Contrast | Normal |
Contrast2012 | +26 |
ContrastDetectAF | Off |
ContrastDetectAFInFocus | No |
ConvertToGrayscale | True |
CreateDate (1) | 2014:11:25 20:30:05.70+01:00 |
CreateDate | 2014:11:25 20:30:05 |
CreatorTool | Adobe Photoshop Lightroom 5.0 (Windows) |
CropHiSpeed | Off (4992x3280 cropped to 4992x3280 at pixel 0,0) |
CustomRendered | Normal |
DateCreated (1) | 2014:11:25 |
DateCreated | 2014:11:25 20:30:05.70+01:00 |
DateDisplayFormat | D/M/Y |
DateStampMode | Off |
DateTimeOriginal | 2014:11:25 20:30:05 |
DaylightSavings | Yes |
DigitalZoomRatio | 1 |
DOF | inf (2.80 m - inf) |
EffectiveMaxAperture | 2.8 |
EVStepSize | 1/3 EV |
ExitPupilPosition | 58.5 mm |
Exposure2012 | 0.00 |
ExposureBracketValue | 0 |
ExposureCompensation | 0 |
ExposureDelayMode | On |
ExposureDifference | +4.2 |
ExposureMode | Manual |
ExposureProgram | Manual |
ExposureTime | 10 |
ExposureTuning | 0 |
ExternalFlashCompensation | 0 |
ExternalFlashExposureComp | 0 |
ExternalFlashFirmware | n/a |
ExternalFlashFlags | (none) |
FileInfoVersion | 0100 |
FileNumber | 0955 |
FileNumberSequence | On |
FilterEffect | n/a |
FirmwareVersion | 1.01b |
Flash | No Flash |
FlashColorFilter | None |
FlashCommanderMode | Off |
FlashCompensation | 0 |
FlashControlMode | Off |
FlashExposureBracketValue | 0.0 |
FlashExposureComp | 0 |
FlashExposureComp3 | 0 |
FlashExposureComp4 | 0 |
FlashGNDistance | 0 |
FlashGroupACompensation | 0 |
FlashGroupAControlMode | Off |
FlashGroupBCompensation | 0 |
FlashGroupBControlMode | Off |
FlashGroupCCompensation | 0 |
FlashGroupCControlMode | Off |
FlashInfoVersion | 0104 |
FlashMode | Did Not Fire |
FlashSetting | Normal |
FlashSource | None |
FlashType | |
FNumber | 2.8 |
FocalLength (1) | 14.1 mm |
FocalLength | 14.0 mm |
FocalLength35efl | 14.0 mm (35 mm equivalent: 21.0 mm) |
FocalLengthIn35mmFormat | 21 mm |
FocusDistance | 14.13 m |
FocusMode | Manual |
FocusPosition | 0x02 |
Format | image/jpeg |
FOV | 81.1 deg (24.19 m) |
GainControl | High gain up |
GPSVersionID | 2.3.0.0 |
GrainAmount | 0 |
GrayMixerAqua | -21 |
GrayMixerBlue | +5 |
GrayMixerGreen | -23 |
GrayMixerMagenta | +10 |
GrayMixerOrange | -11 |
GrayMixerPurple | +15 |
GrayMixerRed | 0 |
GrayMixerYellow | -16 |
GreenHue | 0 |
GreenSaturation | 0 |
HasCrop | False |
HasExtendedXMP | F5817E76CFF4CEB55286E5D6AC49EEC9 |
HasSettings | True |
HighISONoiseReduction | Minimal |
Highlights2012 | 0 |
HueAdjustment | None |
HyperfocalDistance | 3.49 m |
ImageHeight | 4470 |
ImageNumber | 22435 |
ImageReviewTime | 4 s |
ImageSize | 2959x4470 |
ImageWidth | 2959 |
ISO | 3200 |
ISO2 | 3200 |
ISODisplay | On |
ISOExpansion | Off |
ISOExpansion2 | Off |
ISOSetting | 3200 |
Lens (1) | 14mm f/2.8-1.4 |
Lens | 14.0 mm f/2.8 |
LensDataVersion | 0204 |
LensFStops | 6.00 |
LensID (1) | 74 |
LensID | Samyang 10mm f/2.8 ED AS NCS CS or Samyang AE 14mm f/2.8 ED AS IF UMC |
LensIDNumber | 74 |
LensInfo | 14mm f/2.8-1.4 |
LensManualDistortionAmount | 0 |
LensModel | 14.0 mm f/2.8 |
LensProfileEnable | 0 |
LensProfileSetup | LensDefaults |
LensSpec | 14mm f/2.8-1.4 D |
LensType | D |
LightSource | Unknown |
LightValue | -5.4 |
LiveViewMonitorOffTime | 3 min |
LuminanceNoiseReductionContrast | 0 |
LuminanceNoiseReductionDetail | 50 |
LuminanceSmoothing | 15 |
Make | NIKON CORPORATION |
MakerNoteSafety | Safe |
MakerNoteVersion | 2.10 |
ManualFlashOutput | Full |
MaxApertureAtMaxFocal | 1.4 |
MaxApertureAtMinFocal | 2.8 |
MaxApertureValue | 2.8 |
MaxFocalLength | 14.1 mm |
MCUVersion | 77 |
Megapixels | 13.2 |
MemoryCardNumber | 0 |
MeteringMode | Spot |
MeteringTime | 4 s |
MinFocalLength | 14.1 mm |
Model | NIKON D5100 |
ModifyDate (1) | 2014:11:25 23:14:37+01:00 |
ModifyDate | 2014:11:25 23:14:37 |
MultiExposureAutoGain | Off |
MultiExposureMode | Off |
MultiExposureShots | 0 |
MultiExposureVersion | 0100 |
NoiseReduction | Off |
NoMemoryCard | Release Locked |
PaintCorrectionActive | true |
PaintCorrectionAmount | 1.000000 |
PaintCorrectionBrightness | 0.000000 |
PaintCorrectionClarity2012 (1) | 0.309520 |
PaintCorrectionClarity2012 | 0.000000 |
PaintCorrectionContrast2012 (1) | 0.595240 |
PaintCorrectionContrast2012 (3) | -0.071430 |
PaintCorrectionContrast2012 | 1.000000 |
PaintCorrectionDefringe | 0.000000 |
PaintCorrectionExposure2012 (1) | 0.023750 |
PaintCorrectionExposure2012 (2) | -1.000000 |
PaintCorrectionExposure2012 (3) | 0.000000 |
PaintCorrectionExposure2012 | -0.214250 |
PaintCorrectionHighlights2012 (3) | 1.000000 |
PaintCorrectionHighlights2012 | -1.000000 |
PaintCorrectionHue | 0.000000 |
PaintCorrectionLuminanceNoise | 0.000000 |
PaintCorrectionMaskCenterWeight | 0.000000 |
PaintCorrectionMaskFlow | 1.000000 |
PaintCorrectionMaskRadius (1) | 0.067543 |
PaintCorrectionMaskRadius (10) | 0.028594 |
PaintCorrectionMaskRadius (11) | 0.022410 |
PaintCorrectionMaskRadius (14) | 0.018450 |
PaintCorrectionMaskRadius (18) | 0.016519 |
PaintCorrectionMaskRadius (30) | 0.077429 |
PaintCorrectionMaskRadius (37) | 0.020694 |
PaintCorrectionMaskRadius (4) | 0.012753 |
PaintCorrectionMaskRadius (45) | 0.009117 |
PaintCorrectionMaskRadius (46) | 0.014620 |
PaintCorrectionMaskRadius (53) | 0.057830 |
PaintCorrectionMaskRadius (6) | 0.020414 |
PaintCorrectionMaskRadius | 0.038918 |
PaintCorrectionMaskValue (25) | 0.000000 |
PaintCorrectionMaskValue | 0.488000 |
PaintCorrectionMaskWhat | Mask/Paint |
PaintCorrectionMoire | 0.000000 |
PaintCorrectionSaturation (3) | -1.000000 |
PaintCorrectionSaturation (5) | -0.285710 |
PaintCorrectionSaturation | 0.000000 |
PaintCorrectionShadows2012 (1) | -0.928570 |
PaintCorrectionShadows2012 (2) | -1.000000 |
PaintCorrectionShadows2012 | 0.000000 |
PaintCorrectionSharpness | 0.000000 |
PaintCorrectionTemperature | 0.000000 |
PaintCorrectionTint (1) | -1.000000 |
PaintCorrectionTint | 0.000000 |
PaintCorrectionWhat | Correction |
ParametricDarks | 0 |
ParametricHighlights | 0 |
ParametricHighlightSplit | 75 |
ParametricLights | 0 |
ParametricMidtoneSplit | 50 |
ParametricShadows | 0 |
ParametricShadowSplit | 25 |
PerspectiveAspect | 0 |
PerspectiveHorizontal | 0 |
PerspectiveRotate | 0.0 |
PerspectiveScale | 100 |
PerspectiveUpright | 0 |
PerspectiveVertical | 0 |
PhaseDetectAF | Off |
PictureControlAdjust | Default Settings |
PictureControlBase | Standard |
PictureControlName | Standard |
PictureControlQuickAdjust | Normal |
PictureControlVersion | 0100 |
PlaybackMenusTime | 12 s |
PostCropVignetteAmount | 0 |
PowerUpTime | 2014:10:18 21:25:16 |
PrimaryAFPoint | (none) |
ProcessVersion | 6.7 |
ProfileDescription | sRGB IEC61966-2.1 |
ProgramShift | 0 |
Quality | Fine |
RangeFinder | Off |
RedBalance | 1.875 |
RedHue | 0 |
RedSaturation | 0 |
RemoteOnDuration | 1 min |
ReverseIndicators | - 0 + |
Saturation | Normal |
ScaleFactor35efl | 1.5 |
SceneCaptureType | Standard |
SceneType | Directly photographed |
SelfTimerShotCount | 1 |
SelfTimerTime | 5 s |
SensingMethod | One-chip color area |
SerialNumber | 6577490 |
Shadows2012 | +100 |
ShadowTint | 0 |
SharpenDetail | 25 |
SharpenEdgeMasking | 0 |
SharpenRadius | +1.0 |
Sharpness (1) | 3 |
Sharpness (2) | 45 |
Sharpness | Normal |
ShootingMode | Single-Frame, Self-timer |
ShotInfoVersion | 0221 |
ShutterCount | 22435 |
ShutterReleaseButtonAE-L | Off |
ShutterSpeed | 10 |
ShutterSpeedValue | 10 |
Software | Adobe Photoshop Lightroom 5.0 (Windows) |
SplitToningBalance | 0 |
SplitToningHighlightHue | 0 |
SplitToningHighlightSaturation | 0 |
SplitToningShadowHue | 0 |
SplitToningShadowSaturation | 0 |
SubjectDistance | 14.13 m |
SubjectDistanceRange | Unknown |
TimerFunctionButton | Self-timer |
TimeZone | +01:00 |
Tint | +26 |
ToneCurveName2012 | Linear |
ToneCurvePV2012 | 0, 0, 255, 255 |
ToneCurvePV2012Blue | 0, 0, 255, 255 |
ToneCurvePV2012Green | 0, 0, 255, 255 |
ToneCurvePV2012Red | 0, 0, 255, 255 |
ToningEffect | n/a |
ToningSaturation | n/a |
UserComment | ASCII |
VariProgram | |
Version | 8.2 |
VibrationReduction | Off |
VignetteAmount | 0 |
VRInfoVersion | 0100 |
VRMode | Normal |
WB_GRBGLevels | 256 480 498 256 |
WB_RBLevels | 1.875 1.9453125 1 1 |
WhiteBalance (2) | Custom |
WhiteBalance | Auto |
WhiteBalanceFineTune | 0 0 |
Whites2012 | +55 |