Felt | Verdi |
AlreadyApplied | True |
Aperture | 2.2 |
ApertureValue | 2.2 |
ApproximateFocusDistance | 4294967295 |
Artist | Bo Valentin |
AutoLateralCA | 1 |
AutoWhiteVersion | 134348800 |
BitsPerSample | 8 |
Blacks2012 | -18 |
BlueHue | 0 |
BlueSaturation | 0 |
By-line | Bo Valentin |
CameraProfile | Adobe Standard |
CFAPattern | [Red,Green][Green,Blue] |
CircleOfConfusion | 0.030 mm |
Clarity2012 | +37 |
ColorComponents | 3 |
ColorNoiseReduction | 25 |
ColorNoiseReductionDetail | 50 |
ColorNoiseReductionSmoothness | 50 |
ColorTemperature | 4700 |
ColorTransform | YCbCr |
Contrast | Normal |
Contrast2012 | +35 |
ConvertToGrayscale | True |
Copyright | Bo Valentin |
CopyrightNotice | Bo Valentin |
CreateDate (1) | 2014:07:29 11:30:56.25 |
CreateDate | 2014:07:29 11:30:56 |
Creator | Bo Valentin |
CreatorTool | Adobe Photoshop Lightroom 5.5 (Macintosh) |
CustomRendered | Normal |
DateCreated (1) | 2014:07:29 |
DateCreated | 2014:07:29 11:30:56.25 |
DateTimeOriginal | 2014:07:29 11:30:56 |
DigitalZoomRatio | 1 |
DOF | inf (6.05 m - inf) |
Exposure2012 | -0.45 |
ExposureCompensation | 0 |
ExposureMode | Manual |
ExposureProgram | Manual |
ExposureTime | 1/8000 |
Flash | No Flash |
FNumber | 2.2 |
FocalLength | 20.0 mm |
FocalLength35efl | 20.0 mm (35 mm equivalent: 20.0 mm) |
FocalLengthIn35mmFormat | 20 mm |
Format | image/jpeg |
FOV | 84.0 deg |
GainControl | None |
GradientBasedCorrActive | true |
GradientBasedCorrAmount | 1.000000 |
GradientBasedCorrBrightness | 0.000000 |
GradientBasedCorrClarity2012 | 0.000000 |
GradientBasedCorrContrast2012 | 0.000000 |
GradientBasedCorrDefringe | 0.000000 |
GradientBasedCorrExposure2012 (1) | 0.193934 |
GradientBasedCorrExposure2012 | 0.296140 |
GradientBasedCorrHighlights2012 (1) | 0.000000 |
GradientBasedCorrHighlights2012 | 1.000000 |
GradientBasedCorrHue | 240.000000 |
GradientBasedCorrLuminanceNoise | 0.000000 |
GradientBasedCorrMaskFullX (1) | 1.022690 |
GradientBasedCorrMaskFullX | -0.108775 |
GradientBasedCorrMaskFullY (1) | 0.522005 |
GradientBasedCorrMaskFullY | 0.364996 |
GradientBasedCorrMaskValue | 1.000000 |
GradientBasedCorrMaskWhat | Mask/Gradient |
GradientBasedCorrMaskZeroX (1) | 0.866472 |
GradientBasedCorrMaskZeroX | 0.058024 |
GradientBasedCorrMaskZeroY (1) | 0.449266 |
GradientBasedCorrMaskZeroY | 0.497155 |
GradientBasedCorrMoire | 0.000000 |
GradientBasedCorrSaturation | 0.000000 |
GradientBasedCorrShadows2012 (1) | 0.000000 |
GradientBasedCorrShadows2012 | 1.000000 |
GradientBasedCorrSharpness | 0.000000 |
GradientBasedCorrTemperature | 0.000000 |
GradientBasedCorrTint | 0.000000 |
GradientBasedCorrWhat | Correction |
GrainAmount | 0 |
GrayMixerAqua | -16 |
GrayMixerBlue | -38 |
GrayMixerGreen | +6 |
GrayMixerMagenta | +3 |
GrayMixerOrange | +54 |
GrayMixerPurple | +18 |
GrayMixerRed | +19 |
GrayMixerYellow | +55 |
GreenHue | 0 |
GreenSaturation | 0 |
HasCrop | False |
HasExtendedXMP | 9D6941FF0E2864B28D44B24977652F43 |
HasSettings | True |
Highlights2012 | -86 |
HyperfocalDistance | 6.05 m |
ImageHeight | 2832 |
ImageNumber | 36245 |
ImageSize | 4256x2832 |
ImageWidth | 4256 |
ISO | 200 |
Keywords | countryside, derelict, equipment, farm, gotland, harvest, house, july, jutland, summer, sunshine, sweden |
Lens | 20.0 mm f/1.8 |
LensID (1) | 38 |
LensID | Sigma 20mm F1.8 EX DG Aspherical RF |
LensInfo | 20mm f/1.8 |
LensManualDistortionAmount | 0 |
LensModel | 20.0 mm f/1.8 |
LensProfileChromaticAberrationScale | 100 |
LensProfileDistortionScale | 100 |
LensProfileEnable | 0 |
LensProfileFilename | NIKON CORPORATION (Sigma_20mm_F1.8_EX_DG_AS_RF ) - RAW.lcp |
LensProfileName | Adobe (SIGMA 20mm F1.8 EX DG ASPHERICAL RF, NIKON CORPORATION) |
LensProfileSetup | LensDefaults |
LensProfileVignettingScale | 100 |
LightSource | Unknown |
LightValue | 14.2 |
LuminanceSmoothing | 0 |
Make | NIKON CORPORATION |
MaxApertureValue | 1.7 |
Megapixels | 12.1 |
MeteringMode | Multi-segment |
Model | NIKON D3 |
ModifyDate (1) | 2014:09:18 20:45:21+02:00 |
ModifyDate | 2014:09:18 20:45:21 |
PaintCorrectionActive | true |
PaintCorrectionAmount | 1.000000 |
PaintCorrectionBrightness | 0.000000 |
PaintCorrectionClarity2012 (1) | 0.258364 |
PaintCorrectionClarity2012 (4) | 0.365441 |
PaintCorrectionClarity2012 | 0.000000 |
PaintCorrectionContrast2012 (1) | 0.394118 |
PaintCorrectionContrast2012 (2) | 0.000000 |
PaintCorrectionContrast2012 (4) | 1.000000 |
PaintCorrectionContrast2012 | -1.000000 |
PaintCorrectionDefringe | 0.000000 |
PaintCorrectionExposure2012 (1) | 0.481801 |
PaintCorrectionExposure2012 (2) | 0.193934 |
PaintCorrectionExposure2012 (3) | -0.505055 |
PaintCorrectionExposure2012 (4) | 0.477574 |
PaintCorrectionExposure2012 | -0.011305 |
PaintCorrectionHighlights2012 (3) | 0.000000 |
PaintCorrectionHighlights2012 (4) | 1.000000 |
PaintCorrectionHighlights2012 | -1.000000 |
PaintCorrectionHue | 240.000000 |
PaintCorrectionLuminanceNoise (3) | 0.000000 |
PaintCorrectionLuminanceNoise (4) | 0.463327 |
PaintCorrectionLuminanceNoise | 1.000000 |
PaintCorrectionMaskCenterWeight | 0.059145 |
PaintCorrectionMaskFlow | 0.462861 |
PaintCorrectionMaskRadius (15) | 0.008118 |
PaintCorrectionMaskRadius (5) | 0.033340 |
PaintCorrectionMaskRadius | 0.011943 |
PaintCorrectionMaskValue | 0.268094 |
PaintCorrectionMaskWhat | Mask/Paint |
PaintCorrectionMoire | 0.000000 |
PaintCorrectionSaturation | 0.000000 |
PaintCorrectionShadows2012 (1) | 1.000000 |
PaintCorrectionShadows2012 (2) | 0.000000 |
PaintCorrectionShadows2012 | -1.000000 |
PaintCorrectionSharpness (1) | 0.455147 |
PaintCorrectionSharpness (4) | 0.458640 |
PaintCorrectionSharpness | 0.000000 |
PaintCorrectionTemperature | 0.000000 |
PaintCorrectionTint | 0.000000 |
PaintCorrectionWhat | Correction |
ParametricDarks | 0 |
ParametricHighlights | 0 |
ParametricHighlightSplit | 75 |
ParametricLights | 0 |
ParametricMidtoneSplit | 50 |
ParametricShadows | 0 |
ParametricShadowSplit | 25 |
PerspectiveAspect | 0 |
PerspectiveHorizontal | 0 |
PerspectiveRotate | 0.0 |
PerspectiveScale | 100 |
PerspectiveUpright | 0 |
PerspectiveVertical | 0 |
PostCropVignetteAmount | 0 |
ProcessVersion | 6.7 |
ProfileDescription | sRGB IEC61966-2.1 |
RedHue | 0 |
RedSaturation | 0 |
Rights | Bo Valentin |
Saturation | Normal |
ScaleFactor35efl | 1.0 |
SceneCaptureType | Standard |
SceneType | Directly photographed |
SensingMethod | One-chip color area |
SerialNumber | 2076505 |
Shadows2012 | +58 |
ShadowTint | 0 |
SharpenDetail | 25 |
SharpenEdgeMasking | 38 |
SharpenRadius | +1.0 |
Sharpness (1) | 85 |
Sharpness | Normal |
ShutterSpeed | 1/8000 |
ShutterSpeedValue | 1/8000 |
Software | Adobe Photoshop Lightroom 5.5 (Macintosh) |
SplitToningBalance | 0 |
SplitToningHighlightHue | 0 |
SplitToningHighlightSaturation | 0 |
SplitToningShadowHue | 0 |
SplitToningShadowSaturation | 0 |
Subject | countryside, derelict, equipment, farm, gotland, harvest, house, july, jutland, summer, sunshine, sweden |
SubjectDistanceRange | Unknown |
Tint | -6 |
ToneCurve | 0, 0, 255, 255 |
ToneCurveBlue | 0, 0, 255, 255 |
ToneCurveGreen | 0, 0, 255, 255 |
ToneCurveName | Linear |
ToneCurveName2012 | Linear |
ToneCurvePV2012 | 0, 0, 255, 255 |
ToneCurvePV2012Blue | 0, 0, 255, 255 |
ToneCurvePV2012Green | 0, 0, 255, 255 |
ToneCurvePV2012Red | 0, 0, 255, 255 |
ToneCurveRed | 0, 0, 255, 255 |
Version | 8.5 |
VignetteAmount | 0 |
WhiteBalance (1) | As Shot |
WhiteBalance | Auto |
Whites2012 | +43 |