Felt | Verdi |
AlreadyApplied | True |
Aperture | 8.0 |
ApertureValue | 8.0 |
ApproximateFocusDistance | 40 |
Artist | Geir Braathen |
AutoLateralCA | 0 |
AutoWhiteVersion | 134348800 |
BitsPerSample | 8 |
Blacks2012 | -30 |
BlueHue | 0 |
BlueSaturation | 0 |
By-line | Geir Braathen |
CameraProfile | Adobe Standard |
CircleOfConfusion | 0.016 mm |
Clarity2012 | +54 |
ColorComponents | 3 |
ColorNoiseReduction | 48 |
ColorNoiseReductionDetail | 50 |
ColorNoiseReductionSmoothness | 50 |
ColorSpace | sRGB |
ColorTemperature | 5500 |
ColorTransform | YCbCr |
Contrast2012 | 0 |
ConvertToGrayscale | False |
CreateDate | 2015:02:22 11:45:17 |
Creator | Geir Braathen |
CreatorTool | Adobe Photoshop Lightroom 6.0 (Macintosh) |
CropAngle | 0 |
CropBottom | 0.977872 |
CropConstrainToWarp | 0 |
CropLeft | 0.194771 |
CropRight | 0.818274 |
CropTop | 0.098343 |
CustomRendered | Normal |
DateCreated (1) | 2015:02:22 10:45:17 |
DateCreated | 2015:02:22 |
DateTimeOriginal | 2015:02:22 10:45:17 |
DefringeGreenAmount | 0 |
DefringeGreenHueHi | 60 |
DefringeGreenHueLo | 40 |
DefringePurpleAmount | 0 |
DefringePurpleHueHi | 70 |
DefringePurpleHueLo | 30 |
DigitalZoomRatio | 1 |
DOF | inf (11.80 m - inf) |
Exposure2012 | 0.00 |
ExposureCompensation | -1/3 |
ExposureMode | Manual |
ExposureTime | 1/320 |
Firmware | 1.00 |
Flash | Off, Did not fire |
FlashCompensation | 0 |
FNumber | 8.0 |
FocalLength | 46.6 mm |
FocalLength35efl | 46.6 mm (35 mm equivalent: 86.2 mm) |
Format | image/jpeg |
FOV | 23.6 deg |
GPSAltitude | 2943.5 m |
GPSLatitude (1) | 45 deg 52' 45.01" |
GPSLatitude | 45 deg 52' 45.01" N |
GPSLatitudeRef | North |
GPSLongitude (1) | 6 deg 54' 21.20" |
GPSLongitude | 6 deg 54' 21.20" E |
GPSLongitudeRef | East |
GPSPosition | 45 deg 52' 45.01" N, 6 deg 54' 21.20" E |
GPSVersionID | 2.2.0.0 |
GrainAmount | 0 |
GreenHue | 0 |
GreenSaturation | 0 |
HasCrop | True |
HasSettings | True |
Highlights2012 | -74 |
HueAdjustmentAqua | 0 |
HueAdjustmentBlue | 0 |
HueAdjustmentGreen | 0 |
HueAdjustmentMagenta | 0 |
HueAdjustmentOrange | 0 |
HueAdjustmentPurple | 0 |
HueAdjustmentRed | 0 |
HueAdjustmentYellow | 0 |
HyperfocalDistance | 16.72 m |
ImageHeight | 2871 |
ImageSize | 2714x2871 |
ImageWidth | 2714 |
ISO | 100 |
Lens | 15.1-60.4 mm |
LensInfo | 15.1-60.4mm f/? |
LensManualDistortionAmount | 0 |
LensModel | 15.1-60.4 mm |
LensProfileEnable | 0 |
LensProfileSetup | LensDefaults |
LightValue | 14.3 |
LuminanceAdjustmentAqua | 0 |
LuminanceAdjustmentBlue | 0 |
LuminanceAdjustmentGreen | 0 |
LuminanceAdjustmentMagenta | 0 |
LuminanceAdjustmentOrange | 0 |
LuminanceAdjustmentPurple | 0 |
LuminanceAdjustmentRed | 0 |
LuminanceAdjustmentYellow | 0 |
LuminanceNoiseReductionContrast | 0 |
LuminanceNoiseReductionDetail | 50 |
LuminanceSmoothing | 53 |
Make | Canon |
MaxApertureValue | 5.6 |
Megapixels | 7.8 |
MeteringMode | Multi-segment |
Model | Canon PowerShot G1 X |
ModifyDate (1) | 2015:04:30 20:32:38+02:00 |
ModifyDate | 2015:04:30 20:32:38 |
Orientation | Horizontal (normal) |
ParametricDarks | 0 |
ParametricHighlights | 0 |
ParametricHighlightSplit | 75 |
ParametricLights | 0 |
ParametricMidtoneSplit | 50 |
ParametricShadows | 0 |
ParametricShadowSplit | 25 |
PerspectiveAspect | 0 |
PerspectiveHorizontal | 0 |
PerspectiveRotate | 0.0 |
PerspectiveScale | 100 |
PerspectiveUpright | 0 |
PerspectiveVertical | 0 |
PostCropVignetteAmount | 0 |
ProcessVersion | 6.7 |
ProfileDescription | sRGB IEC61966-2.1 |
RawFileName | IMG_2069-2.jpg |
RedHue | 0 |
RedSaturation | 0 |
Saturation | 0 |
SaturationAdjustmentAqua | 0 |
SaturationAdjustmentBlue | 0 |
SaturationAdjustmentGreen | 0 |
SaturationAdjustmentMagenta | 0 |
SaturationAdjustmentOrange | 0 |
SaturationAdjustmentPurple | 0 |
SaturationAdjustmentRed | 0 |
SaturationAdjustmentYellow | 0 |
ScaleFactor35efl | 1.8 |
SceneCaptureType | Standard |
SensingMethod | One-chip color area |
SensitivityType | Standard Output Sensitivity and Recommended Exposure Index |
Shadows2012 | +50 |
ShadowTint | 0 |
SharpenDetail | 25 |
SharpenEdgeMasking | 0 |
SharpenRadius | +0.5 |
Sharpness | 70 |
ShutterSpeed | 1/320 |
ShutterSpeedValue | 1/320 |
Software | Adobe Photoshop Lightroom 6.0 (Macintosh) |
SplitToningBalance | 0 |
SplitToningHighlightHue | 0 |
SplitToningHighlightSaturation | 0 |
SplitToningShadowHue | 0 |
SplitToningShadowSaturation | 0 |
Tint | +10 |
ToneCurve | 0, 0, 255, 255 |
ToneCurveBlue | 0, 0, 255, 255 |
ToneCurveGreen | 0, 0, 255, 255 |
ToneCurveName | Linear |
ToneCurveName2012 | Linear |
ToneCurvePV2012 | 0, 0, 255, 255 |
ToneCurvePV2012Blue | 0, 0, 255, 255 |
ToneCurvePV2012Green | 0, 0, 255, 255 |
ToneCurvePV2012Red | 0, 0, 255, 255 |
ToneCurveRed | 0, 0, 255, 255 |
Version | 9.0 |
Vibrance | 0 |
VignetteAmount | 0 |
WhiteBalance (1) | Daylight |
WhiteBalance | Auto |
Whites2012 | +55 |