Felt | Verdi |
AlreadyApplied | True |
Aperture | 10.0 |
ApertureValue | 10.0 |
AutoLateralCA | 0 |
AutoWhiteVersion | 134348800 |
BitsPerSample | 8 |
Blacks2012 | -26 |
BlueHue | 0 |
BlueSaturation | 0 |
CameraProfile | Adobe Standard |
Caption-Abstract | OLYMPUS DIGITAL CAMERA |
CFAPattern | [Red,Green][Green,Blue] |
CircleOfConfusion | 0.015 mm |
Clarity2012 | +19 |
ColorComponents | 3 |
ColorNoiseReduction | 25 |
ColorNoiseReductionDetail | 50 |
ColorNoiseReductionSmoothness | 50 |
ColorSpace | sRGB |
ColorTemperature | 8957 |
ColorTransform | YCbCr |
Contrast | Normal |
Contrast2012 | +7 |
ConvertToGrayscale | False |
CreateDate | 2016:01:03 14:55:02 |
CreatorTool | Adobe Photoshop Lightroom 6.0 (Windows) |
CropAngle | -1.08556 |
CropBottom | 0.396669 |
CropConstrainToWarp | 0 |
CropLeft | 0.210047 |
CropRight | 0.661448 |
CropTop | 0.01169 |
CustomRendered | Normal |
DateCreated (1) | 2016:01:03 14:55:02 |
DateCreated | 2016:01:03 |
DateTimeOriginal | 2016:01:03 14:55:02 |
DefringeGreenAmount | 0 |
DefringeGreenHueHi | 60 |
DefringeGreenHueLo | 40 |
DefringePurpleAmount | 0 |
DefringePurpleHueHi | 70 |
DefringePurpleHueLo | 30 |
Description | OLYMPUS DIGITAL CAMERA |
DigitalZoomRatio | 1 |
Exposure2012 | +0.71 |
ExposureCompensation | 0 |
ExposureMode | Manual |
ExposureProgram | Manual |
ExposureTime | 1/200 |
Flash | On, Did not fire |
FlashCompensation | 0 |
FNumber | 10.0 |
FocalLength | 20.0 mm |
FocalLength35efl | 20.0 mm (35 mm equivalent: 40.0 mm) |
FocalLengthIn35mmFormat | 40 mm |
Format | image/jpeg |
FOV | 48.5 deg |
GainControl | None |
GradientBasedCorrActive | true |
GradientBasedCorrAmount | 1.000000 |
GradientBasedCorrBrightness | 0.000000 |
GradientBasedCorrClarity2012 (1) | 0.230770 |
GradientBasedCorrClarity2012 | 0.000000 |
GradientBasedCorrContrast2012 (1) | 0.076920 |
GradientBasedCorrContrast2012 | 0.000000 |
GradientBasedCorrDefringe | 0.000000 |
GradientBasedCorrExposure2012 (1) | -0.384500 |
GradientBasedCorrExposure2012 | -0.538500 |
GradientBasedCorrHighlights2012 (1) | 0.208790 |
GradientBasedCorrHighlights2012 | 0.000000 |
GradientBasedCorrHue (1) | 233.000000 |
GradientBasedCorrHue | 63.000000 |
GradientBasedCorrLuminanceNoise | 0.000000 |
GradientBasedCorrMaskFullX (1) | 0.423977 |
GradientBasedCorrMaskFullX | 0.447563 |
GradientBasedCorrMaskFullY (1) | 0.005662 |
GradientBasedCorrMaskFullY | 0.401196 |
GradientBasedCorrMaskValue | 1.000000 |
GradientBasedCorrMaskWhat | Mask/Gradient |
GradientBasedCorrMaskZeroX (1) | 0.423696 |
GradientBasedCorrMaskZeroX | 0.447814 |
GradientBasedCorrMaskZeroY (1) | 0.024001 |
GradientBasedCorrMaskZeroY | 0.381969 |
GradientBasedCorrMoire | 0.000000 |
GradientBasedCorrSaturation (1) | 0.076920 |
GradientBasedCorrSaturation (2) | 0.000000 |
GradientBasedCorrSaturation (3) | 0.126440 |
GradientBasedCorrSaturation | 0.678000 |
GradientBasedCorrShadows2012 | -0.218390 |
GradientBasedCorrSharpness (1) | 0.250000 |
GradientBasedCorrSharpness | 0.126440 |
GradientBasedCorrTemperature (1) | 0.274730 |
GradientBasedCorrTemperature | 0.241380 |
GradientBasedCorrTint (1) | 0.000000 |
GradientBasedCorrTint | -0.080460 |
GradientBasedCorrWhat | Correction |
GrainAmount | 0 |
GreenHue | 0 |
GreenSaturation | 0 |
HasCrop | True |
HasExtendedXMP | F14398295A700697A4AF33105BDC152F |
HasSettings | True |
Highlights2012 | 0 |
HueAdjustmentAqua | 0 |
HueAdjustmentBlue | 0 |
HueAdjustmentGreen | 0 |
HueAdjustmentMagenta | 0 |
HueAdjustmentOrange | 0 |
HueAdjustmentPurple | 0 |
HueAdjustmentRed | 0 |
HueAdjustmentYellow | 0 |
HyperfocalDistance | 2.66 m |
ImageDescription | OLYMPUS DIGITAL CAMERA |
ImageHeight | 1369 |
ImageSize | 2053x1369 |
ImageWidth | 2053 |
ISO | 100 |
Lens | LUMIX G 20/F1.7 |
LensInfo | 20mm f/1.7 |
LensManualDistortionAmount | 0 |
LensModel | LUMIX G 20/F1.7 |
LensProfileEnable | 0 |
LensProfileSetup | LensDefaults |
LensSerialNumber | 00HG3063798 |
LightSource | Unknown |
LightValue | 14.3 |
LuminanceAdjustmentAqua | 0 |
LuminanceAdjustmentBlue | 0 |
LuminanceAdjustmentGreen | 0 |
LuminanceAdjustmentMagenta | 0 |
LuminanceAdjustmentOrange | 0 |
LuminanceAdjustmentPurple | 0 |
LuminanceAdjustmentRed | -56 |
LuminanceAdjustmentYellow | +4 |
LuminanceNoiseReductionContrast | 0 |
LuminanceNoiseReductionDetail | 50 |
LuminanceSmoothing | 4 |
Make | OLYMPUS IMAGING CORP. |
MaxApertureValue | 1.7 |
Megapixels | 2.8 |
MeteringMode | Center-weighted average |
Model | E-M5MarkII |
ModifyDate (1) | 2016:01:04 19:52:47+01:00 |
ModifyDate | 2016:01:04 19:52:47 |
Orientation | Horizontal (normal) |
PaintCorrectionActive | true |
PaintCorrectionAmount | 1.000000 |
PaintCorrectionBrightness | 0.000000 |
PaintCorrectionClarity2012 | 0.000000 |
PaintCorrectionContrast2012 | 0.000000 |
PaintCorrectionDefringe | 0.000000 |
PaintCorrectionExposure2012 | -0.274750 |
PaintCorrectionHighlights2012 | 0.000000 |
PaintCorrectionHue | 63.000000 |
PaintCorrectionLuminanceNoise | 0.000000 |
PaintCorrectionMaskCenterWeight | 0.151178 |
PaintCorrectionMaskFlow | 0.911000 |
PaintCorrectionMaskRadius (3) | 0.009989 |
PaintCorrectionMaskRadius (9) | 0.008844 |
PaintCorrectionMaskRadius | 0.006613 |
PaintCorrectionMaskValue | 1.000000 |
PaintCorrectionMaskWhat | Mask/Paint |
PaintCorrectionMoire | 0.000000 |
PaintCorrectionSaturation (1) | 0.126440 |
PaintCorrectionSaturation | 0.678000 |
PaintCorrectionShadows2012 | -0.218390 |
PaintCorrectionSharpness | 0.126440 |
PaintCorrectionTemperature | 0.241380 |
PaintCorrectionTint | -0.080460 |
PaintCorrectionWhat | Correction |
ParametricDarks | 0 |
ParametricHighlights | 0 |
ParametricHighlightSplit | 75 |
ParametricLights | 0 |
ParametricMidtoneSplit | 50 |
ParametricShadows | 0 |
ParametricShadowSplit | 25 |
PerspectiveAspect | 0 |
PerspectiveHorizontal | 0 |
PerspectiveRotate | 0.0 |
PerspectiveScale | 100 |
PerspectiveUpright | 0 |
PerspectiveVertical | 0 |
PostCropVignetteAmount | -57 |
PostCropVignetteFeather | 67 |
PostCropVignetteHighlightContrast | 0 |
PostCropVignetteMidpoint | 40 |
PostCropVignetteRoundness | -69 |
PostCropVignetteStyle | 1 |
ProcessVersion | 6.7 |
ProfileDescription | sRGB IEC61966-2.1 |
RawFileName | NFSH-1031005.jpg |
RedHue | 0 |
RedSaturation | 0 |
Saturation (1) | +14 |
Saturation | Normal |
SaturationAdjustmentAqua | 0 |
SaturationAdjustmentBlue | 0 |
SaturationAdjustmentGreen | 0 |
SaturationAdjustmentMagenta | 0 |
SaturationAdjustmentOrange | +9 |
SaturationAdjustmentPurple | 0 |
SaturationAdjustmentRed | +22 |
SaturationAdjustmentYellow | +29 |
ScaleFactor35efl | 2.0 |
SceneCaptureType | Standard |
SensitivityType | Standard Output Sensitivity |
SerialNumber | BFKA33899 |
Shadows2012 | -38 |
ShadowTint | 0 |
SharpenDetail | 25 |
SharpenEdgeMasking | 0 |
SharpenRadius | +1.0 |
Sharpness (1) | 5 |
Sharpness | Normal |
ShutterSpeed | 1/200 |
ShutterSpeedValue | 1/200 |
Software | Adobe Photoshop Lightroom 6.0 (Windows) |
SplitToningBalance | 0 |
SplitToningHighlightHue | 0 |
SplitToningHighlightSaturation | 0 |
SplitToningShadowHue | 0 |
SplitToningShadowSaturation | 0 |
Tint | +21 |
ToneCurve | 0, 0, 255, 255 |
ToneCurveBlue | 0, 0, 255, 255 |
ToneCurveGreen | 0, 0, 255, 255 |
ToneCurveName | Linear |
ToneCurveName2012 | Linear |
ToneCurvePV2012 | 0, 0, 255, 255 |
ToneCurvePV2012Blue | 0, 0, 255, 255 |
ToneCurvePV2012Green | 0, 0, 255, 255 |
ToneCurvePV2012Red | 0, 0, 255, 255 |
ToneCurveRed | 0, 0, 255, 255 |
Version | 9.0 |
Vibrance | +2 |
VignetteAmount | 0 |
WhiteBalance (1) | Custom |
WhiteBalance | Auto |
Whites2012 | 0 |