Felt | Verdi |
AlreadyApplied | True |
Aperture | 22.0 |
ApertureValue | 22.0 |
ApproximateFocusDistance | 106 |
Artist | Tormod Fauskrud |
AutoLateralCA | 0 |
AutoWhiteVersion | 134348800 |
BitsPerSample | 8 |
Blacks2012 | -15 |
BlueHue | 0 |
BlueSaturation | 0 |
By-line | Tormod Fauskrud |
CameraProfile | Adobe Standard |
CFAPattern | [Red,Green][Green,Blue] |
CircleOfConfusion | 0.020 mm |
Clarity2012 | 0 |
ColorComponents | 3 |
ColorNoiseReduction | 25 |
ColorNoiseReductionDetail | 50 |
ColorNoiseReductionSmoothness | 50 |
ColorSpace | sRGB |
ColorTemperature | 4850 |
ColorTransform | YCbCr |
Contrast | Normal |
Contrast2012 | 0 |
ConvertToGrayscale | False |
Copyright | Tormod Fauskrud |
CopyrightNotice | Tormod Fauskrud |
Country | Norway |
Country-PrimaryLocationCode | NOR |
Country-PrimaryLocationName | Norway |
CountryCode | NOR |
CreateDate (1) | 2017:01:15 13:20:42.00 |
CreateDate | 2017:01:15 13:20:42 |
Creator | Tormod Fauskrud |
CreatorTool | Adobe Photoshop Lightroom 6.5.1 (Windows) |
CropAngle | 0 |
CropBottom | 0.997623 |
CropConstrainToWarp | 0 |
CropLeft | 0.039353 |
CropRight | 0.992413 |
CropTop | 0.141493 |
CustomRendered | Normal |
DateCreated (1) | 2017:01:15 |
DateCreated | 2017:01:15 13:20:41.73 |
DateTimeOriginal | 2017:01:15 13:20:42 |
DefringeGreenAmount | 0 |
DefringeGreenHueHi | 60 |
DefringeGreenHueLo | 40 |
DefringePurpleAmount | 0 |
DefringePurpleHueHi | 70 |
DefringePurpleHueLo | 30 |
Dehaze | 0 |
DigitalZoomRatio | 1 |
DOF | inf (0.73 m - inf) |
Exposure2012 | +2.38 |
ExposureCompensation | -2 |
ExposureMode | Auto |
ExposureProgram | Aperture-priority AE |
ExposureTime | 1/4000 |
Flash | No Flash |
FNumber | 22.0 |
FocalLength | 18.0 mm |
FocalLength35efl | 18.0 mm (35 mm equivalent: 27.0 mm) |
FocalLengthIn35mmFormat | 27 mm |
Format | image/jpeg |
FOV | 67.4 deg |
GainControl | None |
GPSAltitude | 410.3 m |
GPSLatitude (1) | 60 deg 35' 44.00" |
GPSLatitude | 60 deg 35' 44.00" N |
GPSLatitudeRef | North |
GPSLongitude (1) | 10 deg 38' 36.00" |
GPSLongitude | 10 deg 38' 36.00" E |
GPSLongitudeRef | East |
GPSPosition | 60 deg 35' 44.00" N, 10 deg 38' 36.00" E |
GPSVersionID | 2.2.0.0 |
GrainAmount | 0 |
GreenHue | 0 |
GreenSaturation | 0 |
HasCrop | True |
HasSettings | True |
HierarchicalSubject | Hendelser|Årstider|Vinter|Vintersteming |
Highlights2012 | -100 |
HueAdjustmentAqua | 0 |
HueAdjustmentBlue | 0 |
HueAdjustmentGreen | 0 |
HueAdjustmentMagenta | 0 |
HueAdjustmentOrange | 0 |
HueAdjustmentPurple | 0 |
HueAdjustmentRed | 0 |
HueAdjustmentYellow | 0 |
HyperfocalDistance | 0.74 m |
ImageHeight | 2438 |
ImageNumber | 58046 |
ImageSize | 4086x2438 |
ImageWidth | 4086 |
IsMergedHDR | True |
ISO | 200 |
Keywords | Hendelser, Vinter, Vintersteming, Årstider |
Lens | 18.0-200.0 mm f/3.5-6.3 |
LensID (1) | 237 |
LensID | Sigma 18-200mm F3.5-6.3 DC OS HSM |
LensInfo | 18-200mm f/3.5-6.3 |
LensManualDistortionAmount | 0 |
LensModel | 18.0-200.0 mm f/3.5-6.3 |
LensProfileEnable | 0 |
LensProfileSetup | LensDefaults |
LightSource | Unknown |
LightValue | 19.9 |
Location | Einavatnet |
LuminanceAdjustmentAqua | 0 |
LuminanceAdjustmentBlue | 0 |
LuminanceAdjustmentGreen | 0 |
LuminanceAdjustmentMagenta | 0 |
LuminanceAdjustmentOrange | 0 |
LuminanceAdjustmentPurple | 0 |
LuminanceAdjustmentRed | 0 |
LuminanceAdjustmentYellow | 0 |
LuminanceSmoothing | 0 |
Make | NIKON CORPORATION |
MaxApertureValue | 3.5 |
Megapixels | 10.0 |
MeteringMode | Center-weighted average |
Model | NIKON D300S |
ModifyDate (1) | 2017:01:15 18:34:57+01:00 |
ModifyDate | 2017:01:15 18:34:57 |
ParametricDarks | 0 |
ParametricHighlights | 0 |
ParametricHighlightSplit | 75 |
ParametricLights | 0 |
ParametricMidtoneSplit | 50 |
ParametricShadows | 0 |
ParametricShadowSplit | 25 |
PerspectiveAspect | 0 |
PerspectiveHorizontal | 0 |
PerspectiveRotate | 0.0 |
PerspectiveScale | 100 |
PerspectiveUpright | 0 |
PerspectiveVertical | 0 |
PostCropVignetteAmount | 0 |
ProcessVersion | 6.7 |
ProfileDescription | sRGB IEC61966-2.1 |
Province-State | Oppland |
RedHue | 0 |
RedSaturation | 0 |
Rights | Tormod Fauskrud |
Saturation (1) | 0 |
Saturation | Normal |
SaturationAdjustmentAqua | 0 |
SaturationAdjustmentBlue | 0 |
SaturationAdjustmentGreen | 0 |
SaturationAdjustmentMagenta | 0 |
SaturationAdjustmentOrange | 0 |
SaturationAdjustmentPurple | 0 |
SaturationAdjustmentRed | 0 |
SaturationAdjustmentYellow | 0 |
ScaleFactor35efl | 1.5 |
SceneCaptureType | Standard |
SceneType | Directly photographed |
SensingMethod | One-chip color area |
SerialNumber | 6019449 |
Shadows2012 | +70 |
ShadowTint | 0 |
SharpenDetail | 25 |
SharpenEdgeMasking | 0 |
SharpenRadius | +1.0 |
Sharpness (1) | 25 |
Sharpness | Normal |
ShutterSpeed | 1/4000 |
ShutterSpeedValue | 1/4000 |
Software | Adobe Photoshop Lightroom 6.5.1 (Windows) |
SplitToningBalance | 0 |
SplitToningHighlightHue | 0 |
SplitToningHighlightSaturation | 0 |
SplitToningShadowHue | 0 |
SplitToningShadowSaturation | 0 |
State | Oppland |
Sub-location | Einavatnet |
Subject | Hendelser, Vinter, Vintersteming, Årstider |
SubjectDistanceRange | Unknown |
Tint | +9 |
ToneCurve | 0, 0, 255, 255 |
ToneCurveBlue | 0, 0, 255, 255 |
ToneCurveGreen | 0, 0, 255, 255 |
ToneCurveName | Linear |
ToneCurveName2012 | Linear |
ToneCurvePV2012 | 0, 0, 255, 255 |
ToneCurvePV2012Blue | 0, 0, 255, 255 |
ToneCurvePV2012Green | 0, 0, 255, 255 |
ToneCurvePV2012Red | 0, 0, 255, 255 |
ToneCurveRed | 0, 0, 255, 255 |
ToneMapStrength | 0 |
Version | 9.5.1 |
Vibrance | 0 |
VignetteAmount | 0 |
WhiteBalance (1) | As Shot |
WhiteBalance | Auto |
Whites2012 | +15 |