Felt | Verdi |
AlreadyApplied | True |
Aperture | 2.0 |
ApertureValue | 2.0 |
ApproximateFocusDistance | 2.82 |
Artist | Trond K Wiik |
AuthorsPosition | Photography |
AutoLateralCA | 0 |
AutoWhiteVersion | 134348800 |
BitsPerSample | 8 |
Blacks2012 | -34 |
BlueHue | -47 |
BlueSaturation | -77 |
By-line | Trond K Wiik |
By-lineTitle | Photography |
CameraProfile | Camera Standard |
CFAPattern | [Red,Green][Green,Blue] |
CircleOfConfusion | 0.030 mm |
City | Bergen |
Clarity2012 | +71 |
ColorComponents | 3 |
ColorNoiseReduction | 25 |
ColorNoiseReductionDetail | 50 |
ColorNoiseReductionSmoothness | 50 |
ColorSpace | sRGB |
ColorTemperature | 4721 |
ColorTransform | YCbCr |
Contrast | Normal |
Contrast2012 | +30 |
ConvertToGrayscale | True |
Country | Norway |
Country-PrimaryLocationCode | NO |
Country-PrimaryLocationName | Norway |
CountryCode | NO |
CreateDate (1) | 2017:07:23 15:15:00.24 |
CreateDate | 2017:07:23 15:15:00 |
Creator | Trond K Wiik |
CreatorAddress | Tjødnavegen 19 |
CreatorCity | Straume |
CreatorCountry | Norway |
CreatorPostalCode | 5354 |
CreatorRegion | Bergen |
CreatorTool | Adobe Photoshop Lightroom 6.9 (Macintosh) |
CreatorWorkEmail | norwayinphoto@gmail.com |
CreatorWorkTelephone | 45266227 |
CreatorWorkURL | norwayinphoto.com |
CropAngle | 0 |
CropBottom | 0.876856 |
CropConstrainToWarp | 0 |
CropLeft | 0 |
CropRight | 0.903051 |
CropTop | 0 |
CustomRendered | Normal |
DateCreated (1) | 2017:07:23 |
DateCreated | 2017:07:23 15:15:00.24 |
DateTimeOriginal | 2017:07:23 15:15:00 |
Dehaze | 0 |
DigitalZoomRatio | 1 |
DOF | 0.38 m (2.64 - 3.02 m) |
Exposure2012 | -0.05 |
ExposureCompensation | 0 |
ExposureMode | Manual |
ExposureProgram | Manual |
ExposureTime | 1/2500 |
Flash | On, Return not detected |
FNumber | 2.0 |
FocalLength | 50.0 mm |
FocalLength35efl | 50.0 mm (35 mm equivalent: 50.0 mm) |
FocalLengthIn35mmFormat | 50 mm |
Format | image/jpeg |
FOV | 39.6 deg |
GainControl | None |
GPSAltitude | 3.5519 m |
GPSLatitude (1) | 60 deg 23' 7.93" |
GPSLatitude | 60 deg 23' 7.93" N |
GPSLatitudeRef | North |
GPSLongitude (1) | 5 deg 19' 55.79" |
GPSLongitude | 5 deg 19' 55.79" E |
GPSLongitudeRef | East |
GPSPosition | 60 deg 23' 7.93" N, 5 deg 19' 55.79" E |
GPSVersionID | 2.2.0.0 |
GrainAmount | 0 |
GrayMixerAqua | -16 |
GrayMixerBlue | +12 |
GrayMixerGreen | -27 |
GrayMixerMagenta | +3 |
GrayMixerOrange | -20 |
GrayMixerPurple | +16 |
GrayMixerRed | -11 |
GrayMixerYellow | -24 |
GreenHue | +37 |
GreenSaturation | +100 |
HasCrop | True |
HasSettings | True |
Highlights2012 | -100 |
HyperfocalDistance | 41.60 m |
ImageHeight | 2500 |
ImageNumber | 8277 |
ImageSize | 1620x2500 |
ImageWidth | 1620 |
ISO | 200 |
Keywords | 500px, Bergen, Kamizoom, Photo, Photographer, Photography, Sitron, Studios, acting, actor, amazing, balck, boy, cinema, family, gas, gutt, hair, hairstyle, hardwork, hollywood, klær, lovely, makeupartist, menshair, model, modeling, people, photoshots, portrait, station, stylist |
Lens | 50.0 mm f/1.4 |
LensID (1) | 136 |
LensID | Sigma 50mm F1.4 DG HSM | A |
LensInfo | 50mm f/1.4 |
LensManualDistortionAmount | 0 |
LensModel | 50.0 mm f/1.4 |
LensProfileEnable | 0 |
LensProfileSetup | LensDefaults |
LightSource | Unknown |
LightValue | 12.3 |
LuminanceNoiseReductionContrast | 22 |
LuminanceNoiseReductionDetail | 23 |
LuminanceSmoothing | 21 |
Make | NIKON CORPORATION |
MaxApertureValue | 1.4 |
Megapixels | 4.0 |
MeteringMode | Multi-segment |
Model | NIKON D810A |
ModifyDate (1) | 2017:08:10 20:18:10+02:00 |
ModifyDate | 2017:08:10 20:18:10 |
PaintCorrectionActive | true |
PaintCorrectionAmount | 1.000000 |
PaintCorrectionBrightness | 0.000000 |
PaintCorrectionClarity2012 | 0.178258 |
PaintCorrectionContrast2012 | 1.000000 |
PaintCorrectionDefringe | 0.000000 |
PaintCorrectionExposure2012 | -1.000000 |
PaintCorrectionHighlights2012 | 0.025915 |
PaintCorrectionHue | 0.000000 |
PaintCorrectionLocalBlacks2012 | -0.233136 |
PaintCorrectionLocalDehaze | 0.200553 |
PaintCorrectionLocalWhites2012 | 0.000000 |
PaintCorrectionLuminanceNoise | -0.799829 |
PaintCorrectionMaskCenterWeight | 0.189118 |
PaintCorrectionMaskFlow | 0.799735 |
PaintCorrectionMaskRadius | 0.011813 |
PaintCorrectionMaskValue | 0.495489 |
PaintCorrectionMaskWhat | Mask/Paint |
PaintCorrectionMoire | 0.000000 |
PaintCorrectionSaturation (1) | 0.376715 |
PaintCorrectionSaturation | 0.000000 |
PaintCorrectionShadows2012 | 0.519817 |
PaintCorrectionSharpness | 0.291635 |
PaintCorrectionTemperature | 0.068788 |
PaintCorrectionTint | 0.000000 |
PaintCorrectionWhat | Correction |
ParametricDarks | +19 |
ParametricHighlights | +11 |
ParametricHighlightSplit | 87 |
ParametricLights | 0 |
ParametricMidtoneSplit | 50 |
ParametricShadows | -58 |
ParametricShadowSplit | 10 |
PerspectiveAspect | 0 |
PerspectiveHorizontal | 0 |
PerspectiveRotate | 0.0 |
PerspectiveScale | 100 |
PerspectiveUpright | 0 |
PerspectiveVertical | 0 |
PerspectiveX | 0.00 |
PerspectiveY | 0.00 |
PostCropVignetteAmount | -34 |
PostCropVignetteFeather | 87 |
PostCropVignetteHighlightContrast | 3 |
PostCropVignetteMidpoint | 49 |
PostCropVignetteRoundness | -32 |
PostCropVignetteStyle | 1 |
ProcessVersion | 6.7 |
ProfileDescription | sRGB IEC61966-2.1 |
Province-State | Hordaland |
RedHue | +42 |
RedSaturation | -100 |
Saturation | Normal |
ScaleFactor35efl | 1.0 |
SceneCaptureType | Portrait |
SceneType | Directly photographed |
SensingMethod | One-chip color area |
SensitivityType | Recommended Exposure Index |
SerialNumber | 6000593 |
Shadows2012 | +100 |
ShadowTint | 0 |
SharpenDetail | 23 |
SharpenEdgeMasking | 26 |
SharpenRadius | +1.1 |
Sharpness (1) | 35 |
Sharpness | Normal |
ShutterSpeed | 1/2500 |
ShutterSpeedValue | 1/2500 |
Software | Adobe Photoshop Lightroom 6.9 (Macintosh) |
SplitToningBalance | +100 |
SplitToningHighlightHue | 52 |
SplitToningHighlightSaturation | 4 |
SplitToningShadowHue | 225 |
SplitToningShadowSaturation | 63 |
State | Hordaland |
Subject | 500px, Bergen, Kamizoom, Photo, Photographer, Photography, Sitron, Studios, acting, actor, amazing, balck, boy, cinema, family, gas, gutt, hair, hairstyle, hardwork, hollywood, klær, lovely, makeupartist, menshair, model, modeling, people, photoshots, portrait, station, stylist |
SubjectDistanceRange | Unknown |
Tint | +3 |
ToneCurve | 0, 0, 255, 255 |
ToneCurveBlue | 0, 0, 255, 255 |
ToneCurveGreen | 0, 0, 255, 255 |
ToneCurveName | Linear |
ToneCurveName2012 | Custom |
ToneCurvePV2012 | 0, 20, 60, 51, 123, 114, 193, 193, 255, 242 |
ToneCurvePV2012Blue | 0, 22, 36, 45, 103, 98, 191, 175, 255, 223 |
ToneCurvePV2012Green | 0, 0, 121, 120, 255, 255 |
ToneCurvePV2012Red | 0, 0, 55, 59, 119, 123, 188, 183, 255, 255 |
ToneCurveRed | 0, 0, 255, 255 |
ToneMapStrength | 0 |
Version | 9.9 |
VignetteAmount | 0 |
WhiteBalance (1) | Custom |
WhiteBalance | Auto |
Whites2012 | +39 |