Felt | Verdi |
AlreadyApplied | True |
Aperture | 13.0 |
ApertureValue | 13.0 |
ApproximateFocusDistance | 11 |
AutoLateralCA | 1 |
AutoWhiteVersion | 134348800 |
BitsPerSample | 8 |
Blacks2012 | +11 |
BlueHue | 0 |
BlueSaturation | 0 |
CameraProfile | Adobe Standard |
CircleOfConfusion | 0.030 mm |
Clarity2012 | 0 |
ColorComponents | 3 |
ColorNoiseReduction | 16 |
ColorNoiseReductionDetail | 50 |
ColorNoiseReductionSmoothness | 50 |
ColorSpace | sRGB |
ColorTemperature | 5700 |
ColorTransform | YCbCr |
Contrast2012 | +7 |
ConvertToGrayscale | False |
CreateDate (1) | 2017:09:20 09:18:47.33 |
CreateDate | 2017:09:20 09:18:47 |
CreatorTool | Adobe Photoshop Lightroom 6.12 (Macintosh) |
CustomRendered | Normal |
DateCreated (1) | 2017:09:20 |
DateCreated | 2017:09:20 09:18:47.33 |
DateTimeOriginal | 2017:09:20 09:18:47 |
DefringeGreenAmount | 0 |
DefringeGreenHueHi | 60 |
DefringeGreenHueLo | 40 |
DefringePurpleAmount | 0 |
DefringePurpleHueHi | 70 |
DefringePurpleHueLo | 30 |
Dehaze | 0 |
DistortionCorrectionAlreadyApplied | True |
DOF | inf (3.53 m - inf) |
Exposure2012 | 0.00 |
ExposureCompensation | 0 |
ExposureMode | Manual |
ExposureProgram | Manual |
ExposureTime | 1/160 |
Firmware | 1.1.6 |
Flash | Off, Did not fire |
FlashCompensation | 0 |
FNumber | 13.0 |
FocalLength | 45.0 mm |
FocalLength35efl | 45.0 mm (35 mm equivalent: 45.0 mm) |
Format | image/jpeg |
FOV | 43.6 deg |
GrainAmount | 0 |
GreenHue | 0 |
GreenSaturation | 0 |
HasCrop | False |
HasSettings | True |
Highlights2012 | -11 |
HueAdjustmentAqua | 0 |
HueAdjustmentBlue | 0 |
HueAdjustmentGreen | 0 |
HueAdjustmentMagenta | 0 |
HueAdjustmentOrange | 0 |
HueAdjustmentPurple | 0 |
HueAdjustmentRed | 0 |
HueAdjustmentYellow | 0 |
HyperfocalDistance | 5.18 m |
ImageHeight | 3648 |
ImageNumber | 0 |
ImageSize | 5472x3648 |
ImageWidth | 5472 |
ISO | 100 |
LateralChromaticAberrationCorrectionAlreadyApplied | True |
Lens | EF24-70mm f/2.8L II USM |
LensID (1) | 495 |
LensID | Canon EF 24-70mm f/2.8L II USM |
LensInfo | 24-70mm f/? |
LensManualDistortionAmount | 0 |
LensModel | EF24-70mm f/2.8L II USM |
LensProfileChromaticAberrationScale | 100 |
LensProfileDistortionScale | 100 |
LensProfileEnable | 1 |
LensProfileFilename | Canon EOS 5D Mark II (Canon EF 24-70mm f2.8 L II USM) - RAW.lcp |
LensProfileName | Adobe (Canon EF 24-70mm f/2.8 L II USM) |
LensProfileSetup | LensDefaults |
LensProfileVignettingScale | 100 |
LensSerialNumber | 3630000901 |
LightValue | 14.7 |
LuminanceAdjustmentAqua | +6 |
LuminanceAdjustmentBlue | -25 |
LuminanceAdjustmentGreen | 0 |
LuminanceAdjustmentMagenta | 0 |
LuminanceAdjustmentOrange | +12 |
LuminanceAdjustmentPurple | 0 |
LuminanceAdjustmentRed | +22 |
LuminanceAdjustmentYellow | +8 |
LuminanceNoiseReductionContrast | 13 |
LuminanceNoiseReductionDetail | 50 |
LuminanceSmoothing | 13 |
Make | Canon |
MaxApertureValue | 2.8 |
Megapixels | 20.0 |
MeteringMode | Multi-segment |
Model | Canon EOS 6D |
ModifyDate (1) | 2017:09:21 21:19:10+02:00 |
ModifyDate | 2017:09:21 21:19:10 |
PaintCorrectionActive | true |
PaintCorrectionAmount | 1.000000 |
PaintCorrectionBrightness | 0.000000 |
PaintCorrectionClarity2012 | 0.125727 |
PaintCorrectionContrast2012 | 0.144350 |
PaintCorrectionDefringe | 0.000000 |
PaintCorrectionExposure2012 | 0.039698 |
PaintCorrectionHighlights2012 | 0.029978 |
PaintCorrectionHue | 0.000000 |
PaintCorrectionLocalBlacks2012 | -0.029887 |
PaintCorrectionLocalDehaze | 0.000000 |
PaintCorrectionLocalWhites2012 | 0.000000 |
PaintCorrectionLuminanceNoise | 0.000000 |
PaintCorrectionMaskCenterWeight | 0.740663 |
PaintCorrectionMaskFlow | 0.473140 |
PaintCorrectionMaskRadius | 0.041911 |
PaintCorrectionMaskValue | 1.000000 |
PaintCorrectionMaskWhat | Mask/Paint |
PaintCorrectionMoire | 0.000000 |
PaintCorrectionSaturation (1) | 0.131541 |
PaintCorrectionSaturation | 0.000000 |
PaintCorrectionShadows2012 | -0.025618 |
PaintCorrectionSharpness | 0.120185 |
PaintCorrectionTemperature | 0.000000 |
PaintCorrectionTint | 0.000000 |
PaintCorrectionWhat | Correction |
ParametricDarks | 0 |
ParametricHighlights | -2 |
ParametricHighlightSplit | 75 |
ParametricLights | +5 |
ParametricMidtoneSplit | 50 |
ParametricShadows | 0 |
ParametricShadowSplit | 25 |
PerspectiveAspect | 0 |
PerspectiveHorizontal | 0 |
PerspectiveRotate | 0.0 |
PerspectiveScale | 100 |
PerspectiveUpright | 0 |
PerspectiveVertical | 0 |
PerspectiveX | 0.00 |
PerspectiveY | 0.00 |
PostCropVignetteAmount | 0 |
ProcessVersion | 6.7 |
ProfileDescription | sRGB IEC61966-2.1 |
RecommendedExposureIndex | 100 |
RedHue | 0 |
RedSaturation | 0 |
Saturation | 0 |
SaturationAdjustmentAqua | 0 |
SaturationAdjustmentBlue | +12 |
SaturationAdjustmentGreen | 0 |
SaturationAdjustmentMagenta | 0 |
SaturationAdjustmentOrange | +4 |
SaturationAdjustmentPurple | 0 |
SaturationAdjustmentRed | +2 |
SaturationAdjustmentYellow | +5 |
ScaleFactor35efl | 1.0 |
SceneCaptureType | Standard |
SensitivityType | Recommended Exposure Index |
SerialNumber | 373051003880 |
Shadows2012 | +12 |
ShadowTint | 0 |
SharpenDetail | 15 |
SharpenEdgeMasking | 0 |
SharpenRadius | +1.0 |
Sharpness | 99 |
ShutterSpeed | 1/160 |
ShutterSpeedValue | 1/160 |
Software | Adobe Photoshop Lightroom 6.12 (Macintosh) |
SplitToningBalance | 0 |
SplitToningHighlightHue | 0 |
SplitToningHighlightSaturation | 0 |
SplitToningShadowHue | 0 |
SplitToningShadowSaturation | 0 |
Tint | +3 |
ToneCurve | 0, 0, 255, 255 |
ToneCurveBlue | 0, 0, 255, 255 |
ToneCurveGreen | 0, 0, 255, 255 |
ToneCurveName | Linear |
ToneCurveName2012 | Custom |
ToneCurvePV2012 | 0, 0, 80, 86, 136, 144, 185, 193, 255, 255 |
ToneCurvePV2012Blue | 0, 0, 255, 255 |
ToneCurvePV2012Green | 0, 0, 255, 255 |
ToneCurvePV2012Red | 0, 0, 255, 255 |
ToneCurveRed | 0, 0, 255, 255 |
ToneMapStrength | 0 |
Version | 9.12 |
Vibrance | 0 |
VignetteAmount | 0 |
VignetteCorrectionAlreadyApplied | True |
WhiteBalance (1) | As Shot |
WhiteBalance | Auto |
Whites2012 | +9 |