Felt | Verdi |
AlreadyApplied | True |
Aperture | 2.8 |
ApertureValue | 2.8 |
Artist | Oyvind Tufto |
AutoLateralCA | 1 |
AutoWhiteVersion | 134348800 |
BitsPerSample | 8 |
Blacks2012 | 0 |
BlueHue | 0 |
BlueSaturation | 0 |
BrightnessValue | 4.5640625 |
By-line | Oyvind Tufto |
CameraProfile | Camera Standard |
CircleOfConfusion | 0.030 mm |
Clarity2012 | 0 |
ColorComponents | 3 |
ColorMode | RGB |
ColorNoiseReduction | 20 |
ColorNoiseReductionDetail | 50 |
ColorNoiseReductionSmoothness | 50 |
ColorSpace | sRGB |
ColorTemperature | 4800 |
ColorTransform | YCbCr |
Contrast | Normal |
Contrast2012 | +20 |
ConvertToGrayscale | True |
CreateDate | 2018:08:18 18:06:47 |
Creator | Oyvind Tufto |
CreatorTool | ILCE-7RM2 v4.00 |
CropAngle | -4.57495 |
CropBottom | 0.92591 |
CropConstrainToWarp | 0 |
CropLeft | 0.209791 |
CropRight | 0.876793 |
CropTop | 0.07409 |
CustomRendered | Normal |
DateCreated (1) | 2018:08:18 |
DateCreated | 2018:08:18 18:06:47 |
DateTimeOriginal | 2018:08:18 18:06:47 |
Dehaze | 0 |
DigitalZoomRatio | 1 |
ExifImageHeight | 1400 |
ExifImageWidth | 1400 |
Exposure2012 | -0.20 |
ExposureCompensation | 0 |
ExposureMode | Auto |
ExposureProgram | Aperture-priority AE |
ExposureTime | 1/500 |
Flash | Off, Did not fire |
FNumber | 2.8 |
FocalLength | 135.0 mm |
FocalLength35efl | 135.0 mm (35 mm equivalent: 135.0 mm) |
FocalLengthIn35mmFormat | 135 mm |
Format | image/jpeg |
FOV | 15.2 deg |
GradientBasedCorrActive | true |
GradientBasedCorrAmount | 1.000000 |
GradientBasedCorrBrightness | 0.000000 |
GradientBasedCorrClarity | 0.000000 |
GradientBasedCorrClarity2012 | 0.000000 |
GradientBasedCorrContrast | 0.000000 |
GradientBasedCorrContrast2012 | 0.000000 |
GradientBasedCorrDefringe | 0.000000 |
GradientBasedCorrExposure | 0.000000 |
GradientBasedCorrExposure2012 | 0.000000 |
GradientBasedCorrHighlights2012 | 0.000000 |
GradientBasedCorrHue | 240.000000 |
GradientBasedCorrLocalBlacks2012 | 0.000000 |
GradientBasedCorrLocalWhites2012 | 0.000000 |
GradientBasedCorrLuminanceNoise | 0.000000 |
GradientBasedCorrMaskFullX (1) | 0.641652 |
GradientBasedCorrMaskFullX | 0.551376 |
GradientBasedCorrMaskFullY (1) | 0.776231 |
GradientBasedCorrMaskFullY | 0.251600 |
GradientBasedCorrMaskValue | 1.000000 |
GradientBasedCorrMaskWhat | Mask/Gradient |
GradientBasedCorrMaskZeroX (1) | 0.627233 |
GradientBasedCorrMaskZeroX | 0.565579 |
GradientBasedCorrMaskZeroY (1) | 0.529830 |
GradientBasedCorrMaskZeroY | 0.448747 |
GradientBasedCorrMoire | 0.000000 |
GradientBasedCorrSaturation | 0.000000 |
GradientBasedCorrShadows2012 (1) | 0.500000 |
GradientBasedCorrShadows2012 | -0.200000 |
GradientBasedCorrSharpness | 0.000000 |
GradientBasedCorrTemperature | 0.000000 |
GradientBasedCorrTint | 0.000000 |
GradientBasedCorrWhat | Correction |
GrainAmount | 0 |
GrayMixerAqua | -10 |
GrayMixerBlue | 0 |
GrayMixerGreen | -30 |
GrayMixerMagenta | +10 |
GrayMixerOrange | 0 |
GrayMixerPurple | +10 |
GrayMixerRed | +10 |
GrayMixerYellow | -10 |
GreenHue | 0 |
GreenSaturation | 0 |
HasCrop | True |
HasSettings | True |
HierarchicalSubject | Andreas, Salmar Cup, Silsand, Sivert, TIL G08, Turnering |
Highlights2012 | 0 |
HyperfocalDistance | 216.63 m |
ICCProfileName | sRGB IEC61966-2.1 |
ImageHeight | 1400 |
ImageSize | 1400x1400 |
ImageWidth | 1400 |
ISO | 640 |
Keywords | Andreas, Salmar Cup, Silsand, Sivert, TIL G08, Turnering |
Label | |
LateralChromaticAberrationCorrectionAlreadyApplied | True |
Lens | ZEISS Batis 2.8/135 |
LensDistortInfo | 1054174545/1073741824 24823245/1073741824 -3678734/1073741824 -1604407/1073741824 |
LensInfo | 135mm f/2.8 |
LensManualDistortionAmount | 0 |
LensModel | ZEISS Batis 2.8/135 |
LensProfileChromaticAberrationScale | 100 |
LensProfileDistortionScale | 100 |
LensProfileEnable | 1 |
LensProfileFilename | SONY (Zeiss Batis 2.8_135) - RAW.lcp |
LensProfileName | Adobe (Zeiss Batis 2.8/135) |
LensProfileSetup | LensDefaults |
LensProfileVignettingScale | 100 |
LightSource | Unknown |
LightValue | 9.3 |
LuminanceNoiseReductionContrast | 0 |
LuminanceNoiseReductionDetail | 50 |
LuminanceSmoothing | 10 |
Make | SONY |
MaxApertureValue | 2.8 |
Megapixels | 2.0 |
MeteringMode | Multi-segment |
Model | ILCE-7RM2 |
ModifyDate (1) | 2018:08:22 08:37:07+02:00 |
ModifyDate | 2018:08:22 08:37:07 |
Orientation | Horizontal (normal) |
PaintCorrectionActive | true |
PaintCorrectionAmount | 1.000000 |
PaintCorrectionBrightness | 0.000000 |
PaintCorrectionClarity | 0.000000 |
PaintCorrectionClarity2012 | 0.000000 |
PaintCorrectionContrast | 0.000000 |
PaintCorrectionContrast2012 | 0.000000 |
PaintCorrectionDefringe | 0.000000 |
PaintCorrectionExposure | 0.000000 |
PaintCorrectionExposure2012 (1) | 0.000000 |
PaintCorrectionExposure2012 | 0.082698 |
PaintCorrectionHighlights2012 | 0.000000 |
PaintCorrectionHue | 240.000000 |
PaintCorrectionLocalBlacks2012 | 0.000000 |
PaintCorrectionLocalWhites2012 | 0.000000 |
PaintCorrectionLuminanceNoise | 0.000000 |
PaintCorrectionMaskCenterWeight (2) | 0.020792 |
PaintCorrectionMaskCenterWeight | 0.155082 |
PaintCorrectionMaskFlow | 1.000000 |
PaintCorrectionMaskRadius (1) | 0.106052 |
PaintCorrectionMaskRadius (2) | 0.105290 |
PaintCorrectionMaskRadius (3) | 0.105622 |
PaintCorrectionMaskRadius | 0.097645 |
PaintCorrectionMaskValue | 1.000000 |
PaintCorrectionMaskWhat | Mask/Paint |
PaintCorrectionMoire | 0.000000 |
PaintCorrectionSaturation | 0.000000 |
PaintCorrectionShadows2012 (1) | 0.300000 |
PaintCorrectionShadows2012 | 0.000000 |
PaintCorrectionSharpness | 0.000000 |
PaintCorrectionTemperature | 0.000000 |
PaintCorrectionTint | 0.000000 |
PaintCorrectionWhat | Correction |
ParametricDarks | 0 |
ParametricHighlights | +15 |
ParametricHighlightSplit | 75 |
ParametricLights | 0 |
ParametricMidtoneSplit | 50 |
ParametricShadows | +2 |
ParametricShadowSplit | 25 |
PerspectiveAspect | 0 |
PerspectiveHorizontal | 0 |
PerspectiveRotate | 0.0 |
PerspectiveScale | 100 |
PerspectiveUpright | 0 |
PerspectiveVertical | 0 |
PostCropVignetteAmount | 0 |
ProcessVersion | 6.7 |
ProfileDescription | sRGB IEC61966-2.1 |
Rating | 3 |
RawFileName | _DSC6417.ARW |
RecommendedExposureIndex | 640 |
RedHue | 0 |
RedSaturation | 0 |
Saturation | Normal |
ScaleFactor35efl | 1.0 |
SceneCaptureType | Standard |
SceneType | Directly photographed |
SensitivityType | Recommended Exposure Index |
Shadows2012 | 0 |
ShadowTint | 0 |
SharpenDetail | 25 |
SharpenEdgeMasking | 0 |
SharpenRadius | +1.0 |
Sharpness (1) | 30 |
Sharpness | Hard |
ShutterSpeed | 1/500 |
ShutterSpeedValue | 1/500 |
Software | Adobe Photoshop CS6 (Macintosh) |
SplitToningBalance | 0 |
SplitToningHighlightHue | 0 |
SplitToningHighlightSaturation | 0 |
SplitToningShadowHue | 0 |
SplitToningShadowSaturation | 0 |
Subject | Andreas, Salmar Cup, Silsand, Sivert, TIL G08, Turnering |
Tint | +10 |
ToneCurve | 0, 0, 32, 22, 64, 56, 128, 128, 192, 196, 255, 255 |
ToneCurveBlue | 0, 0, 255, 255 |
ToneCurveGreen | 0, 0, 255, 255 |
ToneCurveName | Medium Contrast |
ToneCurveName2012 | Medium Contrast |
ToneCurvePV2012 | 0, 0, 32, 22, 64, 56, 128, 128, 192, 196, 255, 255 |
ToneCurvePV2012Blue | 0, 0, 255, 255 |
ToneCurvePV2012Green | 0, 0, 255, 255 |
ToneCurvePV2012Red | 0, 0, 255, 255 |
ToneCurveRed | 0, 0, 255, 255 |
ToneMapStrength | 0 |
URL_List | |
Version | 9.1.1 |
VignetteAmount | 0 |
WhiteBalance (1) | Custom |
WhiteBalance | Auto |
Whites2012 | 0 |