Felt | Verdi |
AlreadyApplied | True |
Aperture | 16.0 |
ApertureValue | 16.0 |
ApproximateFocusDistance | 4294967295 |
Artist | GAUTE FORBERGSKOG |
AutoLateralCA | 0 |
BitsPerComponent | 16 Bits, Unsigned |
Blacks2012 | 0 |
BlueHue | 0 |
BlueSaturation | 0 |
By-line | GAUTE FORBERGSKOG |
CameraProfile | Adobe Standard |
CaptureXResolution | 4724 |
CaptureXResolutionUnit | m |
CaptureYResolution | 4724 |
CaptureYResolutionUnit | m |
CFAPattern | [Red,Green][Green,Blue] |
CircGradBasedCorrActive | true |
CircGradBasedCorrAmount | 1.000000 |
CircGradBasedCorrBrightness | 0.000000 |
CircGradBasedCorrClarity | 0.000000 |
CircGradBasedCorrClarity2012 (7) | 0.000000 |
CircGradBasedCorrClarity2012 | 0.122687 |
CircGradBasedCorrContrast | 0.000000 |
CircGradBasedCorrContrast2012 (7) | 0.149234 |
CircGradBasedCorrContrast2012 | 0.000000 |
CircGradBasedCorrCorrectionRangeMaskType | 0 |
CircGradBasedCorrCorrectionRangeMaskVersion | +2 |
CircGradBasedCorrDefringe | 0.000000 |
CircGradBasedCorrExposure | 0.000000 |
CircGradBasedCorrExposure2012 (1) | 0.225804 |
CircGradBasedCorrExposure2012 (2) | 0.506789 |
CircGradBasedCorrExposure2012 (3) | 0.235247 |
CircGradBasedCorrExposure2012 (4) | 0.270328 |
CircGradBasedCorrExposure2012 (5) | 0.260505 |
CircGradBasedCorrExposure2012 (6) | 0.176502 |
CircGradBasedCorrExposure2012 (7) | 0.450774 |
CircGradBasedCorrExposure2012 | 0.119691 |
CircGradBasedCorrHighlights2012 | 0.000000 |
CircGradBasedCorrHue | 0.000000 |
CircGradBasedCorrLocalBlacks2012 | 0.000000 |
CircGradBasedCorrLocalDehaze | 0.000000 |
CircGradBasedCorrLocalWhites2012 (6) | 0.387629 |
CircGradBasedCorrLocalWhites2012 (7) | 0.191444 |
CircGradBasedCorrLocalWhites2012 | 0.000000 |
CircGradBasedCorrLuminanceNoise | 0.000000 |
CircGradBasedCorrMaskAngle (3) | 15.694000 |
CircGradBasedCorrMaskAngle (6) | 12.931000 |
CircGradBasedCorrMaskAngle | 0.000000 |
CircGradBasedCorrMaskBottom (1) | 0.911438 |
CircGradBasedCorrMaskBottom (2) | 0.976716 |
CircGradBasedCorrMaskBottom (3) | 0.956049 |
CircGradBasedCorrMaskBottom (4) | 0.825656 |
CircGradBasedCorrMaskBottom (5) | 0.517940 |
CircGradBasedCorrMaskBottom (6) | 0.604835 |
CircGradBasedCorrMaskBottom (7) | 0.860644 |
CircGradBasedCorrMaskBottom | 0.866069 |
CircGradBasedCorrMaskFeather | +100 |
CircGradBasedCorrMaskFlipped | true |
CircGradBasedCorrMaskLeft (1) | 0.600222 |
CircGradBasedCorrMaskLeft (2) | 0.456492 |
CircGradBasedCorrMaskLeft (3) | 0.228659 |
CircGradBasedCorrMaskLeft (4) | 0.292770 |
CircGradBasedCorrMaskLeft (5) | 0.443614 |
CircGradBasedCorrMaskLeft (6) | 0.191815 |
CircGradBasedCorrMaskLeft (7) | 0.784506 |
CircGradBasedCorrMaskLeft | 0.626627 |
CircGradBasedCorrMaskMidpoint | +50 |
CircGradBasedCorrMaskRight (1) | 0.708051 |
CircGradBasedCorrMaskRight (2) | 0.750121 |
CircGradBasedCorrMaskRight (3) | 0.439811 |
CircGradBasedCorrMaskRight (4) | 0.426253 |
CircGradBasedCorrMaskRight (5) | 0.550622 |
CircGradBasedCorrMaskRight (6) | 0.210817 |
CircGradBasedCorrMaskRight (7) | 0.893133 |
CircGradBasedCorrMaskRight | 0.677721 |
CircGradBasedCorrMaskRoundness | 0 |
CircGradBasedCorrMaskTop (1) | 0.593222 |
CircGradBasedCorrMaskTop (2) | 0.856174 |
CircGradBasedCorrMaskTop (3) | 0.778295 |
CircGradBasedCorrMaskTop (4) | 0.498801 |
CircGradBasedCorrMaskTop (5) | 0.207285 |
CircGradBasedCorrMaskTop (6) | 0.453944 |
CircGradBasedCorrMaskTop (7) | 0.515042 |
CircGradBasedCorrMaskTop | 0.778978 |
CircGradBasedCorrMaskValue | 1.000000 |
CircGradBasedCorrMaskVersion | +2 |
CircGradBasedCorrMaskWhat | Mask/CircularGradient |
CircGradBasedCorrMoire | 0.000000 |
CircGradBasedCorrSaturation | 0.000000 |
CircGradBasedCorrShadows2012 (6) | 0.000000 |
CircGradBasedCorrShadows2012 (7) | 0.496814 |
CircGradBasedCorrShadows2012 | 0.191975 |
CircGradBasedCorrSharpness | 0.000000 |
CircGradBasedCorrTemperature | 0.000000 |
CircGradBasedCorrTint | 0.000000 |
CircGradBasedCorrWhat | Correction |
CircleOfConfusion | 0.030 mm |
Clarity2012 | 0 |
ColorMode | RGB |
ColorNoiseReduction | 25 |
ColorNoiseReductionDetail | 50 |
ColorNoiseReductionSmoothness | 50 |
ColorSpace | Uncalibrated |
ColorSpecApproximation (1) | Reasonable Quality |
ColorSpecApproximation | Accurate |
ColorSpecMethod (1) | Restricted ICC |
ColorSpecMethod | Any ICC |
ColorSpecPrecedence (1) | 1 |
ColorSpecPrecedence | 2 |
ColorTemperature | 3550 |
CompatibleBrands | jp2 , jpxb, jpx |
Contrast | Normal |
Contrast2012 | 0 |
ConvertToGrayscale | False |
Copyright | 2018 GAUTE FORBERGSKOG |
CopyrightNotice | 2018 GAUTE FORBERGSKOG |
CreateDate | 2018:08:07 22:17:21 |
Creator | GAUTE FORBERGSKOG |
CreatorTool | Adobe Photoshop CC 2018 (Macintosh) |
CropAngle | 0 |
CropBottom | 0.949081 |
CropConstrainToWarp | 0 |
CropLeft | 0.04679 |
CropRight | 0.954044 |
CropTop | 0 |
CustomRendered | Normal |
DateCreated (1) | 2018:08:07 |
DateCreated | 2018:08:07 22:17:21.013 |
DateTimeOriginal | 2018:08:07 22:17:21 |
DefringeGreenAmount | 0 |
DefringeGreenHueHi | 60 |
DefringeGreenHueLo | 40 |
DefringePurpleAmount | 0 |
DefringePurpleHueHi | 70 |
DefringePurpleHueLo | 30 |
Dehaze | 0 |
DOF | inf (1.20 m - inf) |
ExifImageHeight | 1153 |
ExifImageWidth | 1654 |
Exposure2012 | 0.00 |
ExposureCompensation | 0 |
ExposureMode | Manual |
ExposureProgram | Manual |
ExposureTime | 10 |
Flash | No Flash |
FlashFired | False |
FlashFunction | False |
FlashMode | Unknown |
FlashRedEyeMode | False |
FlashReturn | No return detection |
FNumber | 16.0 |
FocalLength | 24.0 mm |
FocalLengthIn35mmFormat | 24 mm |
Format | image/jpx |
FOV | 73.7 deg |
GainControl | None |
GrainAmount | 0 |
GreenHue | 0 |
GreenSaturation | 0 |
HasCrop | True |
HasSettings | True |
Highlights2012 | -80 |
HueAdjustmentAqua | 0 |
HueAdjustmentBlue | 0 |
HueAdjustmentGreen | 0 |
HueAdjustmentMagenta | 0 |
HueAdjustmentOrange | 0 |
HueAdjustmentPurple | 0 |
HueAdjustmentRed | 0 |
HueAdjustmentYellow | 0 |
HyperfocalDistance | 1.20 m |
ICCProfileName | Adobe RGB (1998) |
ImageHeight | 1153 |
ImageNumber | 4166 |
ImageSize | 1654x1153 |
ImageWidth | 1654 |
ISO | 64 |
Keywords | 2018, London, by, ferie, reise |
Label | |
Lens | 24.0-70.0 mm f/2.8 |
LensID (1) | 170 |
LensID | AF-S Nikkor 24-70mm f/2.8E ED VR |
LensInfo (2) | 24 |
LensInfo | 24-70mm f/2.8 |
LensManualDistortionAmount | 0 |
LensModel | 24.0-70.0 mm f/2.8 |
LensProfileEnable | 0 |
LensProfileSetup | LensDefaults |
LightSource | Unknown |
LightValue | 5.3 |
LookAmount | 1.000000 |
LookGroup | Profiles |
LookName | Adobe Color |
LookParametersCameraProfile | Adobe Standard |
LookParametersConvertToGrayscale | False |
LookParametersLookTable | E1095149FDB39D7A057BAB208837E2E1 |
LookParametersProcessVersion | 10.0 |
LookParametersToneCurvePV2012 | 0, 0, 22, 16, 40, 35, 127, 127, 224, 230, 240, 246, 255, 255 |
LookParametersToneCurvePV2012Blue | 0, 0, 255, 255 |
LookParametersToneCurvePV2012Green | 0, 0, 255, 255 |
LookParametersToneCurvePV2012Red | 0, 0, 255, 255 |
LookParametersVersion | 10.5 |
LookSupportsAmount | false |
LookSupportsMonochrome | false |
LookSupportsOutputReferred | false |
LuminanceAdjustmentAqua | 0 |
LuminanceAdjustmentBlue | 0 |
LuminanceAdjustmentGreen | 0 |
LuminanceAdjustmentMagenta | 0 |
LuminanceAdjustmentOrange | 0 |
LuminanceAdjustmentPurple | 0 |
LuminanceAdjustmentRed | 0 |
LuminanceAdjustmentYellow | 0 |
LuminanceNoiseReductionContrast | 0 |
LuminanceNoiseReductionDetail | 50 |
LuminanceSmoothing | 21 |
MajorBrand | JPEG 2000 Image (.JP2) |
Make | NIKON CORPORATION |
MaxApertureValue | 2.8 |
Megapixels | 1.9 |
MeteringMode | Spot |
MinorVersion | 0.0.0 |
Model | NIKON D850 |
ModifyDate (1) | 2018:09:05 22:18:31+02:00 |
ModifyDate | 2018:09:05 22:18:31 |
NumberOfComponents | 3 |
Orientation | Horizontal (normal) |
OverrideLookVignette | False |
PaintCorrectionActive | true |
PaintCorrectionAmount | 1.000000 |
PaintCorrectionBrightness | 0.000000 |
PaintCorrectionClarity | 0.000000 |
PaintCorrectionClarity2012 (2) | 0.000000 |
PaintCorrectionClarity2012 | 0.264904 |
PaintCorrectionContrast | 0.000000 |
PaintCorrectionContrast2012 (3) | 0.000000 |
PaintCorrectionContrast2012 | 0.193113 |
PaintCorrectionCorrectionRangeMaskType (3) | +2 |
PaintCorrectionCorrectionRangeMaskType | 0 |
PaintCorrectionCorrectionRangeMaskVersion | +2 |
PaintCorrectionDefringe | 0.000000 |
PaintCorrectionExposure | 0.000000 |
PaintCorrectionExposure2012 (4) | 0.283943 |
PaintCorrectionExposure2012 (5) | 0.249242 |
PaintCorrectionExposure2012 | 0.000000 |
PaintCorrectionHighlights2012 (4) | -0.300402 |
PaintCorrectionHighlights2012 | 0.000000 |
PaintCorrectionHue | 0.000000 |
PaintCorrectionLocalBlacks2012 | 0.000000 |
PaintCorrectionLocalDehaze | 0.000000 |
PaintCorrectionLocalWhites2012 (3) | 0.103193 |
PaintCorrectionLocalWhites2012 | 0.000000 |
PaintCorrectionLuminanceNoise | 0.000000 |
PaintCorrectionMaskCenterWeight | 0.000000 |
PaintCorrectionMaskFlow (154) | 0.461531 |
PaintCorrectionMaskFlow (49) | 0.856933 |
PaintCorrectionMaskFlow | 1.000000 |
PaintCorrectionMaskRadius (1) | 0.030771 |
PaintCorrectionMaskRadius (106) | 0.005513 |
PaintCorrectionMaskRadius (109) | 0.004178 |
PaintCorrectionMaskRadius (110) | 0.020234 |
PaintCorrectionMaskRadius (114) | 0.036971 |
PaintCorrectionMaskRadius (120) | 0.018706 |
PaintCorrectionMaskRadius (130) | 0.024682 |
PaintCorrectionMaskRadius (132) | 0.043283 |
PaintCorrectionMaskRadius (139) | 0.049706 |
PaintCorrectionMaskRadius (155) | 0.007087 |
PaintCorrectionMaskRadius (159) | 0.012840 |
PaintCorrectionMaskRadius (16) | 0.018650 |
PaintCorrectionMaskRadius (179) | 0.028531 |
PaintCorrectionMaskRadius (184) | 0.022033 |
PaintCorrectionMaskRadius (185) | 0.022185 |
PaintCorrectionMaskRadius (186) | 0.022205 |
PaintCorrectionMaskRadius (187) | 0.022180 |
PaintCorrectionMaskRadius (188) | 0.022250 |
PaintCorrectionMaskRadius (189) | 0.028267 |
PaintCorrectionMaskRadius (190) | 0.028047 |
PaintCorrectionMaskRadius (191) | 0.028304 |
PaintCorrectionMaskRadius (192) | 0.028606 |
PaintCorrectionMaskRadius (193) | 0.018084 |
PaintCorrectionMaskRadius (194) | 0.018014 |
PaintCorrectionMaskRadius (195) | 0.018080 |
PaintCorrectionMaskRadius (196) | 0.017376 |
PaintCorrectionMaskRadius (197) | 0.017286 |
PaintCorrectionMaskRadius (198) | 0.016853 |
PaintCorrectionMaskRadius (199) | 0.011823 |
PaintCorrectionMaskRadius (201) | 0.023888 |
PaintCorrectionMaskRadius (202) | 0.029743 |
PaintCorrectionMaskRadius (203) | 0.017917 |
PaintCorrectionMaskRadius (204) | 0.016981 |
PaintCorrectionMaskRadius (31) | 0.009667 |
PaintCorrectionMaskRadius (54) | 0.014046 |
PaintCorrectionMaskRadius (58) | 0.008258 |
PaintCorrectionMaskRadius (61) | 0.011102 |
PaintCorrectionMaskRadius (64) | 0.002868 |
PaintCorrectionMaskRadius (65) | 0.001583 |
PaintCorrectionMaskRadius (69) | 0.033808 |
PaintCorrectionMaskRadius (7) | 0.105117 |
PaintCorrectionMaskRadius (76) | 0.006873 |
PaintCorrectionMaskRadius (81) | 0.012562 |
PaintCorrectionMaskRadius (96) | 0.035675 |
PaintCorrectionMaskRadius | 0.015682 |
PaintCorrectionMaskValue (138) | 0.000000 |
PaintCorrectionMaskValue | 0.652344 |
PaintCorrectionMaskWhat | Mask/Paint |
PaintCorrectionMoire | 0.000000 |
PaintCorrectionSaturation (11) | -0.604710 |
PaintCorrectionSaturation (7) | -0.090640 |
PaintCorrectionSaturation | 0.000000 |
PaintCorrectionShadows2012 (1) | 0.864684 |
PaintCorrectionShadows2012 (2) | 0.423468 |
PaintCorrectionShadows2012 | 0.000000 |
PaintCorrectionSharpness | 0.000000 |
PaintCorrectionTemperature (4) | 0.176540 |
PaintCorrectionTemperature (6) | -0.184997 |
PaintCorrectionTemperature | 0.000000 |
PaintCorrectionTint (6) | 0.150713 |
PaintCorrectionTint | 0.000000 |
PaintCorrectionWhat | Correction |
ParametricDarks | 0 |
ParametricHighlights | 0 |
ParametricHighlightSplit | 75 |
ParametricLights | 0 |
ParametricMidtoneSplit | 50 |
ParametricShadows | 0 |
ParametricShadowSplit | 25 |
PerspectiveAspect | 0 |
PerspectiveHorizontal | 0 |
PerspectiveRotate | 0.0 |
PerspectiveScale | 100 |
PerspectiveUpright | 0 |
PerspectiveVertical | -29 |
PerspectiveX | 0.00 |
PerspectiveY | 0.00 |
PostCropVignetteAmount | -6 |
PostCropVignetteFeather | 50 |
PostCropVignetteHighlightContrast | 0 |
PostCropVignetteMidpoint | 50 |
PostCropVignetteRoundness | 0 |
PostCropVignetteStyle | 1 |
ProcessVersion | 10.0 |
ProfileDescription (1) | Modified Adobe RGB (1998) |
ProfileDescription | Adobe RGB (1998) |
Rating | 0 |
RawFileName | _8503897.NEF |
RecommendedExposureIndex | 64 |
RedHue | 0 |
RedSaturation | 0 |
Rights | 2018 GAUTE FORBERGSKOG |
Saturation (1) | 0 |
Saturation | Normal |
SaturationAdjustmentAqua | 0 |
SaturationAdjustmentBlue | 0 |
SaturationAdjustmentGreen | 0 |
SaturationAdjustmentMagenta | 0 |
SaturationAdjustmentOrange | 0 |
SaturationAdjustmentPurple | 0 |
SaturationAdjustmentRed | 0 |
SaturationAdjustmentYellow | 0 |
ScaleFactor35efl | 1.0 |
SceneCaptureType | Standard |
SceneType | Directly photographed |
SensingMethod | One-chip color area |
SensitivityType (1) | 2 |
SensitivityType | Recommended Exposure Index |
SerialNumber | 6023637 |
Shadows2012 | 0 |
ShadowTint | 0 |
SharpenDetail | 42 |
SharpenEdgeMasking | 100 |
SharpenRadius | +1.0 |
Sharpness (1) | 13 |
Sharpness | Normal |
ShutterSpeed | 10 |
ShutterSpeedValue | 10 |
Software | Adobe Photoshop CC 2018 (Macintosh) |
SplitToningBalance | 0 |
SplitToningHighlightHue | 0 |
SplitToningHighlightSaturation | 0 |
SplitToningShadowHue | 0 |
SplitToningShadowSaturation | 0 |
Subject | 2018, London, by, ferie, reise |
SubjectDistanceRange | Unknown |
Tint | +8 |
ToneCurve | 0, 0, 32, 22, 64, 56, 128, 128, 192, 196, 255, 255 |
ToneCurveBlue | 0, 0, 255, 255 |
ToneCurveGreen | 0, 0, 255, 255 |
ToneCurveName | Medium Contrast |
ToneCurveName2012 | Linear |
ToneCurvePV2012 | 0, 0, 255, 255 |
ToneCurvePV2012Blue | 0, 0, 255, 255 |
ToneCurvePV2012Green | 0, 0, 255, 255 |
ToneCurvePV2012Red | 0, 0, 255, 255 |
ToneCurveRed | 0, 0, 255, 255 |
ToneMapStrength | 0 |
URL_List | |
Version | 10.5 |
Vibrance | 0 |
VignetteAmount | 0 |
WhiteBalance (1) | As Shot |
WhiteBalance | Auto |
Whites2012 | 0 |