Felt | Verdi |
AlreadyApplied | True |
Aperture | 5.0 |
ApertureValue | 5.0 |
AutoLateralCA | 0 |
AutoWhiteVersion | 134348800 |
BitsPerSample | 8 |
Blacks2012 | 0 |
BlueHue | 0 |
BlueSaturation | 0 |
BrightnessValue | 7.665625 |
CameraProfile | Adobe Standard |
CircGradBasedCorrActive | true |
CircGradBasedCorrAmount | 1.000000 |
CircGradBasedCorrBrightness | 0.000000 |
CircGradBasedCorrClarity2012 | 0.000000 |
CircGradBasedCorrContrast2012 | 0.000000 |
CircGradBasedCorrDefringe | 0.000000 |
CircGradBasedCorrExposure2012 | 0.124182 |
CircGradBasedCorrHighlights2012 | 0.000000 |
CircGradBasedCorrHue | 240.000000 |
CircGradBasedCorrLocalBlacks2012 | 0.000000 |
CircGradBasedCorrLocalDehaze | 0.000000 |
CircGradBasedCorrLocalWhites2012 | 0.000000 |
CircGradBasedCorrLuminanceNoise | 0.000000 |
CircGradBasedCorrMaskAngle | -4.199990 |
CircGradBasedCorrMaskBottom | 0.354463 |
CircGradBasedCorrMaskCenterWeight (15) | 0.022623 |
CircGradBasedCorrMaskCenterWeight | 0.000000 |
CircGradBasedCorrMaskFeather | +50 |
CircGradBasedCorrMaskFlipped | true |
CircGradBasedCorrMaskFlow (23) | 0.500000 |
CircGradBasedCorrMaskFlow | 1.000000 |
CircGradBasedCorrMaskLeft | 0.569875 |
CircGradBasedCorrMaskMidpoint | +50 |
CircGradBasedCorrMaskRadius (1) | 0.041944 |
CircGradBasedCorrMaskRadius (10) | 0.077396 |
CircGradBasedCorrMaskRadius (11) | 0.077991 |
CircGradBasedCorrMaskRadius (12) | 0.079373 |
CircGradBasedCorrMaskRadius (13) | 0.079751 |
CircGradBasedCorrMaskRadius (14) | 0.078855 |
CircGradBasedCorrMaskRadius (15) | 0.077982 |
CircGradBasedCorrMaskRadius (16) | 0.077851 |
CircGradBasedCorrMaskRadius (17) | 0.056350 |
CircGradBasedCorrMaskRadius (18) | 0.055164 |
CircGradBasedCorrMaskRadius (19) | 0.056552 |
CircGradBasedCorrMaskRadius (2) | 0.041891 |
CircGradBasedCorrMaskRadius (20) | 0.057110 |
CircGradBasedCorrMaskRadius (21) | 0.038524 |
CircGradBasedCorrMaskRadius (22) | 0.038201 |
CircGradBasedCorrMaskRadius (23) | 0.076427 |
CircGradBasedCorrMaskRadius (24) | 0.038249 |
CircGradBasedCorrMaskRadius (3) | 0.041981 |
CircGradBasedCorrMaskRadius (4) | 0.042270 |
CircGradBasedCorrMaskRadius (5) | 0.078925 |
CircGradBasedCorrMaskRadius (6) | 0.078253 |
CircGradBasedCorrMaskRadius (7) | 0.078307 |
CircGradBasedCorrMaskRadius (8) | 0.079424 |
CircGradBasedCorrMaskRadius (9) | 0.077589 |
CircGradBasedCorrMaskRadius | 0.038066 |
CircGradBasedCorrMaskRight | 1.152030 |
CircGradBasedCorrMaskRoundness | 0 |
CircGradBasedCorrMaskTop | -0.215411 |
CircGradBasedCorrMaskValue (6) | 1.000000 |
CircGradBasedCorrMaskValue | 0.000000 |
CircGradBasedCorrMaskVersion | +2 |
CircGradBasedCorrMaskWhat (1) | Mask/CircularGradient |
CircGradBasedCorrMaskWhat | Mask/Paint |
CircGradBasedCorrMoire | 0.000000 |
CircGradBasedCorrSaturation | 0.000000 |
CircGradBasedCorrShadows2012 | 0.603016 |
CircGradBasedCorrSharpness | 0.000000 |
CircGradBasedCorrTemperature | 0.423601 |
CircGradBasedCorrTint | 0.000000 |
CircGradBasedCorrWhat | Correction |
CircleOfConfusion | 0.020 mm |
Clarity2012 | 0 |
ColorComponents | 3 |
ColorNoiseReduction | 25 |
ColorNoiseReductionDetail | 50 |
ColorNoiseReductionSmoothness | 50 |
ColorSpace | sRGB |
ColorTemperature | 5850 |
ColorTransform | YCbCr |
Contrast | Normal |
Contrast2012 | -34 |
ConvertToGrayscale | False |
CreateDate | 2017:11:26 11:37:01 |
CreatorTool | Adobe Photoshop Lightroom 6.10 (Macintosh) |
CropAngle | -4.58343 |
CropBottom | 0.892658 |
CropConstrainToWarp | 0 |
CropLeft | 0 |
CropRight | 0.940364 |
CropTop | 0.107342 |
CustomRendered | Normal |
DateCreated (1) | 2017:11:26 |
DateCreated | 2017:11:26 11:37:01 |
DateTimeOriginal | 2017:11:26 11:37:01 |
DefringeGreenAmount | 0 |
DefringeGreenHueHi | 60 |
DefringeGreenHueLo | 40 |
DefringePurpleAmount | 0 |
DefringePurpleHueHi | 70 |
DefringePurpleHueLo | 30 |
Dehaze | 0 |
DigitalZoomRatio | 1 |
DistortionCorrectionAlreadyApplied | True |
Exposure2012 | 0.00 |
ExposureCompensation | 0 |
ExposureMode | Auto |
ExposureProgram | Shutter speed priority AE |
ExposureTime | 1/1250 |
Flash | Off, Did not fire |
FNumber | 5.0 |
FocalLength | 24.0 mm |
FocalLength35efl | 24.0 mm (35 mm equivalent: 36.0 mm) |
FocalLengthIn35mmFormat | 36 mm |
Format | image/jpeg |
FOV | 53.1 deg |
GradientBasedCorrActive | true |
GradientBasedCorrAmount | 1.000000 |
GradientBasedCorrBrightness | 0.000000 |
GradientBasedCorrClarity2012 | 0.000000 |
GradientBasedCorrContrast2012 | 0.000000 |
GradientBasedCorrDefringe | 0.000000 |
GradientBasedCorrExposure2012 | 0.000000 |
GradientBasedCorrHighlights2012 | 0.000000 |
GradientBasedCorrHue (1) | 103.410004 |
GradientBasedCorrHue | 240.000000 |
GradientBasedCorrLocalBlacks2012 | 0.000000 |
GradientBasedCorrLocalDehaze | 0.000000 |
GradientBasedCorrLocalWhites2012 | 0.000000 |
GradientBasedCorrLuminanceNoise | 0.000000 |
GradientBasedCorrMaskCenterWeight (6) | 0.000000 |
GradientBasedCorrMaskCenterWeight | 0.022623 |
GradientBasedCorrMaskFlow (5) | 1.000000 |
GradientBasedCorrMaskFlow | 0.500000 |
GradientBasedCorrMaskFullX (1) | 0.435354 |
GradientBasedCorrMaskFullX | 0.509264 |
GradientBasedCorrMaskFullY (1) | 0.823068 |
GradientBasedCorrMaskFullY | 0.325791 |
GradientBasedCorrMaskRadius (1) | 0.053788 |
GradientBasedCorrMaskRadius (2) | 0.133180 |
GradientBasedCorrMaskRadius (3) | 0.077406 |
GradientBasedCorrMaskRadius (4) | 0.057761 |
GradientBasedCorrMaskRadius (5) | 0.056434 |
GradientBasedCorrMaskRadius (6) | 0.057785 |
GradientBasedCorrMaskRadius (7) | 0.056146 |
GradientBasedCorrMaskRadius | 0.042088 |
GradientBasedCorrMaskValue (9) | 0.000000 |
GradientBasedCorrMaskValue | 1.000000 |
GradientBasedCorrMaskWhat (1) | Mask/Gradient |
GradientBasedCorrMaskWhat | Mask/Paint |
GradientBasedCorrMaskZeroX (1) | 0.428642 |
GradientBasedCorrMaskZeroX | 0.511505 |
GradientBasedCorrMaskZeroY (1) | 0.696281 |
GradientBasedCorrMaskZeroY | 0.409551 |
GradientBasedCorrMoire | 0.000000 |
GradientBasedCorrSaturation (1) | 0.463118 |
GradientBasedCorrSaturation (2) | 0.165078 |
GradientBasedCorrSaturation | 0.000000 |
GradientBasedCorrShadows2012 | 0.000000 |
GradientBasedCorrSharpness | 0.000000 |
GradientBasedCorrTemperature (1) | 0.000000 |
GradientBasedCorrTemperature | -0.180959 |
GradientBasedCorrTint | 0.000000 |
GradientBasedCorrWhat | Correction |
GrainAmount | 0 |
GreenHue | 0 |
GreenSaturation | 0 |
HasCrop | True |
HasExtendedXMP | C938C0E1F9D6AE2D6F5892E59EF057DF |
HasSettings | True |
Highlights2012 | +11 |
HueAdjustmentAqua | -24 |
HueAdjustmentBlue | 0 |
HueAdjustmentGreen | -38 |
HueAdjustmentMagenta | 0 |
HueAdjustmentOrange | +2 |
HueAdjustmentPurple | 0 |
HueAdjustmentRed | 0 |
HueAdjustmentYellow | -4 |
HyperfocalDistance | 5.75 m |
ImageHeight | 2865 |
ImageSize | 4297x2865 |
ImageWidth | 4297 |
ISO | 500 |
LateralChromaticAberrationCorrectionAlreadyApplied | True |
Lens | FE 24-70mm F4 ZA OSS |
LensInfo | 24-70mm f/4 |
LensManualDistortionAmount | 0 |
LensModel | FE 24-70mm F4 ZA OSS |
LensProfileChromaticAberrationScale | 100 |
LensProfileDistortionScale | 100 |
LensProfileEnable | 1 |
LensProfileFilename | SONY (Sony FE 24-70mm F4 ZA OSS) - RAW.lcp |
LensProfileName | Adobe (Sony FE 24-70mm F4 ZA OSS) |
LensProfileSetup | LensDefaults |
LensProfileVignettingScale | 100 |
LightSource | Unknown |
LightValue | 12.6 |
LuminanceAdjustmentAqua | 0 |
LuminanceAdjustmentBlue | +76 |
LuminanceAdjustmentGreen | -9 |
LuminanceAdjustmentMagenta | 0 |
LuminanceAdjustmentOrange | 0 |
LuminanceAdjustmentPurple | 0 |
LuminanceAdjustmentRed | 0 |
LuminanceAdjustmentYellow | +71 |
LuminanceSmoothing | 0 |
Make | SONY |
MaxApertureValue | 4.0 |
Megapixels | 12.3 |
MeteringMode | Multi-segment |
Model | ILCE-7R |
ModifyDate (1) | 2018:02:15 23:11:34+01:00 |
ModifyDate | 2018:02:15 23:11:34 |
PaintCorrectionActive | true |
PaintCorrectionAmount | 1.000000 |
PaintCorrectionBrightness | 0.000000 |
PaintCorrectionClarity2012 | 0.000000 |
PaintCorrectionContrast2012 (1) | 0.000000 |
PaintCorrectionContrast2012 | -0.084393 |
PaintCorrectionDefringe | 0.000000 |
PaintCorrectionExposure2012 (1) | 0.000000 |
PaintCorrectionExposure2012 (2) | 0.151980 |
PaintCorrectionExposure2012 | 0.281523 |
PaintCorrectionHighlights2012 | 0.000000 |
PaintCorrectionHue (2) | 240.000000 |
PaintCorrectionHue | 138.968994 |
PaintCorrectionLocalBlacks2012 (1) | -0.163517 |
PaintCorrectionLocalBlacks2012 | 0.000000 |
PaintCorrectionLocalDehaze | 0.000000 |
PaintCorrectionLocalWhites2012 | 0.000000 |
PaintCorrectionLuminanceNoise | 0.000000 |
PaintCorrectionMaskCenterWeight (1) | 0.022623 |
PaintCorrectionMaskCenterWeight | 0.000000 |
PaintCorrectionMaskFlow | 0.500000 |
PaintCorrectionMaskRadius (1) | 0.040714 |
PaintCorrectionMaskRadius (10) | 0.074274 |
PaintCorrectionMaskRadius (11) | 0.116029 |
PaintCorrectionMaskRadius (12) | 0.118052 |
PaintCorrectionMaskRadius (13) | 0.104543 |
PaintCorrectionMaskRadius (2) | 0.042242 |
PaintCorrectionMaskRadius (3) | 0.042382 |
PaintCorrectionMaskRadius (4) | 0.042483 |
PaintCorrectionMaskRadius (5) | 0.026222 |
PaintCorrectionMaskRadius (6) | 0.026229 |
PaintCorrectionMaskRadius (7) | 0.026113 |
PaintCorrectionMaskRadius (8) | 0.026218 |
PaintCorrectionMaskRadius (9) | 0.026233 |
PaintCorrectionMaskRadius | 0.068555 |
PaintCorrectionMaskValue | 1.000000 |
PaintCorrectionMaskWhat | Mask/Paint |
PaintCorrectionMoire | 0.000000 |
PaintCorrectionSaturation (5) | -0.343659 |
PaintCorrectionSaturation | 0.000000 |
PaintCorrectionShadows2012 (1) | 0.442678 |
PaintCorrectionShadows2012 (2) | 0.362373 |
PaintCorrectionShadows2012 | 0.670785 |
PaintCorrectionSharpness (2) | 0.726744 |
PaintCorrectionSharpness | 0.000000 |
PaintCorrectionTemperature (1) | 0.442587 |
PaintCorrectionTemperature | 0.000000 |
PaintCorrectionTint | 0.000000 |
PaintCorrectionWhat | Correction |
ParametricDarks | 0 |
ParametricHighlights | 0 |
ParametricHighlightSplit | 75 |
ParametricLights | 0 |
ParametricMidtoneSplit | 50 |
ParametricShadows | 0 |
ParametricShadowSplit | 25 |
PerspectiveAspect | 0 |
PerspectiveHorizontal | 0 |
PerspectiveRotate | 0.0 |
PerspectiveScale | 100 |
PerspectiveUpright | 0 |
PerspectiveVertical | 0 |
PerspectiveX | 0.00 |
PerspectiveY | 0.00 |
PostCropVignetteAmount | -17 |
PostCropVignetteFeather | 50 |
PostCropVignetteHighlightContrast | 0 |
PostCropVignetteMidpoint | 74 |
PostCropVignetteRoundness | +35 |
PostCropVignetteStyle | 1 |
ProcessVersion | 6.7 |
ProfileDescription | sRGB IEC61966-2.1 |
Rating | 5 |
RecommendedExposureIndex | 500 |
RedHue | 0 |
RedSaturation | 0 |
Saturation (1) | 0 |
Saturation | Normal |
SaturationAdjustmentAqua | 0 |
SaturationAdjustmentBlue | 0 |
SaturationAdjustmentGreen | 0 |
SaturationAdjustmentMagenta | 0 |
SaturationAdjustmentOrange | 0 |
SaturationAdjustmentPurple | 0 |
SaturationAdjustmentRed | 0 |
SaturationAdjustmentYellow | 0 |
ScaleFactor35efl | 1.5 |
SceneCaptureType | Standard |
SceneType | Directly photographed |
SensitivityType | Recommended Exposure Index |
Shadows2012 | +61 |
ShadowTint | 0 |
SharpenDetail | 25 |
SharpenEdgeMasking | 0 |
SharpenRadius | +1.0 |
Sharpness (1) | 25 |
Sharpness | Normal |
ShutterSpeed | 1/1250 |
ShutterSpeedValue | 1/1250 |
Software | Adobe Photoshop Lightroom 6.10 (Macintosh) |
SplitToningBalance | 0 |
SplitToningHighlightHue | 0 |
SplitToningHighlightSaturation | 0 |
SplitToningShadowHue | 0 |
SplitToningShadowSaturation | 0 |
Tint | +3 |
ToneCurve | 0, 0, 255, 255 |
ToneCurveBlue | 0, 0, 255, 255 |
ToneCurveGreen | 0, 0, 255, 255 |
ToneCurveName | Linear |
ToneCurveName2012 | Linear |
ToneCurvePV2012 | 0, 0, 255, 255 |
ToneCurvePV2012Blue | 0, 0, 255, 255 |
ToneCurvePV2012Green | 0, 0, 255, 255 |
ToneCurvePV2012Red | 0, 0, 255, 255 |
ToneCurveRed | 0, 0, 255, 255 |
ToneMapStrength | 0 |
Version | 9.10 |
Vibrance | 0 |
VignetteAmount | 0 |
VignetteCorrectionAlreadyApplied | True |
WhiteBalance (1) | As Shot |
WhiteBalance | Auto |
Whites2012 | +47 |