Felt | Verdi |
AlreadyApplied | True |
Aperture | 2.8 |
ApertureValue | 2.8 |
ApproximateFocusDistance | 4294967295 |
Artist | GAUTE FORBERGSKOG |
AutoLateralCA | 0 |
BitsPerSample | 8 |
Blacks2012 | 0 |
BlueHue | 0 |
BlueSaturation | 0 |
By-line | GAUTE FORBERGSKOG |
CameraProfile | Adobe Standard |
CFAPattern | [Red,Green][Green,Blue] |
CircGradBasedCorrActive | true |
CircGradBasedCorrAmount | 1.000000 |
CircGradBasedCorrBrightness | 0.000000 |
CircGradBasedCorrClarity | 0.000000 |
CircGradBasedCorrClarity2012 (7) | 0.290390 |
CircGradBasedCorrClarity2012 | 0.000000 |
CircGradBasedCorrContrast | 0.000000 |
CircGradBasedCorrContrast2012 | 0.000000 |
CircGradBasedCorrDefringe | 0.000000 |
CircGradBasedCorrExposure | 0.000000 |
CircGradBasedCorrExposure2012 | 0.264260 |
CircGradBasedCorrHighlights2012 | 0.000000 |
CircGradBasedCorrHue | 0.000000 |
CircGradBasedCorrLocalBlacks2012 | 0.000000 |
CircGradBasedCorrLocalDehaze | 0.000000 |
CircGradBasedCorrLocalWhites2012 | 0.000000 |
CircGradBasedCorrLuminanceNoise | 0.000000 |
CircGradBasedCorrMaskAngle (15) | -4.661460 |
CircGradBasedCorrMaskAngle (16) | 6.365810 |
CircGradBasedCorrMaskAngle (17) | 1.035550 |
CircGradBasedCorrMaskAngle (2) | 1.461570 |
CircGradBasedCorrMaskAngle (4) | -2.088600 |
CircGradBasedCorrMaskAngle (5) | 6.986320 |
CircGradBasedCorrMaskAngle (6) | -6.005930 |
CircGradBasedCorrMaskAngle (7) | -0.025483 |
CircGradBasedCorrMaskAngle | 0.000000 |
CircGradBasedCorrMaskBottom (1) | 0.436385 |
CircGradBasedCorrMaskBottom (10) | 0.872488 |
CircGradBasedCorrMaskBottom (11) | 0.873737 |
CircGradBasedCorrMaskBottom (12) | 0.857190 |
CircGradBasedCorrMaskBottom (13) | 0.869698 |
CircGradBasedCorrMaskBottom (14) | 0.293551 |
CircGradBasedCorrMaskBottom (15) | 0.845167 |
CircGradBasedCorrMaskBottom (16) | 0.868353 |
CircGradBasedCorrMaskBottom (17) | 0.760902 |
CircGradBasedCorrMaskBottom (18) | 0.102288 |
CircGradBasedCorrMaskBottom (2) | 0.993336 |
CircGradBasedCorrMaskBottom (3) | 0.988076 |
CircGradBasedCorrMaskBottom (4) | 0.904907 |
CircGradBasedCorrMaskBottom (5) | 0.963905 |
CircGradBasedCorrMaskBottom (6) | 0.951287 |
CircGradBasedCorrMaskBottom (7) | 0.553930 |
CircGradBasedCorrMaskBottom (8) | 0.869916 |
CircGradBasedCorrMaskBottom (9) | 0.860732 |
CircGradBasedCorrMaskBottom | 0.981257 |
CircGradBasedCorrMaskFeather | +100 |
CircGradBasedCorrMaskFlipped | true |
CircGradBasedCorrMaskLeft (1) | 0.432085 |
CircGradBasedCorrMaskLeft (10) | 0.353139 |
CircGradBasedCorrMaskLeft (11) | 0.570638 |
CircGradBasedCorrMaskLeft (12) | 0.581083 |
CircGradBasedCorrMaskLeft (13) | 0.593425 |
CircGradBasedCorrMaskLeft (14) | 0.466303 |
CircGradBasedCorrMaskLeft (15) | 0.676551 |
CircGradBasedCorrMaskLeft (16) | 0.262306 |
CircGradBasedCorrMaskLeft (17) | 0.429243 |
CircGradBasedCorrMaskLeft (18) | 0.464458 |
CircGradBasedCorrMaskLeft (2) | 0.373721 |
CircGradBasedCorrMaskLeft (3) | 0.497136 |
CircGradBasedCorrMaskLeft (4) | 0.631391 |
CircGradBasedCorrMaskLeft (5) | 0.236032 |
CircGradBasedCorrMaskLeft (6) | 0.749449 |
CircGradBasedCorrMaskLeft (7) | 0.336199 |
CircGradBasedCorrMaskLeft (8) | 0.330645 |
CircGradBasedCorrMaskLeft (9) | 0.342993 |
CircGradBasedCorrMaskLeft | 0.443793 |
CircGradBasedCorrMaskMidpoint | +50 |
CircGradBasedCorrMaskRight (1) | 0.527344 |
CircGradBasedCorrMaskRight (10) | 0.370128 |
CircGradBasedCorrMaskRight (11) | 0.587627 |
CircGradBasedCorrMaskRight (12) | 0.598072 |
CircGradBasedCorrMaskRight (13) | 0.610414 |
CircGradBasedCorrMaskRight (14) | 0.490214 |
CircGradBasedCorrMaskRight (15) | 0.703456 |
CircGradBasedCorrMaskRight (16) | 0.260563 |
CircGradBasedCorrMaskRight (17) | 0.520814 |
CircGradBasedCorrMaskRight (18) | 0.497933 |
CircGradBasedCorrMaskRight (2) | 0.440952 |
CircGradBasedCorrMaskRight (3) | 0.581807 |
CircGradBasedCorrMaskRight (4) | 0.716062 |
CircGradBasedCorrMaskRight (5) | 0.275635 |
CircGradBasedCorrMaskRight (6) | 0.795424 |
CircGradBasedCorrMaskRight (7) | 0.618208 |
CircGradBasedCorrMaskRight (8) | 0.347634 |
CircGradBasedCorrMaskRight (9) | 0.359982 |
CircGradBasedCorrMaskRight | 0.501299 |
CircGradBasedCorrMaskRoundness | 0 |
CircGradBasedCorrMaskTop (1) | 0.013505 |
CircGradBasedCorrMaskTop (10) | 0.832842 |
CircGradBasedCorrMaskTop (11) | 0.834091 |
CircGradBasedCorrMaskTop (12) | 0.817544 |
CircGradBasedCorrMaskTop (13) | 0.830052 |
CircGradBasedCorrMaskTop (14) | 0.229403 |
CircGradBasedCorrMaskTop (15) | 0.669969 |
CircGradBasedCorrMaskTop (16) | 0.689643 |
CircGradBasedCorrMaskTop (17) | 0.662520 |
CircGradBasedCorrMaskTop (18) | 0.081922 |
CircGradBasedCorrMaskTop (2) | 0.567746 |
CircGradBasedCorrMaskTop (3) | 0.569548 |
CircGradBasedCorrMaskTop (4) | 0.486379 |
CircGradBasedCorrMaskTop (5) | 0.530585 |
CircGradBasedCorrMaskTop (6) | 0.708237 |
CircGradBasedCorrMaskTop (7) | 0.453158 |
CircGradBasedCorrMaskTop (8) | 0.830270 |
CircGradBasedCorrMaskTop (9) | 0.821086 |
CircGradBasedCorrMaskTop | 0.845070 |
CircGradBasedCorrMaskValue | 1.000000 |
CircGradBasedCorrMaskVersion | +2 |
CircGradBasedCorrMoire | 0.000000 |
CircGradBasedCorrSaturation | 0.000000 |
CircGradBasedCorrShadows2012 (4) | 0.000000 |
CircGradBasedCorrShadows2012 | 0.136377 |
CircGradBasedCorrSharpness | 0.000000 |
CircGradBasedCorrTemperature (12) | 1.000000 |
CircGradBasedCorrTemperature (15) | 0.547254 |
CircGradBasedCorrTemperature (18) | 0.805143 |
CircGradBasedCorrTemperature (7) | 0.000000 |
CircGradBasedCorrTemperature | 0.303967 |
CircGradBasedCorrTint | 0.000000 |
CircGradBasedCorrWhat | Correction |
CircleOfConfusion | 0.030 mm |
Clarity2012 | 0 |
ColorComponents | 3 |
ColorMode | RGB |
ColorNoiseReduction | 25 |
ColorNoiseReductionDetail | 50 |
ColorNoiseReductionSmoothness | 50 |
ColorSpace | Uncalibrated |
ColorTemperature | 5600 |
ColorTransform | YCbCr |
Contrast | Normal |
Contrast2012 | 0 |
ConvertToGrayscale | False |
Copyright | 2018 GAUTE FORBERGSKOG |
CopyrightNotice | 2018 GAUTE FORBERGSKOG |
CreateDate | 2018:08:10 16:33:03 |
Creator | GAUTE FORBERGSKOG |
CreatorTool | NIKON D850 Ver.1.01 |
CropAngle | 0 |
CropBottom | 1 |
CropConstrainToWarp | 0 |
CropLeft | 0 |
CropRight | 1 |
CropTop | 0 |
CustomRendered | Normal |
DateCreated (1) | 2018:08:10 |
DateCreated | 2018:08:10 16:33:03.091 |
DateTimeOriginal | 2018:08:10 16:33:03 |
DefringeGreenAmount | 0 |
DefringeGreenHueHi | 60 |
DefringeGreenHueLo | 40 |
DefringePurpleAmount | 0 |
DefringePurpleHueHi | 70 |
DefringePurpleHueLo | 30 |
Dehaze | 0 |
DOF | inf (6.85 m - inf) |
ExifImageHeight | 1897 |
ExifImageWidth | 2190 |
Exposure2012 | -0.50 |
ExposureCompensation | 0 |
ExposureMode | Manual |
ExposureProgram | Manual |
ExposureTime | 1/400 |
Flash | No Flash |
FNumber | 2.8 |
FocalLength | 24.0 mm |
FocalLengthIn35mmFormat | 24 mm |
Format | image/jpeg |
FOV | 73.7 deg |
GainControl | None |
GrainAmount | 0 |
GreenHue | 0 |
GreenSaturation | 0 |
HasCrop | True |
HasSettings | True |
Highlights2012 | -75 |
HueAdjustmentAqua | -2 |
HueAdjustmentBlue | +7 |
HueAdjustmentGreen | +4 |
HueAdjustmentMagenta | 0 |
HueAdjustmentOrange | +10 |
HueAdjustmentPurple | 0 |
HueAdjustmentRed | 0 |
HueAdjustmentYellow | +12 |
HyperfocalDistance | 6.85 m |
ICCProfileName | Adobe RGB (1998) |
ImageHeight | 1897 |
ImageNumber | 4535 |
ImageSize | 2190x1897 |
ImageWidth | 2190 |
ISO | 64 |
Keywords | 2018, London, by, ferie, reise |
Label | |
Lens | 24.0-70.0 mm f/2.8 |
LensID (1) | 170 |
LensID | AF-S Nikkor 24-70mm f/2.8E ED VR |
LensInfo | 24-70mm f/2.8 |
LensManualDistortionAmount | 0 |
LensModel | 24.0-70.0 mm f/2.8 |
LensProfileEnable | 0 |
LensProfileSetup | LensDefaults |
LightSource | Unknown |
LightValue | 12.3 |
LookAmount | 1.000000 |
LookGroup | Profiles |
LookName | Adobe Color |
LookParametersCameraProfile | Adobe Standard |
LookParametersConvertToGrayscale | False |
LookParametersLookTable | E1095149FDB39D7A057BAB208837E2E1 |
LookParametersProcessVersion | 10.0 |
LookParametersToneCurvePV2012 | 0, 0, 22, 16, 40, 35, 127, 127, 224, 230, 240, 246, 255, 255 |
LookParametersToneCurvePV2012Blue | 0, 0, 255, 255 |
LookParametersToneCurvePV2012Green | 0, 0, 255, 255 |
LookParametersToneCurvePV2012Red | 0, 0, 255, 255 |
LookParametersVersion | 10.5 |
LookSupportsAmount | false |
LookSupportsMonochrome | false |
LookSupportsOutputReferred | false |
LuminanceAdjustmentAqua | -17 |
LuminanceAdjustmentBlue | -28 |
LuminanceAdjustmentGreen | -30 |
LuminanceAdjustmentMagenta | -14 |
LuminanceAdjustmentOrange | +20 |
LuminanceAdjustmentPurple | -15 |
LuminanceAdjustmentRed | -44 |
LuminanceAdjustmentYellow | +24 |
LuminanceNoiseReductionContrast | 0 |
LuminanceNoiseReductionDetail | 50 |
LuminanceSmoothing | 19 |
Make | NIKON CORPORATION |
MaxApertureValue | 2.8 |
Megapixels | 4.2 |
MeteringMode | Multi-segment |
Model | NIKON D850 |
ModifyDate (1) | 2018:09:27 14:01:49+02:00 |
ModifyDate | 2018:09:27 14:01:49 |
Orientation | Horizontal (normal) |
OverrideLookVignette | False |
PaintCorrectionActive | true |
PaintCorrectionAmount | 1.000000 |
PaintCorrectionBrightness | 0.000000 |
PaintCorrectionClarity | 0.000000 |
PaintCorrectionClarity2012 (1) | 1.000000 |
PaintCorrectionClarity2012 (3) | 0.000000 |
PaintCorrectionClarity2012 | 0.237409 |
PaintCorrectionContrast | 0.000000 |
PaintCorrectionContrast2012 (1) | 0.427222 |
PaintCorrectionContrast2012 (2) | 0.000000 |
PaintCorrectionContrast2012 | 0.236044 |
PaintCorrectionCorrectionRangeMaskType | 0 |
PaintCorrectionDefringe | 0.000000 |
PaintCorrectionExposure | 0.000000 |
PaintCorrectionExposure2012 (3) | 0.112030 |
PaintCorrectionExposure2012 | 0.000000 |
PaintCorrectionHighlights2012 | 0.000000 |
PaintCorrectionHue | 0.000000 |
PaintCorrectionLocalBlacks2012 | -0.028519 |
PaintCorrectionLocalDehaze | 0.000000 |
PaintCorrectionLocalWhites2012 | 1.000000 |
PaintCorrectionLuminanceNoise | 0.000000 |
PaintCorrectionMaskCenterWeight | 0.000000 |
PaintCorrectionMaskFlow | 1.000000 |
PaintCorrectionMaskRadius (1) | 0.056242 |
PaintCorrectionMaskRadius (13) | 0.018398 |
PaintCorrectionMaskRadius (14) | 0.003948 |
PaintCorrectionMaskRadius (2) | 0.008258 |
PaintCorrectionMaskRadius (20) | 0.009818 |
PaintCorrectionMaskRadius (25) | 0.003167 |
PaintCorrectionMaskRadius (28) | 0.004744 |
PaintCorrectionMaskRadius (30) | 0.012549 |
PaintCorrectionMaskRadius (34) | 0.014180 |
PaintCorrectionMaskRadius (37) | 0.021239 |
PaintCorrectionMaskRadius (39) | 0.112546 |
PaintCorrectionMaskRadius (40) | 0.009793 |
PaintCorrectionMaskRadius (41) | 0.009837 |
PaintCorrectionMaskRadius (42) | 0.006991 |
PaintCorrectionMaskRadius (43) | 0.006987 |
PaintCorrectionMaskRadius (44) | 0.004203 |
PaintCorrectionMaskRadius (45) | 0.004258 |
PaintCorrectionMaskRadius (46) | 0.006960 |
PaintCorrectionMaskRadius (47) | 0.005607 |
PaintCorrectionMaskRadius (48) | 0.005580 |
PaintCorrectionMaskRadius (49) | 0.021427 |
PaintCorrectionMaskRadius (50) | 0.024909 |
PaintCorrectionMaskRadius (51) | 0.018831 |
PaintCorrectionMaskRadius (52) | 0.018823 |
PaintCorrectionMaskRadius (53) | 0.019030 |
PaintCorrectionMaskRadius (54) | 0.013115 |
PaintCorrectionMaskRadius (9) | 0.011624 |
PaintCorrectionMaskRadius | 0.019121 |
PaintCorrectionMaskValue (5) | 0.000000 |
PaintCorrectionMaskValue | 0.652344 |
PaintCorrectionMaskWhat | Mask/Paint |
PaintCorrectionMoire | 0.000000 |
PaintCorrectionSaturation (1) | -0.238281 |
PaintCorrectionSaturation | 0.000000 |
PaintCorrectionShadows2012 (1) | -0.482555 |
PaintCorrectionShadows2012 (3) | 0.194326 |
PaintCorrectionShadows2012 | 0.000000 |
PaintCorrectionSharpness | 0.000000 |
PaintCorrectionTemperature (1) | 0.227018 |
PaintCorrectionTemperature (2) | -0.271503 |
PaintCorrectionTemperature | 0.000000 |
PaintCorrectionTint | 0.000000 |
PaintCorrectionWhat | Correction |
ParametricDarks | 0 |
ParametricHighlights | 0 |
ParametricHighlightSplit | 75 |
ParametricLights | 0 |
ParametricMidtoneSplit | 50 |
ParametricShadows | 0 |
ParametricShadowSplit | 25 |
PerspectiveAspect | 0 |
PerspectiveHorizontal | 0 |
PerspectiveRotate | 0.0 |
PerspectiveScale | 100 |
PerspectiveUpright | 0 |
PerspectiveVertical | -8 |
PerspectiveX | 0.00 |
PerspectiveY | 0.00 |
PostCropVignetteAmount | -8 |
PostCropVignetteFeather | 50 |
PostCropVignetteHighlightContrast | 0 |
PostCropVignetteMidpoint | 50 |
PostCropVignetteRoundness | 0 |
PostCropVignetteStyle | 1 |
ProcessVersion | 10.0 |
ProfileDescription | Adobe RGB (1998) |
Rating | 0 |
RawFileName | _8504252.NEF |
RecommendedExposureIndex | 64 |
RedHue | 0 |
RedSaturation | 0 |
Rights | 2018 GAUTE FORBERGSKOG |
Saturation (1) | -16 |
Saturation | Normal |
SaturationAdjustmentAqua | -7 |
SaturationAdjustmentBlue | +25 |
SaturationAdjustmentGreen | -14 |
SaturationAdjustmentMagenta | -6 |
SaturationAdjustmentOrange | +10 |
SaturationAdjustmentPurple | -7 |
SaturationAdjustmentRed | -27 |
SaturationAdjustmentYellow | +11 |
ScaleFactor35efl | 1.0 |
SceneCaptureType | Standard |
SceneType | Directly photographed |
SensingMethod | One-chip color area |
SensitivityType | Recommended Exposure Index |
SerialNumber | 6023637 |
Shadows2012 | +78 |
ShadowTint | 0 |
SharpenDetail | 25 |
SharpenEdgeMasking | 100 |
SharpenRadius | +1.0 |
Sharpness (1) | 40 |
Sharpness | Normal |
ShutterSpeed | 1/400 |
ShutterSpeedValue | 1/400 |
SplitToningBalance | 0 |
SplitToningHighlightHue | 0 |
SplitToningHighlightSaturation | 0 |
SplitToningShadowHue | 0 |
SplitToningShadowSaturation | 0 |
Subject | 2018, London, by, ferie, reise |
SubjectDistanceRange | Unknown |
Tint | +1 |
ToneCurve | 0, 0, 32, 22, 64, 56, 128, 128, 192, 196, 255, 255 |
ToneCurveBlue | 0, 0, 255, 255 |
ToneCurveGreen | 0, 0, 255, 255 |
ToneCurveName | Medium Contrast |
ToneCurveName2012 | Linear |
ToneCurvePV2012 | 0, 0, 255, 255 |
ToneCurvePV2012Blue | 0, 0, 255, 255 |
ToneCurvePV2012Green | 0, 0, 255, 255 |
ToneCurvePV2012Red | 0, 0, 255, 255 |
ToneCurveRed | 0, 0, 255, 255 |
ToneMapStrength | 0 |
URL_List | |
Version | 10.5 |
Vibrance | +15 |
VignetteAmount | 0 |
WhiteBalance (1) | As Shot |
WhiteBalance | Auto |
Whites2012 | 0 |