Felt | Verdi |
AlreadyApplied | True |
Aperture | 11.0 |
ApertureValue | 11.0 |
Artist | Steinskog photo |
AutoLateralCA | 1 |
BitsPerSample | 8 |
Blacks2012 | -13 |
BlueHue | 0 |
BlueSaturation | 0 |
BrightnessValue | 6.93 |
By-line | Steinskog photo |
CameraProfile | Camera CLASSIC CHROME |
CircGradBasedCorrActive | true |
CircGradBasedCorrAmount | 1.000000 |
CircGradBasedCorrBrightness | 0.000000 |
CircGradBasedCorrClarity2012 (1) | 0.184832 |
CircGradBasedCorrClarity2012 (2) | 0.178068 |
CircGradBasedCorrClarity2012 (3) | 0.153678 |
CircGradBasedCorrClarity2012 (5) | 0.000000 |
CircGradBasedCorrClarity2012 | 0.088796 |
CircGradBasedCorrContrast2012 | 0.000000 |
CircGradBasedCorrCorrectionRangeMaskDepthMax | 1.000000 |
CircGradBasedCorrCorrectionRangeMaskDepthMin | 0.000000 |
CircGradBasedCorrCorrectionRangeMaskLumMax | 1.000000 |
CircGradBasedCorrCorrectionRangeMaskLumMin | 0.000000 |
CircGradBasedCorrCorrectionRangeMaskType | 0 |
CircGradBasedCorrCorrectionRangeMaskVersion | +2 |
CircGradBasedCorrDefringe | 0.000000 |
CircGradBasedCorrExposure2012 (1) | 0.085461 |
CircGradBasedCorrExposure2012 (2) | 0.097656 |
CircGradBasedCorrExposure2012 (3) | 0.139482 |
CircGradBasedCorrExposure2012 (4) | 0.120236 |
CircGradBasedCorrExposure2012 (5) | 0.095941 |
CircGradBasedCorrExposure2012 | 0.123666 |
CircGradBasedCorrHighlights2012 (2) | 0.204268 |
CircGradBasedCorrHighlights2012 (3) | 0.465320 |
CircGradBasedCorrHighlights2012 (4) | 0.399867 |
CircGradBasedCorrHighlights2012 (5) | 0.362519 |
CircGradBasedCorrHighlights2012 | 0.000000 |
CircGradBasedCorrHue | 294.921997 |
CircGradBasedCorrLocalBlacks2012 | 0.000000 |
CircGradBasedCorrLocalDehaze | 0.000000 |
CircGradBasedCorrLocalWhites2012 | 0.000000 |
CircGradBasedCorrLuminanceNoise | 0.000000 |
CircGradBasedCorrMaskAngle (1) | -12.975500 |
CircGradBasedCorrMaskAngle | 0.000000 |
CircGradBasedCorrMaskBottom (1) | 0.639757 |
CircGradBasedCorrMaskBottom (2) | 0.623144 |
CircGradBasedCorrMaskBottom (3) | 0.575236 |
CircGradBasedCorrMaskBottom (4) | 0.529015 |
CircGradBasedCorrMaskBottom (5) | 0.517244 |
CircGradBasedCorrMaskBottom | 0.755522 |
CircGradBasedCorrMaskFeather (5) | +50 |
CircGradBasedCorrMaskFeather | +100 |
CircGradBasedCorrMaskFlipped | true |
CircGradBasedCorrMaskLeft (1) | 0.300714 |
CircGradBasedCorrMaskLeft (2) | 0.163939 |
CircGradBasedCorrMaskLeft (3) | 0.458961 |
CircGradBasedCorrMaskLeft (4) | 0.306287 |
CircGradBasedCorrMaskLeft (5) | 0.774878 |
CircGradBasedCorrMaskLeft | 0.143247 |
CircGradBasedCorrMaskMidpoint | +50 |
CircGradBasedCorrMaskRight (1) | 0.664466 |
CircGradBasedCorrMaskRight (2) | 0.400878 |
CircGradBasedCorrMaskRight (3) | 0.698094 |
CircGradBasedCorrMaskRight (4) | 0.485062 |
CircGradBasedCorrMaskRight (5) | 1.042250 |
CircGradBasedCorrMaskRight | 0.823595 |
CircGradBasedCorrMaskRoundness | 0 |
CircGradBasedCorrMaskTop (1) | 0.604576 |
CircGradBasedCorrMaskTop (2) | 0.495078 |
CircGradBasedCorrMaskTop (3) | 0.442315 |
CircGradBasedCorrMaskTop (4) | 0.427470 |
CircGradBasedCorrMaskTop (5) | 0.369471 |
CircGradBasedCorrMaskTop | 0.320456 |
CircGradBasedCorrMaskValue | 1.000000 |
CircGradBasedCorrMaskVersion | +2 |
CircGradBasedCorrMaskWhat | Mask/CircularGradient |
CircGradBasedCorrMoire | 0.000000 |
CircGradBasedCorrSaturation | 0.000000 |
CircGradBasedCorrShadows2012 (1) | 0.299543 |
CircGradBasedCorrShadows2012 (2) | 0.324219 |
CircGradBasedCorrShadows2012 | 0.000000 |
CircGradBasedCorrSharpness | 0.000000 |
CircGradBasedCorrTemperature | 0.000000 |
CircGradBasedCorrTint | 0.000000 |
CircGradBasedCorrWhat | Correction |
CircleOfConfusion | 0.038 mm |
Clarity2012 | 0 |
ColorComponents | 3 |
ColorNoiseReduction | 25 |
ColorNoiseReductionDetail | 50 |
ColorNoiseReductionSmoothness | 50 |
ColorSpace | sRGB |
ColorTemperature | 5150 |
ColorTransform | YCbCr |
Contrast2012 | 0 |
ConvertToGrayscale | False |
Copyright | Øyvind Samdal Steinskog |
CopyrightFlag | True |
CopyrightNotice | Øyvind Samdal Steinskog |
CreateDate | 2019:02:25 14:08:19 |
Creator | Steinskog photo |
CropAngle | 0 |
CropBottom | 0.746124 |
CropConstrainToWarp | 0 |
CropLeft | 0 |
CropRight | 1 |
CropTop | 0.253876 |
CustomRendered | Normal |
DateCreated (1) | 2019:02:25 |
DateCreated | 2019:02:25 14:08:19 |
DateTimeOriginal | 2019:02:25 14:08:19 |
DefringeGreenAmount | 0 |
DefringeGreenHueHi | 60 |
DefringeGreenHueLo | 40 |
DefringePurpleAmount | 0 |
DefringePurpleHueHi | 70 |
DefringePurpleHueLo | 30 |
Dehaze | 0 |
DistortionCorrectionAlreadyApplied | True |
Exposure2012 | +0.25 |
ExposureCompensation | 0 |
ExposureMode | Manual |
ExposureProgram | Manual |
ExposureTime | 1/160 |
Flash | No Flash |
FNumber | 11.0 |
FocalLength | 44.0 mm |
FocalLength35efl | 44.0 mm (35 mm equivalent: 35.0 mm) |
FocalLengthIn35mmFormat | 35 mm |
Format | image/jpeg |
FOV | 54.4 deg |
GradientBasedCorrActive | true |
GradientBasedCorrAmount | 1.000000 |
GradientBasedCorrBrightness | 0.000000 |
GradientBasedCorrClarity2012 | 0.000000 |
GradientBasedCorrContrast2012 | 0.000000 |
GradientBasedCorrCorrectionRangeMaskDepthMax | 1.000000 |
GradientBasedCorrCorrectionRangeMaskDepthMin | 0.000000 |
GradientBasedCorrCorrectionRangeMaskLumMax | 1.000000 |
GradientBasedCorrCorrectionRangeMaskLumMin | 0.000000 |
GradientBasedCorrCorrectionRangeMaskType | 0 |
GradientBasedCorrCorrectionRangeMaskVersion | +2 |
GradientBasedCorrDefringe | 0.000000 |
GradientBasedCorrExposure2012 | -0.031441 |
GradientBasedCorrHighlights2012 | 0.000000 |
GradientBasedCorrHue | 294.921997 |
GradientBasedCorrLocalBlacks2012 | 0.000000 |
GradientBasedCorrLocalDehaze | 0.000000 |
GradientBasedCorrLocalWhites2012 | 0.000000 |
GradientBasedCorrLuminanceNoise | 0.000000 |
GradientBasedCorrMaskFullX | 0.496677 |
GradientBasedCorrMaskFullY | 0.274306 |
GradientBasedCorrMaskValue | 1.000000 |
GradientBasedCorrMaskWhat | Mask/Gradient |
GradientBasedCorrMaskZeroX | 0.496538 |
GradientBasedCorrMaskZeroY | 0.409588 |
GradientBasedCorrMoire | 0.000000 |
GradientBasedCorrSaturation | 0.000000 |
GradientBasedCorrShadows2012 | 0.000000 |
GradientBasedCorrSharpness | 0.000000 |
GradientBasedCorrTemperature | 0.000000 |
GradientBasedCorrTint | 0.000000 |
GradientBasedCorrWhat | Correction |
GrainAmount | 0 |
GreenHue | 0 |
GreenSaturation | 0 |
HasCrop | True |
HasExtendedXMP | 625BCD884558B4B4A585C2D9E70947ED |
HasSettings | True |
Highlights2012 | -17 |
HueAdjustmentAqua | 0 |
HueAdjustmentBlue | 0 |
HueAdjustmentGreen | 0 |
HueAdjustmentMagenta | 0 |
HueAdjustmentOrange | 0 |
HueAdjustmentPurple | 0 |
HueAdjustmentRed | 0 |
HueAdjustmentYellow | 0 |
HyperfocalDistance | 4.66 m |
ImageHeight | 3048 |
ImageSize | 8256x3048 |
ImageWidth | 8256 |
ISO | 200 |
Keywords | Molde, vinterferie |
Lens | GF32-64mmF4 R LM WR |
LensInfo | 32-64mm f/4 |
LensMake | FUJIFILM |
LensManualDistortionAmount | 0 |
LensModel | GF32-64mmF4 R LM WR |
LensProfileEnable | 0 |
LensProfileSetup | LensDefaults |
LensSerialNumber | 88A00948 |
LightSource | Unknown |
LightValue | 13.2 |
LookName | |
LuminanceAdjustmentAqua | 0 |
LuminanceAdjustmentBlue | 0 |
LuminanceAdjustmentGreen | 0 |
LuminanceAdjustmentMagenta | 0 |
LuminanceAdjustmentOrange | 0 |
LuminanceAdjustmentPurple | 0 |
LuminanceAdjustmentRed | 0 |
LuminanceAdjustmentYellow | 0 |
LuminanceSmoothing | 0 |
Make | FUJIFILM |
Marked | True |
MaxApertureValue | 4.0 |
Megapixels | 25.2 |
MeteringMode | Multi-segment |
Model | GFX 50R |
ModifyDate (1) | 2019:03:18 18:57:51+01:00 |
ModifyDate | 2019:03:18 18:57:51 |
OverrideLookVignette | False |
PaintCorrectionActive | true |
PaintCorrectionAmount | 1.000000 |
PaintCorrectionBrightness | 0.000000 |
PaintCorrectionClarity2012 | 0.000000 |
PaintCorrectionContrast2012 | 0.000000 |
PaintCorrectionCorrectionRangeMaskDepthMax | 1.000000 |
PaintCorrectionCorrectionRangeMaskDepthMin | 0.000000 |
PaintCorrectionCorrectionRangeMaskLumFeather | 0.500000 |
PaintCorrectionCorrectionRangeMaskLumMax | 1.000000 |
PaintCorrectionCorrectionRangeMaskLumMin | 0.000000 |
PaintCorrectionCorrectionRangeMaskType | 0 |
PaintCorrectionCorrectionRangeMaskVersion | +2 |
PaintCorrectionDefringe | 0.000000 |
PaintCorrectionExposure2012 (1) | 0.087176 |
PaintCorrectionExposure2012 (3) | -0.040015 |
PaintCorrectionExposure2012 (4) | 0.170541 |
PaintCorrectionExposure2012 (5) | 0.024295 |
PaintCorrectionExposure2012 (6) | 0.106040 |
PaintCorrectionExposure2012 (7) | -0.059451 |
PaintCorrectionExposure2012 | -0.501334 |
PaintCorrectionHighlights2012 (6) | 0.371951 |
PaintCorrectionHighlights2012 | 0.000000 |
PaintCorrectionHue | 294.921997 |
PaintCorrectionLocalBlacks2012 | 0.000000 |
PaintCorrectionLocalDehaze | 0.000000 |
PaintCorrectionLocalWhites2012 (3) | 0.546494 |
PaintCorrectionLocalWhites2012 | 0.000000 |
PaintCorrectionLuminanceNoise | 0.000000 |
PaintCorrectionMaskCenterWeight | 0.000000 |
PaintCorrectionMaskFlow (1) | 0.157269 |
PaintCorrectionMaskFlow (10) | 0.021942 |
PaintCorrectionMaskFlow (11) | 0.122451 |
PaintCorrectionMaskFlow (12) | 0.169872 |
PaintCorrectionMaskFlow (13) | 0.121311 |
PaintCorrectionMaskFlow (14) | 0.120550 |
PaintCorrectionMaskFlow (15) | 0.143995 |
PaintCorrectionMaskFlow (16) | 0.139612 |
PaintCorrectionMaskFlow (17) | 0.182808 |
PaintCorrectionMaskFlow (19) | 0.166041 |
PaintCorrectionMaskFlow (2) | 0.160797 |
PaintCorrectionMaskFlow (20) | 0.223979 |
PaintCorrectionMaskFlow (21) | 0.184820 |
PaintCorrectionMaskFlow (22) | 0.110138 |
PaintCorrectionMaskFlow (23) | 0.009909 |
PaintCorrectionMaskFlow (24) | 0.149779 |
PaintCorrectionMaskFlow (25) | 0.062994 |
PaintCorrectionMaskFlow (26) | 0.172968 |
PaintCorrectionMaskFlow (27) | 0.091944 |
PaintCorrectionMaskFlow (28) | 0.117494 |
PaintCorrectionMaskFlow (29) | 0.193109 |
PaintCorrectionMaskFlow (3) | 0.050065 |
PaintCorrectionMaskFlow (30) | 0.135561 |
PaintCorrectionMaskFlow (31) | 0.160445 |
PaintCorrectionMaskFlow (32) | 0.119788 |
PaintCorrectionMaskFlow (33) | 0.042617 |
PaintCorrectionMaskFlow (34) | 0.113238 |
PaintCorrectionMaskFlow (35) | 0.177743 |
PaintCorrectionMaskFlow (37) | 0.110915 |
PaintCorrectionMaskFlow (38) | 0.169527 |
PaintCorrectionMaskFlow (39) | 0.140712 |
PaintCorrectionMaskFlow (4) | 0.107410 |
PaintCorrectionMaskFlow (40) | 0.199963 |
PaintCorrectionMaskFlow (41) | 0.213712 |
PaintCorrectionMaskFlow (42) | 0.221820 |
PaintCorrectionMaskFlow (43) | 0.072681 |
PaintCorrectionMaskFlow (44) | 0.219340 |
PaintCorrectionMaskFlow (45) | 0.116319 |
PaintCorrectionMaskFlow (46) | 0.114396 |
PaintCorrectionMaskFlow (47) | 0.054400 |
PaintCorrectionMaskFlow (48) | 0.167798 |
PaintCorrectionMaskFlow (5) | 0.056125 |
PaintCorrectionMaskFlow (50) | 0.115551 |
PaintCorrectionMaskFlow (51) | 0.155496 |
PaintCorrectionMaskFlow (52) | 0.084649 |
PaintCorrectionMaskFlow (53) | 0.138143 |
PaintCorrectionMaskFlow (54) | 0.065961 |
PaintCorrectionMaskFlow (55) | 0.085057 |
PaintCorrectionMaskFlow (56) | 0.134080 |
PaintCorrectionMaskFlow (57) | 0.094754 |
PaintCorrectionMaskFlow (58) | 0.195405 |
PaintCorrectionMaskFlow (59) | 0.294733 |
PaintCorrectionMaskFlow (6) | 0.039963 |
PaintCorrectionMaskFlow (60) | 0.257214 |
PaintCorrectionMaskFlow (61) | 0.174337 |
PaintCorrectionMaskFlow (62) | 0.058701 |
PaintCorrectionMaskFlow (7) | 0.038187 |
PaintCorrectionMaskFlow (8) | 0.155141 |
PaintCorrectionMaskFlow (9) | 0.001901 |
PaintCorrectionMaskFlow | 0.526085 |
PaintCorrectionMaskRadius (10) | 0.021568 |
PaintCorrectionMaskRadius (61) | 0.069968 |
PaintCorrectionMaskRadius | 0.006899 |
PaintCorrectionMaskValue | 1.000000 |
PaintCorrectionMaskWhat | Mask/Paint |
PaintCorrectionMoire | 0.000000 |
PaintCorrectionSaturation (9) | 0.514482 |
PaintCorrectionSaturation | 0.000000 |
PaintCorrectionShadows2012 (7) | -0.178068 |
PaintCorrectionShadows2012 | 0.000000 |
PaintCorrectionSharpness | 0.000000 |
PaintCorrectionTemperature | 0.000000 |
PaintCorrectionTint | 0.000000 |
PaintCorrectionWhat | Correction |
ParametricDarks | 0 |
ParametricHighlights | 0 |
ParametricHighlightSplit | 75 |
ParametricLights | 0 |
ParametricMidtoneSplit | 50 |
ParametricShadows | 0 |
ParametricShadowSplit | 25 |
PerspectiveAspect | 0 |
PerspectiveHorizontal | 0 |
PerspectiveRotate | 0.0 |
PerspectiveScale | 100 |
PerspectiveUpright | 0 |
PerspectiveVertical | 0 |
PerspectiveX | 0.00 |
PerspectiveY | 0.00 |
PostCropVignetteAmount | 0 |
ProcessVersion | 11.0 |
ProfileDescription | sRGB IEC61966-2.1 |
Rating | 4 |
RawFileName | 190225_Moldetur_116.RAF |
RedHue | 0 |
RedSaturation | 0 |
Rights | Øyvind Samdal Steinskog |
Saturation | 0 |
SaturationAdjustmentAqua | 0 |
SaturationAdjustmentBlue | 0 |
SaturationAdjustmentGreen | 0 |
SaturationAdjustmentMagenta | 0 |
SaturationAdjustmentOrange | 0 |
SaturationAdjustmentPurple | 0 |
SaturationAdjustmentRed | 0 |
SaturationAdjustmentYellow | 0 |
ScaleFactor35efl | 0.8 |
SceneCaptureType | Standard |
SceneType | Directly photographed |
SensingMethod | One-chip color area |
SensitivityType | Standard Output Sensitivity |
SerialNumber | 84053934 |
Shadows2012 | +18 |
ShadowTint | 0 |
SharpenDetail | 25 |
SharpenEdgeMasking | 0 |
SharpenRadius | +1.0 |
Sharpness (1) | 15 |
Sharpness | Normal |
ShutterSpeed | 1/160 |
ShutterSpeedValue | 1/160 |
SplitToningBalance | 0 |
SplitToningHighlightHue | 0 |
SplitToningHighlightSaturation | 0 |
SplitToningShadowHue | 0 |
SplitToningShadowSaturation | 0 |
StandardOutputSensitivity | 200 |
Subject | Molde, vinterferie |
SubjectDistanceRange | Unknown |
Tint | +17 |
ToneCurve | 0, 0, 255, 255 |
ToneCurveBlue | 0, 0, 255, 255 |
ToneCurveGreen | 0, 0, 255, 255 |
ToneCurveName | Linear |
ToneCurveName2012 | Medium Contrast |
ToneCurvePV2012 | 0, 0, 32, 22, 64, 56, 128, 128, 192, 196, 255, 255 |
ToneCurvePV2012Blue | 0, 0, 255, 255 |
ToneCurvePV2012Green | 0, 0, 255, 255 |
ToneCurvePV2012Red | 0, 0, 255, 255 |
ToneCurveRed | 0, 0, 255, 255 |
ToneMapStrength | 0 |
Version | 11.2 |
Vibrance | +10 |
VignetteAmount | 0 |
VignetteCorrectionAlreadyApplied | True |
WhiteBalance (1) | As Shot |
WhiteBalance | Auto |
Whites2012 | +13 |