Felt | Verdi |
AlreadyApplied | True |
Aperture | 5.6 |
ApertureValue | 5.6 |
AutoLateralCA | 1 |
BitsPerSample | 8 |
Blacks2012 | 0 |
BlueHue | 0 |
BlueSaturation | 0 |
BrightnessValue | 8.07578125 |
CameraProfile | Adobe Standard |
CircleOfConfusion | 0.030 mm |
Clarity2012 | +14 |
ColorComponents | 3 |
ColorMode | RGB |
ColorNoiseReduction | 25 |
ColorNoiseReductionDetail | 50 |
ColorNoiseReductionSmoothness | 50 |
ColorSpace | Uncalibrated |
ColorTemperature | 5900 |
ColorTransform | YCbCr |
Contrast | Normal |
Contrast2012 | 0 |
ConvertToGrayscale | False |
CreateDate | 2019:03:13 18:18:13 |
CreatorTool | ILCE-7M3 v2.00 |
CropAngle | -0.041914 |
CropBottom | 0.998904 |
CropConstrainToWarp | 1 |
CropHeight | 3 |
CropLeft | 0.000304 |
CropRight | 0.999696 |
CropTop | 0.001096 |
CropUnit | Unknown (3) |
CropWidth | 2 |
CustomRendered | Normal |
DateCreated (1) | 2019:03:13 |
DateCreated | 2019:03:13 18:18:13 |
DateTimeOriginal | 2019:03:13 18:18:13 |
DefringeGreenAmount | 0 |
DefringeGreenHueHi | 60 |
DefringeGreenHueLo | 40 |
DefringePurpleAmount | 0 |
DefringePurpleHueHi | 70 |
DefringePurpleHueLo | 30 |
Dehaze | +18 |
DigitalZoomRatio | 1 |
DistortionCorrectionAlreadyApplied | True |
ExifImageHeight | 3995 |
ExifImageWidth | 5993 |
Exposure2012 | -1.50 |
ExposureCompensation | 0 |
ExposureMode | Manual |
ExposureProgram | Manual |
ExposureTime | 1/400 |
Flash | Off, Did not fire |
FNumber | 5.6 |
FocalLength | 300.0 mm |
FocalLength35efl | 300.0 mm (35 mm equivalent: 300.0 mm) |
FocalLengthIn35mmFormat | 300 mm |
Format | image/jpeg |
FOV | 6.9 deg |
GrainAmount | 0 |
GreenHue | 0 |
GreenSaturation | 0 |
HasCrop | True |
HasSettings | True |
Highlights2012 | -20 |
HueAdjustmentAqua | +20 |
HueAdjustmentBlue | 0 |
HueAdjustmentGreen | 0 |
HueAdjustmentMagenta | 0 |
HueAdjustmentOrange | 0 |
HueAdjustmentPurple | 0 |
HueAdjustmentRed | 0 |
HueAdjustmentYellow | 0 |
HyperfocalDistance | 534.89 m |
ICCProfileName | Adobe RGB (1998) |
ImageHeight | 3995 |
ImageSize | 5993x3995 |
ImageWidth | 5993 |
ISO | 1000 |
LateralChromaticAberrationCorrectionAlreadyApplied | True |
Lens | FE 70-300mm F4.5-5.6 G OSS |
LensDistortInfo | 1059934795/1073741824 24474239/1073741824 -4829493/1073741824 -5962473/1073741824 |
LensInfo | 70-300mm f/4.5-5.6 |
LensManualDistortionAmount | 0 |
LensModel | FE 70-300mm F4.5-5.6 G OSS |
LensProfileChromaticAberrationScale | 100 |
LensProfileDistortionScale | 100 |
LensProfileEnable | 1 |
LensProfileFilename | SONY (Sony FE 70-300mm F4.5-5.6 G OSS) - RAW.lcp |
LensProfileName | Adobe (Sony FE 70-300mm F4.5-5.6 G OSS) |
LensProfileSetup | LensDefaults |
LensProfileVignettingScale | 100 |
LightSource | Unknown |
LightValue | 10.3 |
LookAmount | 1.000000 |
LookCopyright | © 2018 Adobe Systems, Inc. |
LookGroup | Profiles |
LookName | Adobe Color |
LookParametersCameraProfile | Adobe Standard |
LookParametersConvertToGrayscale | False |
LookParametersLookTable | E1095149FDB39D7A057BAB208837E2E1 |
LookParametersProcessVersion | 11.0 |
LookParametersToneCurvePV2012 | 0, 0, 22, 16, 40, 35, 127, 127, 224, 230, 240, 246, 255, 255 |
LookParametersToneCurvePV2012Blue | 0, 0, 255, 255 |
LookParametersToneCurvePV2012Green | 0, 0, 255, 255 |
LookParametersToneCurvePV2012Red | 0, 0, 255, 255 |
LookParametersVersion | 11.2 |
LookSupportsAmount | false |
LookSupportsMonochrome | false |
LookSupportsOutputReferred | false |
LuminanceAdjustmentAqua | 0 |
LuminanceAdjustmentBlue | 0 |
LuminanceAdjustmentGreen | 0 |
LuminanceAdjustmentMagenta | 0 |
LuminanceAdjustmentOrange | 0 |
LuminanceAdjustmentPurple | 0 |
LuminanceAdjustmentRed | 0 |
LuminanceAdjustmentYellow | 0 |
LuminanceNoiseReductionContrast | 0 |
LuminanceNoiseReductionDetail | 50 |
LuminanceSmoothing | 18 |
Make | SONY |
MaxApertureValue | 5.6 |
Megapixels | 23.9 |
MeteringMode | Multi-segment |
Model | ILCE-7M3 |
ModifyDate (1) | 2019:03:13 22:38:50+01:00 |
ModifyDate | 2019:03:13 22:38:50 |
Orientation | Horizontal (normal) |
OverrideLookVignette | False |
ParametricDarks | -6 |
ParametricHighlights | +13 |
ParametricHighlightSplit | 75 |
ParametricLights | +8 |
ParametricMidtoneSplit | 50 |
ParametricShadows | -8 |
ParametricShadowSplit | 25 |
PerspectiveAspect | 0 |
PerspectiveHorizontal | 0 |
PerspectiveRotate | 0.0 |
PerspectiveScale | 100 |
PerspectiveUpright | 0 |
PerspectiveVertical | 0 |
PerspectiveX | 0.00 |
PerspectiveY | 0.00 |
PostCropVignetteAmount | 0 |
ProcessVersion | 11.0 |
ProfileDescription | Adobe RGB (1998) |
Rating | 0 |
RawFileName | DSC02015.ARW |
RecommendedExposureIndex | 1000 |
RedHue | 0 |
RedSaturation | 0 |
Saturation (1) | +60 |
Saturation | Normal |
SaturationAdjustmentAqua | +23 |
SaturationAdjustmentBlue | +36 |
SaturationAdjustmentGreen | 0 |
SaturationAdjustmentMagenta | 0 |
SaturationAdjustmentOrange | +9 |
SaturationAdjustmentPurple | +5 |
SaturationAdjustmentRed | +5 |
SaturationAdjustmentYellow | +1 |
ScaleFactor35efl | 1.0 |
SceneCaptureType | Standard |
SceneType | Directly photographed |
SensitivityType | Recommended Exposure Index |
Shadows2012 | +30 |
ShadowTint | 0 |
SharpenDetail | 25 |
SharpenEdgeMasking | 0 |
SharpenRadius | +1.0 |
Sharpness (1) | 0 |
Sharpness | Normal |
ShutterSpeed | 1/400 |
ShutterSpeedValue | 1/400 |
Software | Adobe Photoshop CC 2018 (Windows) |
SplitToningBalance | 0 |
SplitToningHighlightHue | 0 |
SplitToningHighlightSaturation | 0 |
SplitToningShadowHue | 0 |
SplitToningShadowSaturation | 0 |
Tint | +6 |
ToneCurve | 0, 0, 32, 22, 64, 56, 128, 128, 192, 196, 255, 255 |
ToneCurveBlue | 0, 0, 255, 255 |
ToneCurveGreen | 0, 0, 255, 255 |
ToneCurveName | Medium Contrast |
ToneCurveName2012 | Linear |
ToneCurvePV2012 | 0, 0, 255, 255 |
ToneCurvePV2012Blue | 0, 0, 255, 255 |
ToneCurvePV2012Green | 0, 0, 255, 255 |
ToneCurvePV2012Red | 0, 0, 255, 255 |
ToneCurveRed | 0, 0, 255, 255 |
ToneMapStrength | 0 |
URL_List | |
Version | 11.2 |
Vibrance | +19 |
VignetteAmount | 0 |
VignetteCorrectionAlreadyApplied | True |
WhiteBalance (1) | As Shot |
WhiteBalance | Auto |
Whites2012 | -24 |