Felt | Verdi |
AlreadyApplied | True |
Aperture | 8.0 |
ApertureValue | 8.0 |
ApproximateFocusDistance | 4294967295 |
AutoLateralCA | 1 |
BitsPerSample | 8 |
Blacks2012 | +8 |
BlueHue | 0 |
BlueSaturation | 0 |
CameraProfile | Adobe Standard |
CFAPattern | [Red,Green][Green,Blue] |
CircGradBasedCorrActive | true |
CircGradBasedCorrAmount | 1.000000 |
CircGradBasedCorrBrightness | 0.000000 |
CircGradBasedCorrClarity2012 (2) | -0.042740 |
CircGradBasedCorrClarity2012 | 0.000000 |
CircGradBasedCorrContrast2012 (1) | 0.080000 |
CircGradBasedCorrContrast2012 (2) | 0.120000 |
CircGradBasedCorrContrast2012 (3) | 0.000000 |
CircGradBasedCorrContrast2012 (5) | 0.118550 |
CircGradBasedCorrContrast2012 | 0.111110 |
CircGradBasedCorrCorrectionRangeMaskType | 0 |
CircGradBasedCorrCorrectionRangeMaskVersion | +2 |
CircGradBasedCorrDefringe | 0.000000 |
CircGradBasedCorrExposure2012 (1) | -0.024750 |
CircGradBasedCorrExposure2012 (4) | 0.050000 |
CircGradBasedCorrExposure2012 (5) | 0.100000 |
CircGradBasedCorrExposure2012 | 0.075000 |
CircGradBasedCorrHighlights2012 (1) | -0.049950 |
CircGradBasedCorrHighlights2012 (3) | -0.196580 |
CircGradBasedCorrHighlights2012 | 0.000000 |
CircGradBasedCorrHue | 0.000000 |
CircGradBasedCorrLocalBlacks2012 (1) | -0.059920 |
CircGradBasedCorrLocalBlacks2012 (2) | 0.000000 |
CircGradBasedCorrLocalBlacks2012 (3) | -0.042740 |
CircGradBasedCorrLocalBlacks2012 | -0.039960 |
CircGradBasedCorrLocalDehaze | 0.000000 |
CircGradBasedCorrLocalHue | 0.000000 |
CircGradBasedCorrLocalTexture (2) | 0.000000 |
CircGradBasedCorrLocalTexture (3) | 0.196580 |
CircGradBasedCorrLocalTexture (4) | 0.179490 |
CircGradBasedCorrLocalTexture | 0.050000 |
CircGradBasedCorrLocalWhites2012 (1) | 0.042740 |
CircGradBasedCorrLocalWhites2012 (3) | 0.094020 |
CircGradBasedCorrLocalWhites2012 (4) | 0.000000 |
CircGradBasedCorrLocalWhites2012 | -0.019980 |
CircGradBasedCorrLuminanceNoise (1) | 0.030000 |
CircGradBasedCorrLuminanceNoise (3) | 0.000000 |
CircGradBasedCorrLuminanceNoise (4) | 0.059830 |
CircGradBasedCorrLuminanceNoise (5) | 0.094020 |
CircGradBasedCorrLuminanceNoise | 0.042740 |
CircGradBasedCorrMaskAngle (1) | 0.125230 |
CircGradBasedCorrMaskAngle (4) | 0.000000 |
CircGradBasedCorrMaskAngle (5) | -31.981200 |
CircGradBasedCorrMaskAngle | 13.190700 |
CircGradBasedCorrMaskBottom (1) | 0.947314 |
CircGradBasedCorrMaskBottom (2) | 0.666682 |
CircGradBasedCorrMaskBottom (3) | 0.220089 |
CircGradBasedCorrMaskBottom (4) | 0.616295 |
CircGradBasedCorrMaskBottom (5) | 0.666504 |
CircGradBasedCorrMaskBottom | 0.430900 |
CircGradBasedCorrMaskFeather | +50 |
CircGradBasedCorrMaskFlipped | true |
CircGradBasedCorrMaskLeft (1) | 0.174068 |
CircGradBasedCorrMaskLeft (2) | 0.090878 |
CircGradBasedCorrMaskLeft (3) | 0.400774 |
CircGradBasedCorrMaskLeft (4) | 0.239104 |
CircGradBasedCorrMaskLeft (5) | 0.338307 |
CircGradBasedCorrMaskLeft | 0.475688 |
CircGradBasedCorrMaskMidpoint | +50 |
CircGradBasedCorrMaskRight (1) | 0.689343 |
CircGradBasedCorrMaskRight (2) | 0.193537 |
CircGradBasedCorrMaskRight (3) | 0.438948 |
CircGradBasedCorrMaskRight (4) | 0.372343 |
CircGradBasedCorrMaskRight (5) | 0.465404 |
CircGradBasedCorrMaskRight | 0.584331 |
CircGradBasedCorrMaskRoundness | 0 |
CircGradBasedCorrMaskTop (1) | 0.709484 |
CircGradBasedCorrMaskTop (2) | 0.239792 |
CircGradBasedCorrMaskTop (3) | 0.083733 |
CircGradBasedCorrMaskTop (4) | 0.476649 |
CircGradBasedCorrMaskTop (5) | 0.548438 |
CircGradBasedCorrMaskTop | 0.327461 |
CircGradBasedCorrMaskValue | 1.000000 |
CircGradBasedCorrMaskVersion | +2 |
CircGradBasedCorrMaskWhat | Mask/CircularGradient |
CircGradBasedCorrMoire | 0.000000 |
CircGradBasedCorrSaturation (11) | 0.052740 |
CircGradBasedCorrSaturation (3) | 0.042740 |
CircGradBasedCorrSaturation (7) | 0.059830 |
CircGradBasedCorrSaturation (9) | 0.050000 |
CircGradBasedCorrSaturation | 0.000000 |
CircGradBasedCorrShadows2012 (1) | 0.010000 |
CircGradBasedCorrShadows2012 (3) | 0.000000 |
CircGradBasedCorrShadows2012 (4) | 0.076920 |
CircGradBasedCorrShadows2012 (5) | 0.050000 |
CircGradBasedCorrShadows2012 | 0.162390 |
CircGradBasedCorrSharpness | 0.000000 |
CircGradBasedCorrTemperature (1) | 0.270000 |
CircGradBasedCorrTemperature (2) | 0.094020 |
CircGradBasedCorrTemperature (3) | 0.038550 |
CircGradBasedCorrTemperature (4) | 0.030000 |
CircGradBasedCorrTemperature (5) | 0.076920 |
CircGradBasedCorrTemperature | 0.050000 |
CircGradBasedCorrTint (1) | 0.020000 |
CircGradBasedCorrTint (3) | 0.000000 |
CircGradBasedCorrTint (4) | 0.010000 |
CircGradBasedCorrTint | 0.018550 |
CircGradBasedCorrWhat | Correction |
CircleOfConfusion | 0.020 mm |
Clarity2012 | +5 |
ColorComponents | 3 |
ColorNoiseReduction | 25 |
ColorNoiseReductionDetail | 50 |
ColorNoiseReductionSmoothness | 50 |
ColorSpace | sRGB |
ColorTemperature | 5950 |
ColorTransform | YCbCr |
Contrast | Normal |
Contrast2012 | +9 |
ConvertToGrayscale | False |
CreateDate (1) | 2020:07:25 21:25:38.76 |
CreateDate | 2020:07:25 21:25:38 |
CropAngle | 0 |
CropBottom | 0.994294 |
CropConstrainToWarp | 0 |
CropLeft | 0.009506 |
CropRight | 0.963879 |
CropTop | 0.022824 |
CustomRendered | Normal |
DateCreated (1) | 2020:07:25 |
DateCreated | 2020:07:25 21:25:38.76 |
DateTimeOriginal | 2020:07:25 21:25:38 |
DefringeGreenAmount | 0 |
DefringeGreenHueHi | 60 |
DefringeGreenHueLo | 40 |
DefringePurpleAmount | 0 |
DefringePurpleHueHi | 70 |
DefringePurpleHueLo | 30 |
Dehaze | +10 |
DigitalZoomRatio | 1 |
DistortionCorrectionAlreadyApplied | True |
DOF | inf (2.02 m - inf) |
Exposure2012 | +0.60 |
ExposureCompensation | 0 |
ExposureMode | Manual |
ExposureProgram | Manual |
ExposureTime | 1/30 |
Flash | Off, Did not fire |
FNumber | 8.0 |
FocalLength | 18.0 mm |
FocalLengthIn35mmFormat | 27 mm |
Format | image/jpeg |
FOV | 67.4 deg |
GainControl | None |
GrainAmount | 0 |
GreenHue | 0 |
GreenSaturation | 0 |
HasCrop | True |
HasExtendedXMP | 07198EB13EBCD65E1066A147806D67C1 |
HasSettings | True |
Highlights2012 | -100 |
HueAdjustmentAqua | 0 |
HueAdjustmentBlue | 0 |
HueAdjustmentGreen | 0 |
HueAdjustmentMagenta | 0 |
HueAdjustmentOrange | 0 |
HueAdjustmentPurple | 0 |
HueAdjustmentRed | 0 |
HueAdjustmentYellow | 0 |
HyperfocalDistance | 2.02 m |
ImageHeight | 1200 |
ImageNumber | 34876 |
ImageSize | 1768x1200 |
ImageWidth | 1768 |
ISO | 100 |
Lens | 18.0-35.0 mm f/1.8 |
LensID (1) | 139 |
LensID | Sigma 18-35mm F1.8 DC HSM |
LensInfo | 18-35mm f/1.8 |
LensManualDistortionAmount | 0 |
LensModel | 18.0-35.0 mm f/1.8 |
LensProfileChromaticAberrationScale | 100 |
LensProfileDistortionScale | 100 |
LensProfileEnable | 1 |
LensProfileIsEmbedded | False |
LensProfileSetup | LensDefaults |
LensProfileVignettingScale | 100 |
LightSource | Unknown |
LightValue | 10.9 |
LookName | |
LuminanceAdjustmentAqua | 0 |
LuminanceAdjustmentBlue | 0 |
LuminanceAdjustmentGreen | 0 |
LuminanceAdjustmentMagenta | 0 |
LuminanceAdjustmentOrange | 0 |
LuminanceAdjustmentPurple | 0 |
LuminanceAdjustmentRed | 0 |
LuminanceAdjustmentYellow | 0 |
LuminanceNoiseReductionContrast | 5 |
LuminanceNoiseReductionDetail | 50 |
LuminanceSmoothing | 15 |
Make | NIKON CORPORATION |
MaxApertureValue | 1.7 |
Megapixels | 2.1 |
MeteringMode | Multi-segment |
Model | NIKON D7200 |
ModifyDate (1) | 2020:09:20 16:23:04+02:00 |
ModifyDate | 2020:09:20 16:23:04 |
OverrideLookVignette | True |
PaintCorrectionActive | true |
PaintCorrectionAmount | 1.000000 |
PaintCorrectionBrightness | 0.000000 |
PaintCorrectionClarity2012 | 0.000000 |
PaintCorrectionContrast2012 (1) | 0.080000 |
PaintCorrectionContrast2012 (2) | 0.000000 |
PaintCorrectionContrast2012 (4) | 0.050000 |
PaintCorrectionContrast2012 | 0.060000 |
PaintCorrectionCorrectionRangeMaskDepthMax | 1.000000 |
PaintCorrectionCorrectionRangeMaskDepthMin | 0.000000 |
PaintCorrectionCorrectionRangeMaskLumMax | 1.000000 |
PaintCorrectionCorrectionRangeMaskLumMin | 0.000000 |
PaintCorrectionCorrectionRangeMaskType | 0 |
PaintCorrectionCorrectionRangeMaskVersion | +2 |
PaintCorrectionDefringe | 0.000000 |
PaintCorrectionExposure2012 (2) | 0.000000 |
PaintCorrectionExposure2012 (3) | -0.024750 |
PaintCorrectionExposure2012 | 0.000250 |
PaintCorrectionHighlights2012 (1) | 0.000000 |
PaintCorrectionHighlights2012 (3) | -0.250950 |
PaintCorrectionHighlights2012 (4) | -0.099900 |
PaintCorrectionHighlights2012 (5) | -0.096020 |
PaintCorrectionHighlights2012 | -0.029970 |
PaintCorrectionHue | 0.000000 |
PaintCorrectionLocalBlacks2012 (2) | -0.019980 |
PaintCorrectionLocalBlacks2012 | 0.000000 |
PaintCorrectionLocalDehaze (4) | 0.111110 |
PaintCorrectionLocalDehaze | 0.000000 |
PaintCorrectionLocalHue | 0.000000 |
PaintCorrectionLocalTexture (2) | 0.050000 |
PaintCorrectionLocalTexture | 0.000000 |
PaintCorrectionLocalWhites2012 | 0.000000 |
PaintCorrectionLuminanceNoise (3) | 0.040000 |
PaintCorrectionLuminanceNoise | 0.000000 |
PaintCorrectionMaskCenterWeight | 0.000000 |
PaintCorrectionMaskFlow | 1.000000 |
PaintCorrectionMaskRadius (1) | 0.033441 |
PaintCorrectionMaskRadius (10) | 0.033363 |
PaintCorrectionMaskRadius (11) | 0.033851 |
PaintCorrectionMaskRadius (12) | 0.006117 |
PaintCorrectionMaskRadius (13) | 0.006105 |
PaintCorrectionMaskRadius (14) | 0.006104 |
PaintCorrectionMaskRadius (15) | 0.006119 |
PaintCorrectionMaskRadius (16) | 0.006110 |
PaintCorrectionMaskRadius (17) | 0.006109 |
PaintCorrectionMaskRadius (18) | 0.006118 |
PaintCorrectionMaskRadius (2) | 0.033369 |
PaintCorrectionMaskRadius (22) | 0.006133 |
PaintCorrectionMaskRadius (23) | 0.006132 |
PaintCorrectionMaskRadius (24) | 0.006130 |
PaintCorrectionMaskRadius (27) | 0.006094 |
PaintCorrectionMaskRadius (28) | 0.006085 |
PaintCorrectionMaskRadius (3) | 0.033229 |
PaintCorrectionMaskRadius (31) | 0.006141 |
PaintCorrectionMaskRadius (32) | 0.006155 |
PaintCorrectionMaskRadius (33) | 0.006120 |
PaintCorrectionMaskRadius (35) | 0.006125 |
PaintCorrectionMaskRadius (36) | 0.006137 |
PaintCorrectionMaskRadius (37) | 0.006114 |
PaintCorrectionMaskRadius (39) | 0.006126 |
PaintCorrectionMaskRadius (4) | 0.033162 |
PaintCorrectionMaskRadius (40) | 0.006123 |
PaintCorrectionMaskRadius (41) | 0.006115 |
PaintCorrectionMaskRadius (42) | 0.006103 |
PaintCorrectionMaskRadius (43) | 0.006111 |
PaintCorrectionMaskRadius (44) | 0.006099 |
PaintCorrectionMaskRadius (45) | 0.006242 |
PaintCorrectionMaskRadius (46) | 0.006240 |
PaintCorrectionMaskRadius (49) | 0.006251 |
PaintCorrectionMaskRadius (5) | 0.033171 |
PaintCorrectionMaskRadius (53) | 0.006253 |
PaintCorrectionMaskRadius (54) | 0.006252 |
PaintCorrectionMaskRadius (56) | 0.006238 |
PaintCorrectionMaskRadius (57) | 0.033600 |
PaintCorrectionMaskRadius (58) | 0.033674 |
PaintCorrectionMaskRadius (59) | 0.033677 |
PaintCorrectionMaskRadius (6) | 0.033169 |
PaintCorrectionMaskRadius (60) | 0.033733 |
PaintCorrectionMaskRadius (61) | 0.033081 |
PaintCorrectionMaskRadius (62) | 0.033168 |
PaintCorrectionMaskRadius (63) | 0.033452 |
PaintCorrectionMaskRadius (64) | 0.033587 |
PaintCorrectionMaskRadius (65) | 0.033105 |
PaintCorrectionMaskRadius (66) | 0.033332 |
PaintCorrectionMaskRadius (67) | 0.033390 |
PaintCorrectionMaskRadius (7) | 0.033083 |
PaintCorrectionMaskRadius (8) | 0.033082 |
PaintCorrectionMaskRadius (9) | 0.033110 |
PaintCorrectionMaskRadius | 0.033407 |
PaintCorrectionMaskValue | 1.000000 |
PaintCorrectionMaskWhat | Mask/Paint |
PaintCorrectionMoire | 0.000000 |
PaintCorrectionSaturation (9) | 0.060000 |
PaintCorrectionSaturation | 0.000000 |
PaintCorrectionShadows2012 | 0.000000 |
PaintCorrectionSharpness | 0.000000 |
PaintCorrectionTemperature (1) | 0.179490 |
PaintCorrectionTemperature (2) | 0.220000 |
PaintCorrectionTemperature (3) | 0.000000 |
PaintCorrectionTemperature (4) | 0.159490 |
PaintCorrectionTemperature (5) | 0.060000 |
PaintCorrectionTemperature | 0.145300 |
PaintCorrectionTint | 0.000000 |
PaintCorrectionWhat | Correction |
ParametricDarks | 0 |
ParametricHighlights | 0 |
ParametricHighlightSplit | 75 |
ParametricLights | 0 |
ParametricMidtoneSplit | 50 |
ParametricShadows | 0 |
ParametricShadowSplit | 25 |
PerspectiveAspect | 0 |
PerspectiveHorizontal | 0 |
PerspectiveRotate | 0.0 |
PerspectiveScale | 100 |
PerspectiveUpright | 0 |
PerspectiveVertical | 0 |
PerspectiveX | 0.00 |
PerspectiveY | 0.00 |
PostCropVignetteAmount | -20 |
PostCropVignetteFeather | 66 |
PostCropVignetteHighlightContrast | 0 |
PostCropVignetteMidpoint | 45 |
PostCropVignetteRoundness | +15 |
PostCropVignetteStyle | 1 |
PreservedFileName | DSC_9249.NEF |
ProcessVersion | 11.0 |
ProfileDescription | sRGB IEC61966-2.1 |
RawFileName | DSC_9249.NEF |
RedHue | 0 |
RedSaturation | 0 |
Saturation (1) | +16 |
Saturation | Normal |
SaturationAdjustmentAqua | 0 |
SaturationAdjustmentBlue | 0 |
SaturationAdjustmentGreen | 0 |
SaturationAdjustmentMagenta | 0 |
SaturationAdjustmentOrange | 0 |
SaturationAdjustmentPurple | 0 |
SaturationAdjustmentRed | 0 |
SaturationAdjustmentYellow | 0 |
ScaleFactor35efl | 1.5 |
SceneCaptureType | Standard |
SceneType | Directly photographed |
SensingMethod | One-chip color area |
SensitivityType | Recommended Exposure Index |
SerialNumber | 4452707 |
Shadows2012 | +82 |
ShadowTint | 0 |
SharpenDetail | 25 |
SharpenEdgeMasking | 15 |
SharpenRadius | +1.0 |
Sharpness (1) | 40 |
Sharpness | Normal |
ShutterSpeed | 1/30 |
ShutterSpeedValue | 1/30 |
SplitToningBalance | 0 |
SplitToningHighlightHue | 0 |
SplitToningHighlightSaturation | 0 |
SplitToningShadowHue | 0 |
SplitToningShadowSaturation | 0 |
SubjectDistanceRange | Unknown |
Texture | +15 |
Tint | +7 |
ToneCurve | 0, 0, 255, 255 |
ToneCurveBlue | 0, 0, 255, 255 |
ToneCurveGreen | 0, 0, 255, 255 |
ToneCurveName | Linear |
ToneCurveName2012 | Linear |
ToneCurvePV2012 | 0, 0, 255, 255 |
ToneCurvePV2012Blue | 0, 0, 255, 255 |
ToneCurvePV2012Green | 0, 0, 255, 255 |
ToneCurvePV2012Red | 0, 0, 255, 255 |
ToneCurveRed | 0, 0, 255, 255 |
ToneMapStrength | 0 |
Version | 12.4 |
Vibrance | +47 |
VignetteAmount | 0 |
VignetteCorrectionAlreadyApplied | True |
WhiteBalance (1) | Custom |
WhiteBalance | Auto |
Whites2012 | +79 |