Felt | Verdi |
AlreadyApplied | True |
Aperture | 9.0 |
ApertureValue | 9.0 |
ApproximateFocusDistance | 0.51 |
Artist | OYVIND HALLGREN |
AutoLateralCA | 0 |
BitsPerSample | 8 |
Blacks2012 | 0 |
BlueHue | 0 |
BlueSaturation | 0 |
By-line | OYVIND HALLGREN |
CameraProfile | Embedded |
CircGradBasedCorrActive | true |
CircGradBasedCorrAmount | 1.000000 |
CircGradBasedCorrBrightness | 0.000000 |
CircGradBasedCorrClarity2012 | 0.256909 |
CircGradBasedCorrContrast2012 | 0.256198 |
CircGradBasedCorrCorrectionRangeMaskColorAmount | 0.500000 |
CircGradBasedCorrCorrectionRangeMaskDepthFeather | 0.500000 |
CircGradBasedCorrCorrectionRangeMaskDepthMax | 1.000000 |
CircGradBasedCorrCorrectionRangeMaskDepthMin | 0.000000 |
CircGradBasedCorrCorrectionRangeMaskLumFeather | 0.500000 |
CircGradBasedCorrCorrectionRangeMaskLumMax | 1.000000 |
CircGradBasedCorrCorrectionRangeMaskLumMin | 0.000000 |
CircGradBasedCorrCorrectionRangeMaskType | 0 |
CircGradBasedCorrCorrectionRangeMaskVersion | +2 |
CircGradBasedCorrDefringe | 0.000000 |
CircGradBasedCorrExposure2012 | 0.030282 |
CircGradBasedCorrHighlights2012 | -0.380553 |
CircGradBasedCorrHue | 240.000000 |
CircGradBasedCorrLocalBlacks2012 | 0.000000 |
CircGradBasedCorrLocalDehaze | 0.000000 |
CircGradBasedCorrLocalHue | 0.000000 |
CircGradBasedCorrLocalTexture | 0.233084 |
CircGradBasedCorrLocalWhites2012 | 0.175749 |
CircGradBasedCorrLuminanceNoise | 0.000000 |
CircGradBasedCorrMaskAngle | -19.161800 |
CircGradBasedCorrMaskBottom | 0.422030 |
CircGradBasedCorrMaskFeather | +72 |
CircGradBasedCorrMaskFlipped | true |
CircGradBasedCorrMaskLeft | 0.412668 |
CircGradBasedCorrMaskMidpoint | +50 |
CircGradBasedCorrMaskRight | 0.665270 |
CircGradBasedCorrMaskRoundness | 0 |
CircGradBasedCorrMaskTop | 0.285879 |
CircGradBasedCorrMaskValue | 1.000000 |
CircGradBasedCorrMaskVersion | +2 |
CircGradBasedCorrMaskWhat | Mask/CircularGradient |
CircGradBasedCorrMoire | 0.000000 |
CircGradBasedCorrSaturation | 0.000000 |
CircGradBasedCorrShadows2012 | 0.000000 |
CircGradBasedCorrSharpness | 0.000000 |
CircGradBasedCorrTemperature | 0.000000 |
CircGradBasedCorrTint | 0.000000 |
CircGradBasedCorrWhat | Correction |
CircleOfConfusion | 0.048 mm |
Clarity2012 | 0 |
ColorComponents | 3 |
ColorGradeBlending | 50 |
ColorGradeGlobalHue | 0 |
ColorGradeGlobalLum | 0 |
ColorGradeGlobalSat | 0 |
ColorGradeHighlightLum | 0 |
ColorGradeMidtoneHue | 0 |
ColorGradeMidtoneLum | 0 |
ColorGradeMidtoneSat | 0 |
ColorGradeShadowLum | 0 |
ColorNoiseReduction | 0 |
ColorSpace | sRGB |
ColorTransform | YCbCr |
Contrast2012 | 0 |
ConvertToGrayscale | False |
CreateDate (1) | 2021:04:11 13:52:20.00 |
CreateDate | 2021:04:11 13:52:20 |
Creator | OYVIND HALLGREN |
CreatorTool | Adobe Photoshop Lightroom Classic 10.1.1 (Macintosh) |
CropAngle | 0 |
CropBottom | 1 |
CropConstrainToWarp | 0 |
CropLeft | 0.026116 |
CropRight | 0.843332 |
CropTop | 0.182784 |
DateCreated (1) | 2021:04:11 |
DateCreated | 2021:04:11 13:52:20.00 |
DateTimeOriginal | 2021:04:11 13:52:20 |
DefringeGreenAmount | 0 |
DefringeGreenHueHi | 60 |
DefringeGreenHueLo | 40 |
DefringePurpleAmount | 0 |
DefringePurpleHueHi | 70 |
DefringePurpleHueLo | 30 |
Dehaze | 0 |
DOF | 0.018 m (0.501 - 0.519 m) |
Exposure2012 | +0.50 |
ExposureCompensation | 0 |
ExposureMode | Manual |
ExposureProgram | Manual |
ExposureTime | 1/320 |
Firmware | 1.0.3 |
Flash | Off, Did not fire |
FlashCompensation | 0 |
FNumber | 9.0 |
FocalLength | 100.0 mm |
FocalLength35efl | 100.0 mm (35 mm equivalent: 63.0 mm) |
Format | image/jpeg |
FOV | 31.9 deg |
GrainAmount | 0 |
GreenHue | 0 |
GreenSaturation | 0 |
HasCrop | True |
HasExtendedXMP | 81C18A90DB5B8682DD273A39CAC72E1C |
HasSettings | True |
Highlights2012 | 0 |
HueAdjustmentAqua | 0 |
HueAdjustmentBlue | 0 |
HueAdjustmentGreen | 0 |
HueAdjustmentMagenta | 0 |
HueAdjustmentOrange | 0 |
HueAdjustmentPurple | 0 |
HueAdjustmentRed | 0 |
HueAdjustmentYellow | 0 |
HyperfocalDistance | 23.30 m |
ImageHeight | 8000 |
ImageNumber | 0 |
ImageSize | 5333x8000 |
ImageWidth | 5333 |
IncrementalTemperature | 0 |
IncrementalTint | 0 |
ISO | 1000 |
Lens | EF100mm f/2.8L Macro IS USM |
LensID (1) | 254 |
LensID | Canon EF 100mm f/2.8L Macro IS USM |
LensInfo | 100mm f/? |
LensManualDistortionAmount | 0 |
LensModel | EF100mm f/2.8L Macro IS USM |
LensProfileEnable | 0 |
LensSerialNumber | 000008632d |
LightValue | 11.3 |
LuminanceAdjustmentAqua | 0 |
LuminanceAdjustmentBlue | 0 |
LuminanceAdjustmentGreen | 0 |
LuminanceAdjustmentMagenta | 0 |
LuminanceAdjustmentOrange | 0 |
LuminanceAdjustmentPurple | 0 |
LuminanceAdjustmentRed | 0 |
LuminanceAdjustmentYellow | 0 |
LuminanceSmoothing | 0 |
Make | Canon |
MaxApertureValue | 2.8 |
Megapixels | 42.7 |
MeteringMode | Multi-segment |
Model | Canon EOS 5D Mark IV |
ModifyDate (1) | 2021:04:12 21:07:36+02:00 |
ModifyDate | 2021:04:12 21:07:36 |
OverrideLookVignette | False |
PaintCorrectionActive | true |
PaintCorrectionAmount | 1.000000 |
PaintCorrectionBrightness | 0.000000 |
PaintCorrectionClarity2012 | -1.000000 |
PaintCorrectionContrast2012 | 0.000000 |
PaintCorrectionCorrectionRangeMaskColorAmount | 0.500000 |
PaintCorrectionCorrectionRangeMaskDepthFeather | 0.500000 |
PaintCorrectionCorrectionRangeMaskDepthMax | 1.000000 |
PaintCorrectionCorrectionRangeMaskDepthMin | 0.000000 |
PaintCorrectionCorrectionRangeMaskLumFeather | 0.500000 |
PaintCorrectionCorrectionRangeMaskLumMax | 1.000000 |
PaintCorrectionCorrectionRangeMaskLumMin | 0.000000 |
PaintCorrectionCorrectionRangeMaskType | 0 |
PaintCorrectionCorrectionRangeMaskVersion | +2 |
PaintCorrectionDefringe | 0.000000 |
PaintCorrectionExposure2012 | -0.363765 |
PaintCorrectionHighlights2012 | 0.000000 |
PaintCorrectionHue | 240.000000 |
PaintCorrectionLocalBlacks2012 | 0.000000 |
PaintCorrectionLocalDehaze | 0.000000 |
PaintCorrectionLocalHue | 0.000000 |
PaintCorrectionLocalTexture | -1.000000 |
PaintCorrectionLocalWhites2012 | -0.298554 |
PaintCorrectionLuminanceNoise | 0.000000 |
PaintCorrectionMaskCenterWeight (60) | 0.000000 |
PaintCorrectionMaskCenterWeight | 0.023248 |
PaintCorrectionMaskFlow (11) | 0.980000 |
PaintCorrectionMaskFlow (14) | 0.494566 |
PaintCorrectionMaskFlow (15) | 0.505702 |
PaintCorrectionMaskFlow (16) | 0.340401 |
PaintCorrectionMaskFlow (17) | 0.390686 |
PaintCorrectionMaskFlow (18) | 0.196856 |
PaintCorrectionMaskFlow (19) | 0.381549 |
PaintCorrectionMaskFlow (20) | 0.410750 |
PaintCorrectionMaskFlow (21) | 0.457552 |
PaintCorrectionMaskFlow (22) | 0.495194 |
PaintCorrectionMaskFlow (23) | 0.482612 |
PaintCorrectionMaskFlow (24) | 0.786232 |
PaintCorrectionMaskFlow (25) | 0.258229 |
PaintCorrectionMaskFlow (26) | 0.145047 |
PaintCorrectionMaskFlow (28) | 0.370999 |
PaintCorrectionMaskFlow (29) | 0.397674 |
PaintCorrectionMaskFlow (30) | 0.473801 |
PaintCorrectionMaskFlow (31) | 0.311435 |
PaintCorrectionMaskFlow (32) | 0.396843 |
PaintCorrectionMaskFlow (33) | 0.329992 |
PaintCorrectionMaskFlow (34) | 0.416320 |
PaintCorrectionMaskFlow (35) | 0.369212 |
PaintCorrectionMaskFlow (36) | 0.321334 |
PaintCorrectionMaskFlow (37) | 0.478456 |
PaintCorrectionMaskFlow (38) | 0.451647 |
PaintCorrectionMaskFlow (39) | 0.452123 |
PaintCorrectionMaskFlow (40) | 0.429755 |
PaintCorrectionMaskFlow (41) | 0.484563 |
PaintCorrectionMaskFlow (42) | 0.291310 |
PaintCorrectionMaskFlow (43) | 0.368316 |
PaintCorrectionMaskFlow (44) | 0.798239 |
PaintCorrectionMaskFlow (45) | 0.309015 |
PaintCorrectionMaskFlow (46) | 0.870819 |
PaintCorrectionMaskFlow (47) | 0.233353 |
PaintCorrectionMaskFlow (48) | 0.387570 |
PaintCorrectionMaskFlow (49) | 0.415002 |
PaintCorrectionMaskFlow (50) | 0.042639 |
PaintCorrectionMaskFlow (51) | 0.507317 |
PaintCorrectionMaskFlow (52) | 0.515273 |
PaintCorrectionMaskFlow (53) | 0.447090 |
PaintCorrectionMaskFlow (54) | 0.335230 |
PaintCorrectionMaskFlow (55) | 0.752963 |
PaintCorrectionMaskFlow (56) | 0.224072 |
PaintCorrectionMaskFlow (57) | 0.247165 |
PaintCorrectionMaskFlow (58) | 0.366517 |
PaintCorrectionMaskFlow (59) | 0.184193 |
PaintCorrectionMaskFlow (60) | 0.924462 |
PaintCorrectionMaskFlow (61) | 0.924830 |
PaintCorrectionMaskFlow (62) | 0.800363 |
PaintCorrectionMaskFlow (63) | 0.774408 |
PaintCorrectionMaskFlow (64) | 0.781930 |
PaintCorrectionMaskFlow (65) | 0.599975 |
PaintCorrectionMaskFlow (66) | 0.447814 |
PaintCorrectionMaskFlow (67) | 0.552263 |
PaintCorrectionMaskFlow (68) | 0.514290 |
PaintCorrectionMaskFlow (69) | 0.437779 |
PaintCorrectionMaskFlow (9) | 0.615510 |
PaintCorrectionMaskFlow | 0.536171 |
PaintCorrectionMaskRadius (1) | 0.135121 |
PaintCorrectionMaskRadius (12) | 0.008041 |
PaintCorrectionMaskRadius (14) | 0.014527 |
PaintCorrectionMaskRadius (15) | 0.024399 |
PaintCorrectionMaskRadius (22) | 0.029590 |
PaintCorrectionMaskRadius (27) | 0.016931 |
PaintCorrectionMaskRadius (43) | 0.009846 |
PaintCorrectionMaskRadius (50) | 0.032249 |
PaintCorrectionMaskRadius (51) | 0.049099 |
PaintCorrectionMaskRadius (53) | 0.012165 |
PaintCorrectionMaskRadius (54) | 0.007570 |
PaintCorrectionMaskRadius | 0.026973 |
PaintCorrectionMaskValue (56) | 0.000000 |
PaintCorrectionMaskValue | 0.723216 |
PaintCorrectionMaskWhat | Mask/Paint |
PaintCorrectionMoire | 0.000000 |
PaintCorrectionSaturation | 0.000000 |
PaintCorrectionShadows2012 | -0.081676 |
PaintCorrectionSharpness | -0.466942 |
PaintCorrectionTemperature | 0.000000 |
PaintCorrectionTint | 0.000000 |
PaintCorrectionWhat | Correction |
ParametricDarks | 0 |
ParametricHighlights | 0 |
ParametricHighlightSplit | 75 |
ParametricLights | 0 |
ParametricMidtoneSplit | 50 |
ParametricShadows | 0 |
ParametricShadowSplit | 25 |
PerspectiveAspect | 0 |
PerspectiveHorizontal | 0 |
PerspectiveRotate | 0.0 |
PerspectiveScale | 100 |
PerspectiveUpright | 0 |
PerspectiveVertical | 0 |
PerspectiveX | 0.00 |
PerspectiveY | 0.00 |
PhotographicSensitivity | 1000 |
PostCropVignetteAmount | 0 |
PreservedFileName | 2F0A7989.CR2 |
ProcessVersion | 11.0 |
ProfileDescription | sRGB IEC61966-2.1 |
RawFileName | |
RedHue | 0 |
RedSaturation | 0 |
Saturation | 0 |
SaturationAdjustmentAqua | 0 |
SaturationAdjustmentBlue | 0 |
SaturationAdjustmentGreen | 0 |
SaturationAdjustmentMagenta | 0 |
SaturationAdjustmentOrange | 0 |
SaturationAdjustmentPurple | 0 |
SaturationAdjustmentRed | 0 |
SaturationAdjustmentYellow | 0 |
ScaleFactor35efl | 0.6 |
SceneCaptureType | Standard |
SerialNumber | 053023000870 |
Shadows2012 | -6 |
ShadowTint | 0 |
Sharpness | 0 |
ShutterSpeed | 1/320 |
ShutterSpeedValue | 1/320 |
Software | Adobe Photoshop Lightroom Classic 10.1.1 (Macintosh) |
SplitToningBalance | 0 |
SplitToningHighlightHue | 0 |
SplitToningHighlightSaturation | 0 |
SplitToningShadowHue | 0 |
SplitToningShadowSaturation | 0 |
Texture | 0 |
ToneCurveName2012 | Linear |
ToneCurvePV2012 | 0, 0, 255, 255 |
ToneCurvePV2012Blue | 0, 0, 255, 255 |
ToneCurvePV2012Green | 0, 0, 255, 255 |
ToneCurvePV2012Red | 0, 0, 255, 255 |
Version | 13.1 |
Vibrance | 0 |
VignetteAmount | 0 |
WhiteBalance (1) | As Shot |
WhiteBalance | Auto |
Whites2012 | 0 |