Felt | Verdi |
AlreadyApplied | True |
Aperture | 8.0 |
ApertureValue | 8.0 |
ApproximateFocusDistance | 3.28 |
Artist | Igor Kostin |
AutoLateralCA | 0 |
BitsPerSample | 8 |
Blacks2012 | +24 |
BlueHue | 0 |
BlueSaturation | 0 |
By-line | Igor Kostin |
CameraProfile | Embedded |
CircleOfConfusion | 0.009 mm |
Clarity2012 | 0 |
ColorComponents | 3 |
ColorGradeBlending | 50 |
ColorGradeGlobalHue | 0 |
ColorGradeGlobalLum | 0 |
ColorGradeGlobalSat | 0 |
ColorGradeHighlightLum | 0 |
ColorGradeMidtoneHue | 0 |
ColorGradeMidtoneLum | 0 |
ColorGradeMidtoneSat | 0 |
ColorGradeShadowLum | 0 |
ColorNoiseReduction | 0 |
ColorSpace | Uncalibrated |
ColorTransform | YCbCr |
CompatibleVersion | 234881024 |
Contrast2012 | 0 |
ConvertToGrayscale | False |
Copyright | All rights reserved |
CopyrightFlag | True |
CopyrightNotice | All rights reserved |
CreateDate (1) | 2019:04:06 16:11:24Z |
CreateDate | 2019:04:06 16:11:24 |
Creator | Igor Kostin |
CreatorTool | Adobe Photoshop Lightroom Classic 11.4.1 (Macintosh) |
CropAngle | 0 |
CropBottom | 1 |
CropConstrainToWarp | 0 |
CropLeft | 0 |
CropRight | 1 |
CropTop | 0 |
CustomRendered | Normal |
DateCreated (1) | 2019:04:06 |
DateCreated | 2019:04:06 16:11:24Z |
DateTimeOriginal | 2019:04:06 16:11:24 |
DefringeGreenAmount | 0 |
DefringeGreenHueHi | 60 |
DefringeGreenHueLo | 40 |
DefringePurpleAmount | 0 |
DefringePurpleHueHi | 70 |
DefringePurpleHueLo | 30 |
Dehaze | +92 |
DOF | 0.65 m (2.99 - 3.64 m) |
Exposure2012 | 0.00 |
ExposureCompensation | 0 |
ExposureMode | Manual |
ExposureProgram | Manual |
ExposureTime | 1/100 |
Firmware | 1.0.0 |
Flash | No Flash |
FlashCompensation | 0 |
FNumber | 8.0 |
FocalLength | 50.0 mm |
FocalLength35efl | 50.0 mm (35 mm equivalent: 158.9 mm) |
Format | image/jpeg |
FOV | 12.9 deg |
GrainAmount | 0 |
GreenHue | 0 |
GreenSaturation | 0 |
HasCrop | False |
HasSettings | True |
Highlights2012 | -21 |
HueAdjustmentAqua | 0 |
HueAdjustmentBlue | 0 |
HueAdjustmentGreen | 0 |
HueAdjustmentMagenta | 0 |
HueAdjustmentOrange | 0 |
HueAdjustmentPurple | 0 |
HueAdjustmentRed | 0 |
HueAdjustmentYellow | 0 |
HyperfocalDistance | 33.06 m |
ImageHeight | 2048 |
ImageNumber | 0 |
ImageSize | 1504x2048 |
ImageWidth | 1504 |
IncrementalTemperature | 0 |
IncrementalTint | 0 |
ISO | 800 |
Keywords | 2019, @igorkostin74, BW, Bodø, CanonEOSR, Kvantoland, Landscape, Natur, Nordland, Norge, Norway, Nude, Sørfold, VisitNorway, Workshop, avisanordland, bodoivinden, eyephotomagazine, light, modell, nrknordland, photographyofnorway, travel, visitbodø |
Lens | EF28-300mm f/3.5-5.6L IS USM |
LensID (1) | 233 |
LensID | Canon EF 28-300mm f/3.5-5.6L IS USM |
LensInfo | 28-300mm f/? |
LensManualDistortionAmount | 0 |
LensModel | EF28-300mm f/3.5-5.6L IS USM |
LensProfileEnable | 0 |
LensSerialNumber | 0000000000 |
LightValue | 9.6 |
LuminanceAdjustmentAqua | 0 |
LuminanceAdjustmentBlue | 0 |
LuminanceAdjustmentGreen | 0 |
LuminanceAdjustmentMagenta | 0 |
LuminanceAdjustmentOrange | 0 |
LuminanceAdjustmentPurple | 0 |
LuminanceAdjustmentRed | 0 |
LuminanceAdjustmentYellow | 0 |
LuminanceSmoothing | 0 |
Make | Canon |
Marked | True |
MaxApertureValue | 4.2 |
Megapixels | 3.1 |
MeteringMode | Spot |
Model | Canon EOS R |
ModifyDate (1) | 2022:07:06 11:17:18+02:00 |
ModifyDate | 2022:07:06 11:17:18 |
OverrideLookVignette | False |
ParametricDarks | 0 |
ParametricHighlights | 0 |
ParametricHighlightSplit | 75 |
ParametricLights | 0 |
ParametricMidtoneSplit | 50 |
ParametricShadows | 0 |
ParametricShadowSplit | 25 |
PerspectiveAspect | 0 |
PerspectiveHorizontal | 0 |
PerspectiveRotate | 0.0 |
PerspectiveScale | 100 |
PerspectiveUpright | 0 |
PerspectiveVertical | 0 |
PerspectiveX | 0.00 |
PerspectiveY | 0.00 |
PostCropVignetteAmount | 0 |
PreservedFileName | 20190406_Modell-917-3.CR3 |
ProcessVersion | 11.0 |
ProfileDescription | Display P3 |
Rating | 5 |
RawFileName | 20190406_Modell-917-3-4452.tif |
RecommendedExposureIndex | 800 |
RedHue | 0 |
RedSaturation | 0 |
Rights | All rights reserved |
Saturation | 0 |
SaturationAdjustmentAqua | 0 |
SaturationAdjustmentBlue | 0 |
SaturationAdjustmentGreen | 0 |
SaturationAdjustmentMagenta | 0 |
SaturationAdjustmentOrange | 0 |
SaturationAdjustmentPurple | 0 |
SaturationAdjustmentRed | 0 |
SaturationAdjustmentYellow | 0 |
ScaleFactor35efl | 3.2 |
SceneCaptureType | Standard |
SensitivityType | Recommended Exposure Index |
SerialNumber | 032021005303 |
Shadows2012 | +65 |
ShadowTint | 0 |
Sharpness | 0 |
ShutterSpeed | 1/100 |
ShutterSpeedValue | 1/100 |
Software | Adobe Photoshop Lightroom Classic 11.4.1 (Macintosh) |
SplitToningBalance | 0 |
SplitToningHighlightHue | 0 |
SplitToningHighlightSaturation | 0 |
SplitToningShadowHue | 0 |
SplitToningShadowSaturation | 0 |
Subject | 2019, @igorkostin74, BW, Bodø, CanonEOSR, Kvantoland, Landscape, Natur, Nordland, Norge, Norway, Nude, Sørfold, VisitNorway, Workshop, avisanordland, bodoivinden, eyephotomagazine, light, modell, nrknordland, photographyofnorway, travel, visitbodø |
Texture | 0 |
ToneCurveName2012 | Linear |
ToneCurvePV2012 | 0, 0, 255, 255 |
ToneCurvePV2012Blue | 0, 0, 255, 255 |
ToneCurvePV2012Green | 0, 0, 255, 255 |
ToneCurvePV2012Red | 0, 0, 255, 255 |
UsageTerms | Please contact |
Version | 14.4.1 |
Vibrance | 0 |
VignetteAmount | 0 |
Virtualpaths | kywd:||Landscape|, kywd:||Bodø|, kywd:||@igorkostin74|, kywd:||eyephotomagazine|, kywd:||Nude|, kywd:||bodoivinden|, kywd:||Kvantoland|, kywd:||BW|, kywd:||VisitNorway|, kywd:||CanonEOSR|, kywd:||Nordland|, kywd:||visitbodø|, kywd:||Workshop|, kywd:||2019|, kywd:||modell|, kywd:||travel|, kywd:||light|, kywd:||Norway|, kywd:||nrknordland|, kywd:||Norge|, kywd:||avisanordland|, kywd:||Sørfold|, kywd:||Natur|, kywd:||photographyofnorway| |
WeightedFlatSubject | Landscape, Bodø, @igorkostin74, eyephotomagazine, Nude, bodoivinden, Kvantoland, BW, VisitNorway, CanonEOSR, Nordland, visitbodø, Workshop, 2019, modell, travel, light, Norway, nrknordland, Norge, avisanordland, Sørfold, Natur, photographyofnorway |
WhiteBalance (1) | As Shot |
WhiteBalance | Auto |
Whites2012 | 0 |