Felt | Verdi |
AlreadyApplied | True |
Aperture | 11.0 |
ApertureValue | 11.0 |
AutoLateralCA | 1 |
BitsPerSample | 8 |
Blacks2012 | -4 |
BlueHue | 0 |
BlueSaturation | 0 |
CameraProfile | Adobe Standard v2 |
CFAPattern | [Red,Green][Green,Blue] |
CircleOfConfusion | 0.030 mm |
Clarity2012 | +19 |
ColorComponents | 3 |
ColorGradeBlending | 88 |
ColorGradeGlobalHue | 0 |
ColorGradeGlobalLum | 0 |
ColorGradeGlobalSat | 0 |
ColorGradeHighlightLum | +18 |
ColorGradeMidtoneHue | 250 |
ColorGradeMidtoneLum | +13 |
ColorGradeMidtoneSat | 13 |
ColorGradeShadowLum | +3 |
ColorNoiseReduction | 25 |
ColorNoiseReductionDetail | 50 |
ColorNoiseReductionSmoothness | 50 |
ColorSpace | sRGB |
ColorTemperature | 4807 |
ColorTransform | YCbCr |
CompatibleVersion | 234881024 |
Contrast | Normal |
Contrast2012 | -11 |
CreateDate (1) | 2022:01:20 16:35:20.381+01:00 |
CreateDate | 2022:01:20 16:35:20 |
CreatorTool | Adobe Photoshop Lightroom Classic 11.3.1 (Windows) |
CropAngle | 0.5259 |
CropBottom | 0.956121 |
CropConstrainToWarp | 0 |
CropLeft | 0.010039 |
CropRight | 0.927184 |
CropTop | 0.032655 |
CustomRendered | Custom |
DateCreated (1) | 2022:01:20 |
DateCreated | 2022:01:20 16:35:35.70+01:00 |
DateTimeOriginal | 2022:01:20 16:35:20 |
DefringeGreenAmount | 0 |
DefringeGreenHueHi | 60 |
DefringeGreenHueLo | 40 |
DefringePurpleAmount | 0 |
DefringePurpleHueHi | 70 |
DefringePurpleHueLo | 30 |
Dehaze | 0 |
DistortionCorrectionAlreadyApplied | True |
Exposure2012 | +0.61 |
ExposureCompensation | -2/3 |
ExposureMode | Manual |
ExposureProgram | Manual |
ExposureTime | 3 |
Flash | No Flash |
FNumber | 11.0 |
FocalLength | 110.0 mm |
FocalLength35efl | 110.0 mm (35 mm equivalent: 110.0 mm) |
FocalLengthIn35mmFormat | 110 mm |
Format | image/jpeg |
FOV | 18.6 deg |
GainControl | None |
GrainAmount | 0 |
GreenHue | 0 |
GreenSaturation | 0 |
HasCrop | True |
HasSettings | True |
Highlights2012 | -60 |
HueAdjustmentAqua | 0 |
HueAdjustmentBlue | 0 |
HueAdjustmentGreen | 0 |
HueAdjustmentMagenta | 0 |
HueAdjustmentOrange | 0 |
HueAdjustmentPurple | 0 |
HueAdjustmentRed | 0 |
HueAdjustmentYellow | 0 |
HyperfocalDistance | 36.61 m |
ImageHeight | 4602 |
ImageNumber | 35488 |
ImageSize | 11811x4602 |
ImageWidth | 11811 |
IsMergedPanorama | True |
ISO | 100 |
LateralChromaticAberrationCorrectionAlreadyApplied | True |
Lens | 70.0-200.0 mm f/4.0 |
LensInfo | 70-200mm f/4 |
LensManualDistortionAmount | 0 |
LensModel | 70.0-200.0 mm f/4.0 |
LensProfileEnable | 0 |
LightSource | Unknown |
LightValue | 5.3 |
LookAmount | 1 |
LookGroup | Profiles |
LookName | Adobe Color |
LookParametersCameraProfile | Adobe Standard |
LookParametersConvertToGrayscale | False |
LookParametersLookTable | E1095149FDB39D7A057BAB208837E2E1 |
LookParametersProcessVersion | 11.0 |
LookParametersToneCurvePV2012 | 0, 0, 22, 16, 40, 35, 127, 127, 224, 230, 240, 246, 255, 255 |
LookParametersToneCurvePV2012Blue | 0, 0, 255, 255 |
LookParametersToneCurvePV2012Green | 0, 0, 255, 255 |
LookParametersToneCurvePV2012Red | 0, 0, 255, 255 |
LookParametersVersion | 14.3 |
LookSupportsAmount | false |
LookSupportsMonochrome | false |
LookSupportsOutputReferred | false |
LuminanceAdjustmentAqua | +5 |
LuminanceAdjustmentBlue | -48 |
LuminanceAdjustmentGreen | 0 |
LuminanceAdjustmentMagenta | 0 |
LuminanceAdjustmentOrange | +12 |
LuminanceAdjustmentPurple | -12 |
LuminanceAdjustmentRed | +40 |
LuminanceAdjustmentYellow | -2 |
LuminanceSmoothing | 0 |
Make | NIKON CORPORATION |
Megapixels | 54.4 |
MeteringMode | Center-weighted average |
Model | NIKON Z 6 |
ModifyDate (1) | 2022:07:04 21:03:32+02:00 |
ModifyDate | 2022:07:04 21:03:32 |
OverrideLookVignette | False |
ParametricDarks | 0 |
ParametricHighlights | 0 |
ParametricHighlightSplit | 75 |
ParametricLights | 0 |
ParametricMidtoneSplit | 50 |
ParametricShadows | 0 |
ParametricShadowSplit | 25 |
PerspectiveAspect | 0 |
PerspectiveHorizontal | 0 |
PerspectiveRotate | 0.0 |
PerspectiveScale | 100 |
PerspectiveUpright | 0 |
PerspectiveVertical | 0 |
PerspectiveX | 0.00 |
PerspectiveY | 0.00 |
PostCropVignetteAmount | 0 |
PreservedFileName | _DSC5632.NEF |
ProcessVersion | 11.0 |
ProfileDescription | sRGB IEC61966-2.1 |
RawFileName | |
RecommendedExposureIndex | 100 |
RedHue | 0 |
RedSaturation | 0 |
Saturation (1) | 0 |
Saturation | Normal |
SaturationAdjustmentAqua | 0 |
SaturationAdjustmentBlue | -3 |
SaturationAdjustmentGreen | 0 |
SaturationAdjustmentMagenta | -7 |
SaturationAdjustmentOrange | -1 |
SaturationAdjustmentPurple | -1 |
SaturationAdjustmentRed | -8 |
SaturationAdjustmentYellow | -16 |
ScaleFactor35efl | 1.0 |
SceneCaptureType | Standard |
SceneType | Directly photographed |
SensingMethod | One-chip color area |
SensitivityType | Recommended Exposure Index |
SerialNumber | 6012917 |
Shadows2012 | +58 |
ShadowTint | 0 |
SharpenDetail | 53 |
SharpenEdgeMasking | 33 |
SharpenRadius | +1.1 |
Sharpness (1) | 61 |
Sharpness | Normal |
ShutterSpeed | 3 |
ShutterSpeedValue | 3 |
Software | Adobe Photoshop Lightroom Classic 11.3.1 (Windows) |
SplitToningBalance | +78 |
SplitToningHighlightHue | 38 |
SplitToningHighlightSaturation | 13 |
SplitToningShadowHue | 234 |
SplitToningShadowSaturation | 12 |
SubjectDistanceRange | Unknown |
Texture | +18 |
Tint | +1 |
ToneCurveName2012 | Linear |
ToneCurvePV2012 | 0, 0, 255, 255 |
ToneCurvePV2012Blue | 0, 0, 255, 255 |
ToneCurvePV2012Green | 0, 0, 255, 255 |
ToneCurvePV2012Red | 0, 0, 255, 255 |
Transformation | Cylindrical |
Version | 14.3 |
Vibrance | +11 |
VignetteAmount | 0 |
VignetteCorrectionAlreadyApplied | True |
VirtualFocalLength | 1.554778 |
VirtualImageXCenter | 0.545632 |
VirtualImageYCenter | 0.197683 |
WhiteBalance (1) | Custom |
WhiteBalance | Auto |
Whites2012 | +18 |