Felt | Verdi |
AlreadyApplied | True |
Aperture | 16.0 |
ApertureValue | 16.0 |
ApproximateFocusDistance | 4294967295 |
AutoLateralCA | 1 |
BitsPerSample (3) | 8 8 8 |
BitsPerSample (4) | 16, 16, 16 |
BitsPerSample | 16 16 16 |
Blacks2012 | -56 |
BlueHue | -30 |
BlueSaturation | -38 |
CameraProfile | Adobe Standard |
ChromaticityChannel1 | 0.7347 0.2653 |
ChromaticityChannel2 | 0.15961 0.84039 |
ChromaticityChannel3 | 0.03661 0.00011 |
ChromaticityChannels | 3 |
ChromaticityColorant | Unknown (0) |
CircleOfConfusion | 0.005 mm |
Clarity2012 | +1 |
ColorGradeBlending | 100 |
ColorGradeGlobalHue | 0 |
ColorGradeGlobalLum | 0 |
ColorGradeGlobalSat | 0 |
ColorGradeHighlightLum | 0 |
ColorGradeMidtoneHue | 0 |
ColorGradeMidtoneLum | 0 |
ColorGradeMidtoneSat | 0 |
ColorGradeShadowLum | 0 |
ColorMode | RGB |
ColorNoiseReduction | 50 |
ColorNoiseReductionDetail | 50 |
ColorNoiseReductionSmoothness | 96 |
ColorSpace | Uncalibrated |
ColorTemperature | 5800 |
CompatibleVersion | 234881024 |
Contrast2012 | +39 |
ConvertToGrayscale | False |
CreateDate | 2022:07:29 11:58:51 |
CreatorTool | Adobe Photoshop Lightroom Classic 11.3.1 (Macintosh) |
CropAngle | -1.7922 |
CropBottom | 0.926044 |
CropConstrainToWarp | 0 |
CropLeft | 0.139616 |
CropRight | 0.842291 |
CropTop | 0.298073 |
CustomRendered | Normal |
DateCreated (1) | 2022:07:29 11:58:51.012 |
DateCreated | 2022:07:29 |
DateTimeOriginal | 2022:07:29 11:58:51 |
DefringeGreenAmount | 0 |
DefringeGreenHueHi | 60 |
DefringeGreenHueLo | 40 |
DefringePurpleAmount | 0 |
DefringePurpleHueHi | 70 |
DefringePurpleHueLo | 30 |
Dehaze | +49 |
DistortionCorrectionAlreadyApplied | True |
DOF | inf (31.88 m - inf) |
ExifImageHeight | 783 |
ExifImageWidth | 1400 |
Exposure2012 | +1.15 |
ExposureCompensation | -8/3 |
ExposureMode | Auto |
ExposureProgram | Aperture-priority AE |
ExposureTime | 1/8000 |
Firmware | 1.2.0 |
Flash | No Flash |
FlashCompensation | 0 |
FlashFired | False |
FlashFunction | False |
FlashMode | Unknown |
FlashRedEyeMode | False |
FlashReturn | No return detection |
FNumber | 16.0 |
FocalLength | 50.0 mm |
FocalLength35efl | 50.0 mm (35 mm equivalent: 306.5 mm) |
Format | image/tiff |
FOV | 6.7 deg |
GrainAmount | 0 |
GreenHue | 0 |
GreenSaturation | 0 |
HasCrop | True |
HasSettings | True |
Highlights2012 | -100 |
HueAdjustmentAqua | -6 |
HueAdjustmentBlue | +17 |
HueAdjustmentGreen | -3 |
HueAdjustmentMagenta | 0 |
HueAdjustmentOrange | -6 |
HueAdjustmentPurple | 0 |
HueAdjustmentRed | 0 |
HueAdjustmentYellow | -1 |
HyperfocalDistance | 31.88 m |
ICCProfileName | ProPhoto |
ImageHeight (1) | 392 |
ImageHeight (2) | 196 |
ImageHeight (3) | 98 |
ImageHeight (4) | 3184 |
ImageHeight | 783 |
ImageNumber | 0 |
ImageSize | 1400x783 |
ImageWidth (1) | 700 |
ImageWidth (2) | 350 |
ImageWidth (3) | 175 |
ImageWidth (4) | 5673 |
ImageWidth | 1400 |
ISO | 800 |
LateralChromaticAberrationCorrectionAlreadyApplied | True |
Lens | 50.0 mm |
LensID (1) | 180 |
LensID | Sigma 50mm f/1.4 DG HSM | A or Zeiss Milvus 50mm f/1.4 or Sigma 50mm f/1.5 FF High-Speed Prime | 017 or Tokina Opera 50mm f/1.4 FF |
LensInfo (1) | 50 |
LensInfo (2) | 50mm f/? |
LensInfo | 50mm f/0 |
LensManualDistortionAmount | 0 |
LensModel | 50.0 mm |
LensProfileDistortionScale | 100 |
LensProfileEnable | 1 |
LensProfileFilename | Canon (SIGMA 50mm F1.4 DG HSM A014) - RAW.lcp |
LensProfileIsEmbedded | False |
LensProfileName | Adobe (SIGMA 50mm F1.4 DG HSM A014, Canon) |
LensProfileSetup | LensDefaults |
LensProfileVignettingScale | 100 |
LensSerialNumber | 0000000000 |
LightValue | 18.0 |
LuminanceAdjustmentAqua | +23 |
LuminanceAdjustmentBlue | +20 |
LuminanceAdjustmentGreen | 0 |
LuminanceAdjustmentMagenta | 0 |
LuminanceAdjustmentOrange | 0 |
LuminanceAdjustmentPurple | 0 |
LuminanceAdjustmentRed | 0 |
LuminanceAdjustmentYellow | 0 |
LuminanceNoiseReductionContrast | 0 |
LuminanceNoiseReductionDetail | 50 |
LuminanceSmoothing | 51 |
Make | Canon |
MaxApertureValue | 1.4 |
Megapixels | 1.1 |
MeteringMode | Spot |
Model | Canon EOS R5 |
ModifyDate (1) | 2022:09:28 20:47:54+02:00 |
ModifyDate | 2022:09:28 20:47:54 |
Orientation | Horizontal (normal) |
OverrideLookVignette | False |
ParametricDarks | +69 |
ParametricHighlights | 0 |
ParametricHighlightSplit | 75 |
ParametricLights | +28 |
ParametricMidtoneSplit | 50 |
ParametricShadows | -5 |
ParametricShadowSplit | 25 |
PerspectiveAspect | 0 |
PerspectiveHorizontal | 0 |
PerspectiveRotate | 0.0 |
PerspectiveScale | 100 |
PerspectiveUpright | 0 |
PerspectiveVertical | 0 |
PerspectiveX | 0.00 |
PerspectiveY | 0.00 |
PhotometricInterpretation | RGB |
PlanarConfiguration | Chunky |
PostCropVignetteAmount | -10 |
PostCropVignetteFeather | 73 |
PostCropVignetteHighlightContrast | 4 |
PostCropVignetteMidpoint | 9 |
PostCropVignetteRoundness | -20 |
PostCropVignetteStyle | 1 |
PreservedFileName | 4J7A8922.CR3 |
ProcessVersion | 11.0 |
ProfileDescription | ProPhoto |
RawFileName | 4J7A8922.CR3 |
RecommendedExposureIndex | 800 |
RedHue | 0 |
RedSaturation | 0 |
RowsPerStrip (1) | 392 |
RowsPerStrip (2) | 196 |
RowsPerStrip (3) | 98 |
RowsPerStrip | 783 |
SamplesPerPixel | 3 |
Saturation | -16 |
SaturationAdjustmentAqua | -20 |
SaturationAdjustmentBlue | -52 |
SaturationAdjustmentGreen | -23 |
SaturationAdjustmentMagenta | -100 |
SaturationAdjustmentOrange | +6 |
SaturationAdjustmentPurple | -100 |
SaturationAdjustmentRed | -5 |
SaturationAdjustmentYellow | -30 |
ScaleFactor35efl | 6.1 |
SceneCaptureType | Standard |
SensitivityType (1) | 2 |
SensitivityType | Recommended Exposure Index |
SerialNumber | 073021001637 |
Shadows2012 | +13 |
ShadowTint | 0 |
SharpenDetail | 25 |
SharpenEdgeMasking | 0 |
SharpenRadius | +1.0 |
Sharpness | 40 |
ShutterSpeed | 1/8000 |
ShutterSpeedValue | 1/8000 |
Software | Adobe Photoshop 23.4 (Macintosh) |
SplitToningBalance | +23 |
SplitToningHighlightHue | 0 |
SplitToningHighlightSaturation | 5 |
SplitToningShadowHue | 224 |
SplitToningShadowSaturation | 20 |
StripByteCounts (1) | 6577200 |
StripByteCounts (2) | 823200 |
StripByteCounts (3) | 205800 |
StripByteCounts | 51450 |
StripOffsets (1) | 38366 |
StripOffsets (2) | 6616344 |
StripOffsets (3) | 7439752 |
StripOffsets | 7645760 |
SubfileType (1) | Full-resolution Image |
SubfileType | Reduced-resolution image |
Texture | 0 |
This work is licensed under the Creative Commons Attribution-Share Alike 3.0 United States License. To view a copy of this license, visit http://creativecommons.org/licenses/by-sa/3.0/us/ or send a letter to Creative Commons, 171 Second Street, Suite 300, San Francisco, California, 94105, USA. |
Tint | +8 |
ToneCurveName2012 | Custom |
ToneCurvePV2012 | 0, 0, 62, 54, 138, 143, 189, 206, 255, 255 |
ToneCurvePV2012Blue | 0, 0, 53, 46, 127, 127, 191, 191, 255, 255 |
ToneCurvePV2012Green | 0, 0, 46, 41, 124, 124, 192, 192, 255, 255 |
ToneCurvePV2012Red | 0, 0, 47, 42, 128, 125, 187, 185, 255, 255 |
URL_List | |
Version | 14.3 |
Vibrance | -16 |
VignetteAmount | 0 |
VignetteCorrectionAlreadyApplied | True |
WhiteBalance (1) | Auto |
WhiteBalance | As Shot |
Whites2012 | +16 |