Felt | Verdi |
AlreadyApplied | True |
Aperture | 6.3 |
ApertureValue | 6.3 |
ApproximateFocusDistance | 11.9 |
Artist | Morten Buljo |
AuthorsPosition | Photographer |
AutoLateralCA | 0 |
BitsPerSample | 8 |
Blacks2012 | 0 |
BlueHue | 0 |
BlueSaturation | 0 |
By-line | Morten Buljo |
By-lineTitle | Photographer |
CameraProfile | Adobe Standard |
CircleOfConfusion | 0.019 mm |
Clarity2012 | +55 |
ColorComponents | 3 |
ColorGradeBlending | 100 |
ColorGradeGlobalHue | 0 |
ColorGradeGlobalLum | 0 |
ColorGradeGlobalSat | 0 |
ColorGradeHighlightLum | 0 |
ColorGradeMidtoneHue | 0 |
ColorGradeMidtoneLum | 0 |
ColorGradeMidtoneSat | 0 |
ColorGradeShadowLum | 0 |
ColorNoiseReduction | 25 |
ColorNoiseReductionDetail | 50 |
ColorNoiseReductionSmoothness | 50 |
ColorSpace | sRGB |
ColorTemperature | 6363 |
ColorTransform | YCbCr |
Contrast2012 | +56 |
ConvertToGrayscale | False |
Copyright | Morten Buljo - m@mortenbuljo.com |
CopyrightFlag | True |
CopyrightNotice | Morten Buljo - m@mortenbuljo.com |
CreateDate (1) | 2012:10:02 10:47:43.92 |
CreateDate | 2012:10:02 10:47:43 |
Creator | Morten Buljo |
CreatorAddress | Bretterne 1 |
CreatorCity | Bergen |
CreatorCountry | Norway |
CreatorPostalCode | 5005 |
CreatorRegion | Hordaland |
CreatorTool | Adobe Photoshop Lightroom Classic 11.3.1 (Macintosh) |
CreatorWorkEmail | m@mortenbuljo.com |
CreatorWorkTelephone | +47 93 606 707 |
CreatorWorkURL | http://www.mortenbuljo.com |
CropAngle | 0 |
CropBottom | 1 |
CropConstrainToWarp | 1 |
CropLeft | 0.284533 |
CropRight | 0.639609 |
CropTop | 0.001347 |
CustomRendered | Normal |
DateCreated (1) | 2012:10:02 |
DateCreated | 2012:10:02 10:47:43.92 |
DateTimeOriginal | 2012:10:02 10:47:43 |
DefringeGreenAmount | 0 |
DefringeGreenHueHi | 60 |
DefringeGreenHueLo | 40 |
DefringePurpleAmount | 0 |
DefringePurpleHueHi | 70 |
DefringePurpleHueLo | 30 |
Dehaze | 0 |
DOF | 3.09 m (10.55 - 13.64 m) |
Exposure2012 | +1.20 |
ExposureCompensation | 0 |
ExposureMode | Auto |
ExposureProgram | Program AE |
ExposureTime | 1/400 |
Firmware | 1.0.6 |
Flash | Off, Did not fire |
FlashCompensation | 0 |
FNumber | 6.3 |
FocalLength | 105.0 mm |
FocalLength35efl | 105.0 mm (35 mm equivalent: 166.4 mm) |
Format | image/jpeg |
FOV | 12.3 deg |
GrainAmount | 0 |
GrainFrequency | 7 |
GrainSize | 0 |
GrayMixerAqua | -20 |
GrayMixerBlue | +4 |
GrayMixerGreen | -22 |
GrayMixerMagenta | +6 |
GrayMixerOrange | -11 |
GrayMixerPurple | +12 |
GrayMixerRed | -2 |
GrayMixerYellow | -15 |
GreenHue | 0 |
GreenSaturation | 0 |
HasCrop | True |
HasSettings | True |
Highlights2012 | -100 |
HueAdjustmentAqua | 0 |
HueAdjustmentBlue | 0 |
HueAdjustmentGreen | 0 |
HueAdjustmentMagenta | 0 |
HueAdjustmentOrange | +9 |
HueAdjustmentPurple | 0 |
HueAdjustmentRed | +23 |
HueAdjustmentYellow | -53 |
HyperfocalDistance | 92.29 m |
ImageHeight | 1687 |
ImageNumber | 0 |
ImageSize | 3163x1687 |
ImageWidth | 3163 |
ISO | 200 |
Lens | EF24-105mm f/4L IS USM |
LensID (1) | 237 |
LensID | Canon EF 24-105mm f/4L IS USM |
LensInfo | 24-105mm f/? |
LensManualDistortionAmount | 0 |
LensModel | EF24-105mm f/4L IS USM |
LensProfileEnable | 0 |
LightValue | 13.0 |
LuminanceAdjustmentAqua | 0 |
LuminanceAdjustmentBlue | 0 |
LuminanceAdjustmentGreen | +70 |
LuminanceAdjustmentMagenta | 0 |
LuminanceAdjustmentOrange | 0 |
LuminanceAdjustmentPurple | 0 |
LuminanceAdjustmentRed | +25 |
LuminanceAdjustmentYellow | 0 |
LuminanceSmoothing | 0 |
Make | Canon |
Marked | True |
MaxApertureValue | 4.0 |
Megapixels | 5.3 |
MeteringMode | Multi-segment |
Model | Canon EOS 50D |
ModifyDate (1) | 2022:04:26 13:40:58+02:00 |
ModifyDate | 2022:04:26 13:40:58 |
OverrideLookVignette | False |
ParametricDarks | -28 |
ParametricHighlights | 0 |
ParametricHighlightSplit | 75 |
ParametricLights | 0 |
ParametricMidtoneSplit | 50 |
ParametricShadows | 0 |
ParametricShadowSplit | 25 |
PerspectiveAspect | 0 |
PerspectiveHorizontal | 0 |
PerspectiveRotate | 0.0 |
PerspectiveScale | 100 |
PerspectiveUpright | 0 |
PerspectiveVertical | 0 |
PerspectiveX | 0.00 |
PerspectiveY | 0.00 |
PostCropVignetteAmount | -27 |
PostCropVignetteFeather | 50 |
PostCropVignetteHighlightContrast | 0 |
PostCropVignetteMidpoint | 50 |
PostCropVignetteRoundness | 0 |
PostCropVignetteStyle | 1 |
ProcessVersion | 11.0 |
ProfileDescription | sRGB IEC61966-2.1 |
Rating | 5 |
RawFileName | _MG_5283.CR2 |
RedHue | 0 |
RedSaturation | 0 |
Rights | Morten Buljo - m@mortenbuljo.com |
Saturation | -5 |
SaturationAdjustmentAqua | 0 |
SaturationAdjustmentBlue | +15 |
SaturationAdjustmentGreen | -92 |
SaturationAdjustmentMagenta | -20 |
SaturationAdjustmentOrange | +15 |
SaturationAdjustmentPurple | -20 |
SaturationAdjustmentRed | +6 |
SaturationAdjustmentYellow | -55 |
ScaleFactor35efl | 1.6 |
SceneCaptureType | Standard |
SerialNumber | 1130503837 |
Shadows2012 | -25 |
ShadowTint | 0 |
SharpenDetail | 0 |
SharpenEdgeMasking | 21 |
SharpenRadius | +0.5 |
Sharpness | 94 |
ShutterSpeed | 1/400 |
ShutterSpeedValue | 1/400 |
Software | Adobe Photoshop Lightroom Classic 11.3.1 (Macintosh) |
SplitToningBalance | -100 |
SplitToningHighlightHue | 0 |
SplitToningHighlightSaturation | 0 |
SplitToningShadowHue | 28 |
SplitToningShadowSaturation | 13 |
Texture | 0 |
Tint | +13 |
ToneCurveName2012 | Custom |
ToneCurvePV2012 | 0, 46, 17, 51, 34, 56, 51, 63, 68, 73, 85, 86, 102, 101, 119, 119, 136, 136, 153, 153, 170, 170, 187, 187, 204, 204, 221, 221, 238, 238, 255, 255 |
ToneCurvePV2012Blue | 0, 0, 255, 255 |
ToneCurvePV2012Green | 0, 0, 255, 255 |
ToneCurvePV2012Red | 0, 0, 255, 255 |
URL | http://www.mortenbuljo.com |
Version | 14.3 |
Vibrance | +29 |
VignetteAmount | -31 |
VignetteMidpoint | 50 |
WebStatement | http://www.mortenbuljo.com |
WhiteBalance (1) | Custom |
WhiteBalance | Auto |
Whites2012 | -47 |