Felt | Verdi |
AlreadyApplied | True |
Aperture | 16.0 |
ApertureValue | 16.0 |
ApproximateFocusDistance | 4294967295 |
AutoLateralCA | 0 |
BitsPerSample | 8 |
Blacks2012 | +26 |
BlueHue | 0 |
BlueSaturation | 0 |
CameraProfile | Embedded |
CircleOfConfusion | 0.009 mm |
Clarity2012 | 0 |
ColorComponents | 3 |
ColorGradeBlending | 50 |
ColorGradeGlobalHue | 0 |
ColorGradeGlobalLum | 0 |
ColorGradeGlobalSat | 0 |
ColorGradeHighlightLum | 0 |
ColorGradeMidtoneHue | 0 |
ColorGradeMidtoneLum | 0 |
ColorGradeMidtoneSat | 0 |
ColorGradeShadowLum | 0 |
ColorNoiseReduction | 0 |
ColorSpace | sRGB |
ColorTransform | YCbCr |
CompatibleVersion | 234881024 |
Contrast2012 | 0 |
ConvertToGrayscale | False |
CreateDate (1) | 2019:04:26 20:22:17.14 |
CreateDate | 2019:04:26 20:22:17 |
CreatorTool | Adobe Photoshop Lightroom Classic 11.3.1 (Windows) |
CropAngle | 0 |
CropBottom | 1 |
CropConstrainToWarp | 0 |
CropLeft | 0 |
CropRight | 1 |
CropTop | 0 |
DateCreated (1) | 2019:04:26 |
DateCreated | 2019:04:26 20:22:17.14 |
DateTimeOriginal | 2019:04:26 20:22:17 |
DefringeGreenAmount | 0 |
DefringeGreenHueHi | 60 |
DefringeGreenHueLo | 40 |
DefringePurpleAmount | 0 |
DefringePurpleHueHi | 70 |
DefringePurpleHueLo | 30 |
Dehaze | 0 |
DistortionCorrectionAlreadyApplied | True |
DOF | inf (213.17 m - inf) |
Exposure2012 | +0.20 |
ExposureCompensation | 0 |
ExposureMode | Manual |
ExposureProgram | Manual |
ExposureTime | 1/13 |
Firmware | 1.0.0 |
Flash | No Flash |
FlashCompensation | 0 |
FNumber | 16.0 |
FocalLength | 176.0 mm |
FocalLength35efl | 176.0 mm (35 mm equivalent: 582.3 mm) |
Format | image/jpeg |
FOV | 3.5 deg |
GrainAmount | 0 |
GreenHue | 0 |
GreenSaturation | 0 |
HasCrop | False |
HasSettings | True |
HierarchicalSubject | Sandstorm |
Highlights2012 | 0 |
HueAdjustmentAqua | 0 |
HueAdjustmentBlue | 0 |
HueAdjustmentGreen | 0 |
HueAdjustmentMagenta | 0 |
HueAdjustmentOrange | 0 |
HueAdjustmentPurple | 0 |
HueAdjustmentRed | 0 |
HueAdjustmentYellow | 0 |
HyperfocalDistance | 213.17 m |
ImageHeight | 1926 |
ImageNumber | 0 |
ImageSize | 1500x1926 |
ImageWidth | 1500 |
IncrementalTemperature | 0 |
IncrementalTint | 0 |
ISO | 200 |
Keywords | Sandstorm |
LateralChromaticAberrationCorrectionAlreadyApplied | True |
Lens | EF70-200mm f/4L IS USM |
LensID (1) | 242 |
LensID | Canon EF 70-200mm f/4L IS USM |
LensInfo | 70-200mm f/? |
LensManualDistortionAmount | 0 |
LensModel | EF70-200mm f/4L IS USM |
LensProfileEnable | 0 |
LensSerialNumber | 0000000000 |
LightValue | 10.7 |
LuminanceAdjustmentAqua | 0 |
LuminanceAdjustmentBlue | 0 |
LuminanceAdjustmentGreen | 0 |
LuminanceAdjustmentMagenta | 0 |
LuminanceAdjustmentOrange | 0 |
LuminanceAdjustmentPurple | 0 |
LuminanceAdjustmentRed | 0 |
LuminanceAdjustmentYellow | 0 |
LuminanceNoiseReductionContrast | 0 |
LuminanceNoiseReductionDetail | 50 |
LuminanceSmoothing | 62 |
Make | Canon |
MaxApertureValue | 4.0 |
Megapixels | 2.9 |
MeteringMode | Multi-segment |
Model | Canon EOS R |
ModifyDate (1) | 2024:09:04 22:28:02+02:00 |
ModifyDate | 2024:09:04 22:28:02 |
OverrideLookVignette | False |
ParametricDarks | 0 |
ParametricHighlights | 0 |
ParametricHighlightSplit | 75 |
ParametricLights | 0 |
ParametricMidtoneSplit | 50 |
ParametricShadows | 0 |
ParametricShadowSplit | 25 |
PerspectiveAspect | 0 |
PerspectiveHorizontal | 0 |
PerspectiveRotate | 0.0 |
PerspectiveScale | 100 |
PerspectiveUpright | 0 |
PerspectiveVertical | 0 |
PerspectiveX | 0.00 |
PerspectiveY | 0.00 |
PhotographicSensitivity | 200 |
PostCropVignetteAmount | 0 |
PreservedFileName | 1Y7A0488_HDR.JPG |
ProcessVersion | 11.0 |
ProfileDescription | sRGB IEC61966-2.1 |
Rating | 5 |
RawFileName | |
RedHue | 0 |
RedSaturation | 0 |
Saturation | 0 |
SaturationAdjustmentAqua | 0 |
SaturationAdjustmentBlue | 0 |
SaturationAdjustmentGreen | 0 |
SaturationAdjustmentMagenta | 0 |
SaturationAdjustmentOrange | 0 |
SaturationAdjustmentPurple | 0 |
SaturationAdjustmentRed | 0 |
SaturationAdjustmentYellow | 0 |
ScaleFactor35efl | 3.3 |
SceneCaptureType | Standard |
SerialNumber | 043021000707 |
Shadows2012 | +33 |
ShadowTint | 0 |
Sharpness | 0 |
ShutterSpeed | 1/13 |
ShutterSpeedValue | 1/13 |
Software | Adobe Photoshop Lightroom Classic 11.3.1 (Windows) |
SplitToningBalance | 0 |
SplitToningHighlightHue | 0 |
SplitToningHighlightSaturation | 0 |
SplitToningShadowHue | 0 |
SplitToningShadowSaturation | 0 |
Subject | Sandstorm |
Texture | 0 |
ToneCurveName2012 | Linear |
ToneCurvePV2012 | 0, 0, 255, 255 |
ToneCurvePV2012Blue | 0, 0, 255, 255 |
ToneCurvePV2012Green | 0, 0, 255, 255 |
ToneCurvePV2012Red | 0, 0, 255, 255 |
Version | 14.3 |
Vibrance | 0 |
VignetteAmount | 0 |
VignetteCorrectionAlreadyApplied | True |
WeightedFlatSubject | Sandstorm |
WhiteBalance (1) | As Shot |
WhiteBalance | Auto |
Whites2012 | 0 |