Felt | Verdi |
AlreadyApplied | True |
Artist | Bjørn Joachimsen |
AuthorsPosition | Photographer |
BitsPerSample | 8 |
BlueHue | 0 |
BlueSaturation | 0 |
Brightness | +6 |
By-line | Bj¿rn Joachimsen |
By-lineTitle | Photographer |
CameraProfile | Embedded |
CaptionWriter | Bjørn Joachimsen |
ChromaticAberrationB | 0 |
ChromaticAberrationR | 0 |
Clarity | 46 |
ColorComponents | 1 |
ColorMode | RGB |
ColorNoiseReduction | 0 |
ColorSpace | sRGB |
Contrast | +20 |
ConvertToGrayscale | False |
Copyright | Bjørn Joachimsen- all rights reserved |
CopyrightFlag | True |
CopyrightNotice | Bj¿rn Joachimsen- all rights reserved |
CreateDate | 2008:01:13 23:12:56+01:00 |
Creator | Bjørn Joachimsen |
CreatorCity | TOMASJORD |
CreatorCountry | NORWAY |
CreatorPostalCode | 9024 |
CreatorTool | Adobe Photoshop CS3 Macintosh |
CreatorWorkEmail | bjoern@fotonord.no |
CreatorWorkURL | www.fotonord.no |
Defringe | 0 |
ExifImageHeight | 768 |
ExifImageWidth | 768 |
Exposure | -1.00 |
FillLight | 46 |
Format | image/jpeg |
GreenHue | 0 |
GreenSaturation | 0 |
HasCrop | False |
HasSettings | True |
HighlightRecovery | 23 |
HueAdjustmentAqua | 0 |
HueAdjustmentBlue | 0 |
HueAdjustmentGreen | 0 |
HueAdjustmentMagenta | 0 |
HueAdjustmentOrange | 0 |
HueAdjustmentPurple | 0 |
HueAdjustmentRed | 0 |
HueAdjustmentYellow | 0 |
ICCProfileName | sRGB IEC61966-2.1 |
ImageHeight | 768 |
ImageSize | 768x768 |
ImageWidth | 768 |
IncrementalTemperature | 0 |
IncrementalTint | 0 |
Keywords | Boat, wooden, repair, dock, coast, fishing vessel, Ballangen, Nordland, Norway, Mamiya 6, Sekor, 75mm, normal lens, medium format, analog, film, film camera, monochrome, bw, black & white, grayscale, Foma, Fomapan, Fomapan 200, ISO 160, Xtol |
LuminanceAdjustmentAqua | 0 |
LuminanceAdjustmentBlue | 0 |
LuminanceAdjustmentGreen | 0 |
LuminanceAdjustmentMagenta | 0 |
LuminanceAdjustmentOrange | 0 |
LuminanceAdjustmentPurple | 0 |
LuminanceAdjustmentRed | 0 |
LuminanceAdjustmentYellow | 0 |
LuminanceSmoothing | 0 |
Make | Nikon |
Marked | True |
Megapixels | 0.590 |
Model | Nikon SUPER COOLSCAN 9000 ED |
ModifyDate (1) | 2008:01:13 23:12:56+01:00 |
ModifyDate | 2008:01:13 23:12:56 |
ObjectName | Ballangen #3 |
Orientation | Horizontal (normal) |
ParametricDarks | 0 |
ParametricHighlights | 0 |
ParametricHighlightSplit | 75 |
ParametricLights | 0 |
ParametricMidtoneSplit | 50 |
ParametricShadows | 0 |
ParametricShadowSplit | 25 |
ProfileDescription | sRGB IEC61966-2.1 |
Rating | 0 |
RawFileName | Ballangen #3.tif |
RedHue | 0 |
RedSaturation | 0 |
Rights | Bjørn Joachimsen- all rights reserved |
Saturation | -100 |
SaturationAdjustmentAqua | 0 |
SaturationAdjustmentBlue | 0 |
SaturationAdjustmentGreen | 0 |
SaturationAdjustmentMagenta | 0 |
SaturationAdjustmentOrange | 0 |
SaturationAdjustmentPurple | 0 |
SaturationAdjustmentRed | 0 |
SaturationAdjustmentYellow | 0 |
Shadows | 0 |
ShadowTint | 0 |
SharpenDetail | 25 |
SharpenEdgeMasking | 0 |
SharpenRadius | +1.0 |
Sharpness | 0 |
Software | Adobe Photoshop CS3 Macintosh |
SplitToningBalance | 0 |
SplitToningHighlightHue | 0 |
SplitToningHighlightSaturation | 0 |
SplitToningShadowHue | 0 |
SplitToningShadowSaturation | 0 |
StartupProfile | Print |
Subject | Boat, wooden, repair, dock, coast, fishing vessel, Ballangen, Nordland, Norway, Mamiya 6, Sekor, 75mm, normal lens, medium format, analog, film, film camera, monochrome, bw, black & white, grayscale, Foma, Fomapan, Fomapan 200, ISO 160, Xtol |
Title | Ballangen #3 |
ToneCurve | 0, 0, 64, 66, 105, 119, 191, 201, 255, 255 |
ToneCurveName | Custom |
URL_List | |
Version | 4.1 |
Vibrance | 0 |
VignetteAmount | 0 |
WhiteBalance | As Shot |
Writer-Editor | Bj¿rn Joachimsen |