Felt | Verdi |
AlreadyApplied | True |
BitsPerSample | 8 |
BlueHue | 0 |
BlueSaturation | 0 |
Brightness | -10 |
CameraProfile | Embedded |
ChromaticAberrationB | 0 |
ChromaticAberrationR | 0 |
Clarity | 10 |
ColorComponents | 3 |
ColorNoiseReduction | 0 |
ColorSpace | sRGB |
Contrast | -10 |
ConvertToGrayscale | False |
Copyright | Copyright Per Finne |
CopyrightNotice | Copyright Per Finne |
CreateDate | 2008:01:30 14:45:06+01:00 |
CreatorTool | Adobe Photoshop Lightroom |
Defringe | 0 |
ExifImageHeight | 3008 |
ExifImageWidth | 2000 |
Exposure | 0.00 |
FillLight | 2 |
Format | image/tiff |
GreenHue | 0 |
GreenSaturation | 0 |
HasCrop | False |
HasSettings | True |
HighlightRecovery | 15 |
HueAdjustmentAqua | 0 |
HueAdjustmentBlue | 0 |
HueAdjustmentGreen | 0 |
HueAdjustmentMagenta | 0 |
HueAdjustmentOrange | 0 |
HueAdjustmentPurple | 0 |
HueAdjustmentRed | 0 |
HueAdjustmentYellow | 0 |
ImageHeight | 700 |
ImageSize | 465x700 |
ImageWidth | 465 |
IncrementalTemperature | +5 |
IncrementalTint | +3 |
LuminanceAdjustmentAqua | -6 |
LuminanceAdjustmentBlue | -9 |
LuminanceAdjustmentGreen | 0 |
LuminanceAdjustmentMagenta | 0 |
LuminanceAdjustmentOrange | -19 |
LuminanceAdjustmentPurple | 0 |
LuminanceAdjustmentRed | 0 |
LuminanceAdjustmentYellow | -19 |
LuminanceSmoothing | 0 |
Megapixels | 0.326 |
ModifyDate (1) | 2008:01:30 15:04:21+01:00 |
ModifyDate | 2008:01:30 15:04:21 |
ParametricDarks | -10 |
ParametricHighlights | -3 |
ParametricHighlightSplit | 75 |
ParametricLights | -17 |
ParametricMidtoneSplit | 50 |
ParametricShadows | +3 |
ParametricShadowSplit | 25 |
ProfileDescription | sRGB IEC61966-2.1 |
RedHue | 0 |
RedSaturation | 0 |
Rights | Copyright Per Finne |
Saturation | +3 |
SaturationAdjustmentAqua | 0 |
SaturationAdjustmentBlue | 0 |
SaturationAdjustmentGreen | 0 |
SaturationAdjustmentMagenta | 0 |
SaturationAdjustmentOrange | 0 |
SaturationAdjustmentPurple | 0 |
SaturationAdjustmentRed | 0 |
SaturationAdjustmentYellow | 0 |
Shadows | 0 |
ShadowTint | 0 |
SharpenDetail | 25 |
SharpenEdgeMasking | 20 |
SharpenRadius | +1.0 |
Sharpness | 80 |
Software | Adobe Photoshop CS2 Macintosh |
SplitToningBalance | 0 |
SplitToningHighlightHue | 0 |
SplitToningHighlightSaturation | 0 |
SplitToningShadowHue | 0 |
SplitToningShadowSaturation | 0 |
ToneCurve | 0, 0, 255, 255 |
ToneCurveName | Linear |
Version | 1.0 |
Vibrance | +8 |
VignetteAmount | -11 |
VignetteMidpoint | 43 |
WhiteBalance | Custom |