Felt | Verdi |
AlreadyApplied | True |
Aperture | 2.8 |
ApertureValue | 2.8 |
Artist | Knutsen Bjørke Magnus |
AuthorsPosition | Fanny og Alexander, urpremiere |
BitsPerSample | 8 |
BlueHue | 0 |
BlueSaturation | 0 |
Brightness | 0 |
By-line | Knutsen Bj¿rke Magnus |
By-lineTitle | Fanny og Alexander, urpremiere |
CameraProfile | Embedded |
Caption-Abstract | Nationaltheatret skal til h¿sten ha urpremiere pŒ sceneversjonen av Ingmar Bergmans storfilm, Fanny og Alexander. Vi m¿ter KJersti HOlmen (som spiller moren) og regiss¿r Kjetil Bang-Hansen |
ChromaticAberrationB | 0 |
ChromaticAberrationR | 0 |
CircleOfConfusion | 0.031 mm |
City (1) | Nationaltheatret, ansattinngange |
City | Nationaltheatret, ansattinngangen |
Clarity | 0 |
ColorComponents | 3 |
ColorMode | RGB |
ColorNoiseReduction | 0 |
ColorSpace (1) | Unknown (-1) |
ColorSpace | Uncalibrated |
Contrast | 0 |
ConvertToGrayscale | False |
Copyright | (c) Magnus Knutsen Bjorke
CopyrightFlag | False |
CopyrightNotice | (c) Magnus Knutsen Bjorke
CreateDate (1) | 2009:05:04 18:07:13+02:00 |
CreateDate | 2009:05:04 16:21:27 |
Creator | Knutsen Bjørke Magnus |
CreatorTool | Adobe Photoshop CS3 Macintosh |
CustomField1 | Valgt |
CustomField4 | Morgen |
CustomRendered | Normal |
DateTimeDigitized | 2009:05:04 16:21:27:02 |
DateTimeOriginal (1) | 2009:05:04 16:21:27:02 |
DateTimeOriginal | 2009:05:04 16:21:27 |
Defringe | 0 |
Description | Nationaltheatret skal til høsten ha urpremiere på sceneversjonen av Ingmar Bergmans storfilm, Fanny og Alexander. Vi møter KJersti HOlmen (som spiller moren) og regissør Kjetil Bang-Hansen |
ExifImageHeight | 1024 |
ExifImageWidth | 683 |
Exposure | +0.55 |
ExposureCompensation | 0 |
ExposureMode | Manual |
ExposureProgram | Manual |
ExposureTime | 1/125 |
FillLight | 15 |
Firmware | 1.0.6 |
Flash | Off, Did not fire |
FlashCompensation | 0 |
FlashFired | False |
FlashFunction | False |
FlashMode | Off |
FlashRedEyeMode | False |
FlashReturn | No return detection |
FNumber | 2.8 |
FocalLength | 48.0 mm |
FocalLength35efl | 48.0 mm (35 mm equivalent: 46.8 mm) |
Format | image/jpeg |
FOV | 42.0 deg |
GPSVersionID | 2.2.0.0 |
GreenHue | 0 |
GreenSaturation | 0 |
HasCrop | False |
HasSettings | True |
HighlightRecovery | 0 |
HueAdjustmentAqua | 0 |
HueAdjustmentBlue | 0 |
HueAdjustmentGreen | 0 |
HueAdjustmentMagenta | 0 |
HueAdjustmentOrange | 0 |
HueAdjustmentPurple | 0 |
HueAdjustmentRed | 0 |
HueAdjustmentYellow | 0 |
HyperfocalDistance | 26.73 m |
ICCProfileName | ColorMatch RGB |
ImageDescription | Nationaltheatret skal til høsten ha urpremiere på sceneversjonen av Ingmar Bergmans storfilm, Fanny og Alexander. Vi møter KJersti HOlmen (som spiller moren) og regissør Kjetil Bang-Hansen |
ImageHeight | 1024 |
ImageNumber | 0 |
ImageSize | 683x1024 |
ImageWidth | 683 |
IncrementalTemperature | -22 |
IncrementalTint | -14 |
ISO | 3200 |
JobId | 50161135-72A9-4DCC-8D1A-E66E1DD921ED |
Lens | EF24-70mm f/2.8L USM |
LensInfo | 24-70mm f/? |
LightValue | 4.9 |
LuminanceAdjustmentAqua | 0 |
LuminanceAdjustmentBlue | 0 |
LuminanceAdjustmentGreen | 0 |
LuminanceAdjustmentMagenta | 0 |
LuminanceAdjustmentOrange | 0 |
LuminanceAdjustmentPurple | 0 |
LuminanceAdjustmentRed | 0 |
LuminanceAdjustmentYellow | 0 |
LuminanceSmoothing | 0 |
Make | Canon |
MaxApertureValue | 2.8 |
Megapixels | 0.699 |
MeteringMode | Multi-segment |
Model | Canon EOS 5D Mark II |
ModifyDate (1) | 2009:05:04 20:11:41+02:00 |
ModifyDate | 2009:05:04 20:11:41 |
Orientation | Horizontal (normal) |
OriginalTransmissionReference | 247281 |
OwnerId | AFTP |
OwnerName | Magnus Knutsen Bjorke |
ParametricDarks | 0 |
ParametricHighlights | 0 |
ParametricHighlightSplit | 75 |
ParametricLights | 0 |
ParametricMidtoneSplit | 50 |
ParametricShadows | 0 |
ParametricShadowSplit | 25 |
PostCropVignetteAmount | 0 |
ProfileDescription | ColorMatch RGB |
Rating | 0 |
RawFileName | 023301.jpg |
RedHue | 0 |
RedSaturation | 0 |
Rights | (c) Magnus Knutsen Bjorke
Saturation | 0 |
SaturationAdjustmentAqua | 0 |
SaturationAdjustmentBlue | 0 |
SaturationAdjustmentGreen | 0 |
SaturationAdjustmentMagenta | 0 |
SaturationAdjustmentOrange | 0 |
SaturationAdjustmentPurple | 0 |
SaturationAdjustmentRed | 0 |
SaturationAdjustmentYellow | 0 |
ScaleFactor35efl | 1.0 |
SceneCaptureType | Standard |
SerialNumber | 230118093 |
Shadows | 6 |
ShadowTint | 0 |
SharpenDetail | 25 |
SharpenEdgeMasking | 0 |
SharpenRadius | +1.0 |
Sharpness | 0 |
ShortUniqueId | 4106678501 |
ShutterSpeed | 1/125 |
ShutterSpeedValue | 1/125 |
Software | Adobe Photoshop CS3 Macintosh |
Source | Christiansen Ann S |
SplitToningBalance | 0 |
SplitToningHighlightHue | 0 |
SplitToningHighlightSaturation | 0 |
SplitToningShadowHue | 0 |
SplitToningShadowSaturation | 0 |
ToneCurve | 0, 0, 255, 255 |
ToneCurveName | Linear |
TransmissionReference | 247281 |
UniqueId | 695B1C2DADE3446F B2ADBF8447B9C498 |
URL_List | |
UserComment | |
Version | 4.6 |
Vibrance | 0 |
VignetteAmount | 0 |
WhiteBalance (2) | Custom |
WhiteBalance | Auto |
XMPFileStamps | 2009:05:04 18:07:13+02:00, 2009:05:04 18:47:31+02:00, 2009:05:04 18:48:11+02:00, 2009:05:04 18:48:11+02:00, 2009:05:04 18:56:14+02:00, 2009:05:04 19:55:58+02:00 |