Felt | Verdi |
AlreadyApplied | True |
Aperture | 7.1 |
ApertureValue | 7.1 |
Artist | s5s5HAH |
BitsPerSample | 8 |
BlueHue | 0 |
BlueSaturation | 0 |
Brightness | 0 |
By-line | s5s5HAH |
CameraProfile | Embedded |
ChromaticAberrationB | 0 |
ChromaticAberrationR | 0 |
CircleOfConfusion | 0.005 mm |
Clarity | -33 |
ColorComponents | 3 |
ColorMode | RGB |
ColorNoiseReduction | 0 |
ColorSpace (1) | Unknown (-1) |
ColorSpace | Uncalibrated |
Contrast | 0 |
ConvertToGrayscale | False |
CopyrightFlag | False |
CreateDate (1) | 2010:04:15 23:23:26Z |
CreateDate | 2010:04:15 20:47:45 |
Creator | s5s5HAH |
CreatorTool | Adobe Photoshop CS3 Windows |
CropAngle | 0 |
CropBottom | 0.939164 |
CropHeight | 5906 |
CropLeft | 0.05711 |
CropRight | 0.901217 |
CropTop | 0.095058 |
CropUnit | pixels |
CropWidth | 3937 |
CustomRendered | Normal |
DateTimeDigitized | 2010:04:15 20:47:45Z |
DateTimeOriginal (1) | 2010:04:15 20:47:45Z |
DateTimeOriginal | 2010:04:15 20:47:45 |
Defringe | 0 |
DerivedFrom | |
ExifImageHeight | 709 |
ExifImageWidth | 473 |
Exposure | +0.29 |
ExposureCompensation | 0 |
ExposureMode | Manual |
ExposureProgram | Manual |
ExposureTime | 1/160 |
FillLight | 0 |
Firmware | Asgeirsson |
Flash | Off, Did not fire |
FlashCompensation | 0 |
FlashFired | False |
FlashFunction | False |
FlashMode | Off |
FlashRedEyeMode | False |
FlashReturn | No return detection |
FNumber | 7.1 |
FocalLength | 24.0 mm |
FocalLength35efl | 24.0 mm (35 mm equivalent: 148.1 mm) |
Format | image/jpeg |
FOV | 13.9 deg |
GreenHue | 0 |
GreenSaturation | 0 |
HasCrop | True |
HasSettings | True |
HighlightRecovery | 0 |
HueAdjustmentAqua | 0 |
HueAdjustmentBlue | 0 |
HueAdjustmentGreen | 0 |
HueAdjustmentMagenta | 0 |
HueAdjustmentOrange | 0 |
HueAdjustmentPurple | 0 |
HueAdjustmentRed | 0 |
HueAdjustmentYellow | 0 |
HyperfocalDistance | 16.67 m |
ICCProfileName | Adobe RGB (1998) |
ImageHeight (1) | 5906 |
ImageHeight | 709 |
ImageNumber | 27952 |
ImageSize | 473x709 |
ImageWidth (1) | 3937 |
ImageWidth | 473 |
IncrementalTemperature | 0 |
IncrementalTint | 0 |
ISO | 100 |
LightValue | 13.0 |
LuminanceAdjustmentAqua | 0 |
LuminanceAdjustmentBlue | 0 |
LuminanceAdjustmentGreen | 0 |
LuminanceAdjustmentMagenta | 0 |
LuminanceAdjustmentOrange | 0 |
LuminanceAdjustmentPurple | 0 |
LuminanceAdjustmentRed | 0 |
LuminanceAdjustmentYellow | 0 |
LuminanceSmoothing | 0 |
Make | Canon |
Megapixels | 0.335 |
MeteringMode | Multi-segment |
Model | Canon EOS 5D |
ModifyDate (1) | 2010:04:15 23:23:26Z |
ModifyDate | 2010:04:15 23:23:26 |
Orientation | Horizontal (normal) |
OwnerName | s5s5HAH |
PaintCorrectionActive | true |
PaintCorrectionAmount | 1.000000 |
PaintCorrectionBrightness | 0.000000 |
PaintCorrectionClarity (4) | -0.033181 |
PaintCorrectionClarity | -0.025000 |
PaintCorrectionContrast | 0.000000 |
PaintCorrectionExposure (4) | 0.730000 |
PaintCorrectionExposure | 0.550000 |
PaintCorrectionHue | 96.000000 |
PaintCorrectionMaskCenterWeight | 0.000000 |
PaintCorrectionMaskFlow | 0.381000 |
PaintCorrectionMaskRadius (10) | 0.095409 |
PaintCorrectionMaskRadius (3) | 0.112497 |
PaintCorrectionMaskRadius (4) | 0.062862 |
PaintCorrectionMaskRadius (7) | 0.139144 |
PaintCorrectionMaskRadius | 0.103885 |
PaintCorrectionMaskValue | 1.000000 |
PaintCorrectionMaskWhat | Mask/Paint |
PaintCorrectionSaturation (5) | -0.050000 |
PaintCorrectionSaturation (7) | -0.066364 |
PaintCorrectionSaturation | 0.000000 |
PaintCorrectionSharpness (4) | 0.530909 |
PaintCorrectionSharpness | 0.400000 |
PaintCorrectionWhat | Correction |
ParametricDarks | 0 |
ParametricHighlights | 0 |
ParametricHighlightSplit | 75 |
ParametricLights | 0 |
ParametricMidtoneSplit | 50 |
ParametricShadows | 0 |
ParametricShadowSplit | 25 |
PostCropVignetteAmount | -31 |
PostCropVignetteFeather | 49 |
PostCropVignetteMidpoint | 50 |
PostCropVignetteRoundness | -38 |
ProfileDescription | Adobe RGB (1998) |
RedHue | 0 |
RedSaturation | 0 |
Saturation | -29 |
SaturationAdjustmentAqua | 0 |
SaturationAdjustmentBlue | 0 |
SaturationAdjustmentGreen | 0 |
SaturationAdjustmentMagenta | 0 |
SaturationAdjustmentOrange | 0 |
SaturationAdjustmentPurple | 0 |
SaturationAdjustmentRed | 0 |
SaturationAdjustmentYellow | 0 |
ScaleFactor35efl | 6.2 |
SceneCaptureType | Standard |
SerialNumber | 1330805581 |
Shadows | 0 |
ShadowTint | 0 |
SharpenDetail | 25 |
SharpenEdgeMasking | 0 |
SharpenRadius | +1.0 |
Sharpness | 30 |
ShutterSpeed | 1/160 |
ShutterSpeedValue | 1/160 |
Software | Adobe Photoshop CS3 Windows |
SplitToningBalance | 0 |
SplitToningHighlightHue | 0 |
SplitToningHighlightSaturation | 0 |
SplitToningShadowHue | 0 |
SplitToningShadowSaturation | 0 |
ToneCurve | 0, 0, 255, 255 |
ToneCurveName | Linear |
URL_List | |
Version | 5.2 |
Vibrance | -17 |
VignetteAmount | -100 |
VignetteMidpoint | 50 |
WhiteBalance (2) | As Shot |
WhiteBalance | Auto |