Felt | Verdi |
AlreadyApplied | True |
Aperture | 5.6 |
ApertureValue | 5.6 |
Artist | Lars Erik Nes |
BitsPerSample | 8 |
BlueHue | +11 |
BlueSaturation | -21 |
Brightness | 0 |
By-line | Lars Erik Nes |
CameraProfile | Embedded |
Caption-Abstract | Sommerferie 2006. Finland og Sverige (img_0994_15072006_142723) |
CaptionWriter | Lars Erik Nes |
ChromaticAberrationB | 0 |
ChromaticAberrationR | 0 |
CircleOfConfusion | 0.002 mm |
Clarity | 0 |
ColorComponents | 3 |
ColorMode | RGB |
ColorNoiseReduction | 25 |
ColorSpace | sRGB |
Contrast | Normal |
ConvertToGrayscale | False |
Copyright | Lars Erik Nes |
CopyrightNotice | Lars Erik Nes |
Country | Norway |
Country-PrimaryLocationCode | NOR |
Country-PrimaryLocationName | Norway |
CountryCode | NOR |
CreateDate (1) | 2006:07:15 14:27:23+02:00 |
CreateDate | 2006:07:15 14:27:23 |
Creator | Lars Erik Nes |
CreatorTool | Adobe Photoshop Lightroom |
Credit | http://www.fotosalg.net |
CropAngle | -2.10759 |
CropBottom | 0.953227 |
CropHeight | 768 |
CropLeft | 0.010231 |
CropRight | 0.989769 |
CropTop | 0.046773 |
CropUnit | pixels |
CropWidth | 1024 |
CustomRendered | Normal |
DateTimeDigitized | 2006:07:15 14:27:23+02:00 |
DateTimeOriginal (1) | 2006:07:15 14:27:23+02:00 |
DateTimeOriginal | 2006:07:15 14:27:23 |
Defringe | 0 |
Description | Sommerferie 2006. Finland og Sverige (img_0994_15072006_142723) |
DigitalZoomRatio | 1 |
ExifImageHeight | 1028 |
ExifImageWidth | 772 |
Exposure | +1.15 |
ExposureCompensation | 0 |
ExposureMode | Auto |
ExposureTime | 1/500 |
FillLight | 0 |
Firmware | 1.01 |
Flash | Auto, Did not fire |
FlashCompensation | 0 |
FlashFired | False |
FlashFunction | False |
FlashMode | Auto |
FlashRedEyeMode | False |
FlashReturn | No return detection |
FNumber | 5.6 |
FocalLength | 5.8 mm |
FocalLength35efl | 5.8 mm (35 mm equivalent: 88.8 mm) |
Format | image/jpeg |
FOV | 22.9 deg |
GreenHue | +16 |
GreenSaturation | +51 |
HasCrop | True |
HasSettings | True |
HighlightRecovery | 25 |
HueAdjustmentAqua | 0 |
HueAdjustmentBlue | 0 |
HueAdjustmentGreen | 0 |
HueAdjustmentMagenta | 0 |
HueAdjustmentOrange | 0 |
HueAdjustmentPurple | 0 |
HueAdjustmentRed | 0 |
HueAdjustmentYellow | 0 |
HyperfocalDistance | 3.06 m |
ICCProfileName | sRGB IEC61966-2.1 |
ImageDescription | Sommerferie 2006. Finland og Sverige (img_0994_15072006_142723) |
ImageHeight (1) | 1024 |
ImageHeight | 1028 |
ImageSize | 772x1028 |
ImageWidth (1) | 768 |
ImageWidth | 772 |
IncrementalTemperature | 0 |
IncrementalTint | 0 |
Instructions | For publisering kontakt fotosalg.net, +47 91898013 / salg@fotosalg.net |
Keywords | FotoDotNo |
Lens | 5.8-17.4 mm |
LensInfo | 5.8-17.4mm f/? |
LuminanceAdjustmentAqua | 0 |
LuminanceAdjustmentBlue | 0 |
LuminanceAdjustmentGreen | 0 |
LuminanceAdjustmentMagenta | 0 |
LuminanceAdjustmentOrange | 0 |
LuminanceAdjustmentPurple | 0 |
LuminanceAdjustmentRed | 0 |
LuminanceAdjustmentYellow | 0 |
LuminanceSmoothing | 43 |
Make | Canon |
MaxApertureValue | 2.8 |
Megapixels | 0.794 |
MeteringMode | Center-weighted average |
Model | Canon DIGITAL IXUS 50 |
ModifyDate (1) | 2010:05:31 21:17:01+02:00 |
ModifyDate | 2010:05:31 21:17:01 |
Orientation | Horizontal (normal) |
ParametricDarks | -20 |
ParametricHighlights | +60 |
ParametricHighlightSplit | 75 |
ParametricLights | +10 |
ParametricMidtoneSplit | 50 |
ParametricShadows | -60 |
ParametricShadowSplit | 25 |
PostCropVignetteAmount | 0 |
ProfileDescription | sRGB IEC61966-2.1 |
RedHue | +23 |
RedSaturation | +10 |
Rights | Lars Erik Nes |
Saturation | Normal |
SaturationAdjustmentAqua | +50 |
SaturationAdjustmentBlue | +58 |
SaturationAdjustmentGreen | +10 |
SaturationAdjustmentMagenta | 0 |
SaturationAdjustmentOrange | +13 |
SaturationAdjustmentPurple | +23 |
SaturationAdjustmentRed | 0 |
SaturationAdjustmentYellow | +23 |
ScaleFactor35efl | 15.3 |
SceneCaptureType | Standard |
SensingMethod | One-chip color area |
Shadows | 14 |
ShadowTint | +4 |
SharpenDetail | 25 |
SharpenEdgeMasking | 0 |
SharpenRadius | +1.3 |
Sharpness | Hard |
ShutterSpeed | 1/500 |
ShutterSpeedValue | 1/500 |
Software | Adobe Photoshop CS4 Macintosh |
Source | Nikon D70/Lars Erik Nes |
SpecialInstructions | For publisering kontakt fotosalg.net, +47 91898013 / salg@fotosalg.net |
SplitToningBalance | 0 |
SplitToningHighlightHue | 0 |
SplitToningHighlightSaturation | 0 |
SplitToningShadowHue | 0 |
SplitToningShadowSaturation | 0 |
Subject | FotoDotNo |
ToneCurve | 0, 0, 255, 255 |
ToneCurveName | Linear |
Urgency | 5 (normal urgency) |
URL_List | |
Version | 5.5 |
Vibrance | 0 |
VignetteAmount | -100 |
VignetteMidpoint | 40 |
WhiteBalance | Auto |
Writer-Editor | Lars Erik Nes |