Felt | Verdi |
AlreadyApplied | True |
Aperture | 2.2 |
ApertureValue | 2.2 |
ApproximateFocusDistance | 0.71 |
AuthorsPosition | Photographer |
BitsPerSample | 8 |
BlueHue | 0 |
BlueSaturation | 0 |
Brightness | +25 |
By-line | Alexander Kleppesto |
By-lineTitle | Photographer |
CameraProfile | Embedded |
CFAPattern | [Green,Blue][Red,Green] |
ChromaticAberrationB | 0 |
ChromaticAberrationR | 0 |
CircleOfConfusion | 0.020 mm |
Clarity | +10 |
ColorComponents | 3 |
ColorNoiseReduction | 50 |
ColorNoiseReductionDetail | 50 |
ColorTemperature | 4300 |
Contrast (2) | +100 |
Contrast | High |
ConvertToGrayscale | False |
Copyright | WWW.BLINK-SKUDD.COM |
CopyrightFlag | True |
CopyrightNotice | WWW.BLINK-SKUDD.COM |
CreateDate (1) | 2010:09:21 16:08:36.70+02:00 |
CreateDate | 2010:09:21 16:08:36 |
Creator | Alexander Kleppesto |
CreatorAddress | dalavegen 4 |
CreatorCity | Kleppesto |
CreatorCountry | Norway |
CreatorPostalCode | 5300 |
CreatorTool | Adobe Photoshop Lightroom |
CreatorWorkEmail | fotograf@blink-skudd.com |
CreatorWorkTelephone | 46697662 |
CreatorWorkURL | www.blink-skudd.com |
CustomRendered | Normal |
DateCreated (1) | 2010:09:21 |
DateCreated | 2010:09:21 16:08:36+01:00 |
DateTimeDigitized | 2010:09:21 16:08:36.70+02:00 |
DateTimeOriginal (1) | 2010:09:21 16:08:36.70+02:00 |
DateTimeOriginal | 2010:09:21 16:08:36 |
Defringe | 0 |
DigitalZoomRatio | 1 |
DOF | 0.017 m (0.702 - 0.718 m) |
ExifImageHeight | 800 |
ExifImageWidth | 536 |
Exposure | 0.00 |
ExposureCompensation | 0 |
ExposureMode | Auto |
ExposureProgram | Aperture-priority AE |
ExposureTime | 1/400 |
FillLight | 74 |
Flash | No Flash |
FlashFired | False |
FlashFunction | False |
FlashMode | Unknown |
FlashRedEyeMode | False |
FlashReturn | No return detection |
FNumber | 2.2 |
FocalLength | 50.0 mm |
FocalLength35efl | 50.0 mm (35 mm equivalent: 75.0 mm) |
FocalLengthIn35mmFormat | 75 mm |
FOV | 27.0 deg |
GainControl | High gain up |
GrainAmount | 0 |
GreenHue | 0 |
GreenSaturation | 0 |
HasCrop | False |
HasSettings | True |
HighlightRecovery | 100 |
HueAdjustmentAqua | 0 |
HueAdjustmentBlue | 0 |
HueAdjustmentGreen | 0 |
HueAdjustmentMagenta | 0 |
HueAdjustmentOrange | 0 |
HueAdjustmentPurple | 0 |
HueAdjustmentRed | 0 |
HueAdjustmentYellow | 0 |
HyperfocalDistance | 56.73 m |
ImageHeight | 800 |
ImageNumber | 1685 |
ImageSize | 536x800 |
ImageWidth | 536 |
ISO | 1600 |
Keywords | GATEPORTRETT_BERGEN_BT BT_GATEPORTRETT |
Label | Green |
Lens | 50.0 mm f/1.4 |
LensID (1) | 160 |
LensID | AF-S Nikkor 50mm f/1.4G |
LensInfo | 50mm f/1.4 |
LensManualDistortionAmount | 0 |
LensModel | 50.0 mm f/1.4 |
LensProfileEnable | 0 |
LensProfileSetup | LensDefaults |
LightSource | Unknown |
LightValue | 6.9 |
LuminanceAdjustmentAqua | 0 |
LuminanceAdjustmentBlue | 0 |
LuminanceAdjustmentGreen | 0 |
LuminanceAdjustmentMagenta | 0 |
LuminanceAdjustmentOrange | 0 |
LuminanceAdjustmentPurple | 0 |
LuminanceAdjustmentRed | 0 |
LuminanceAdjustmentYellow | 0 |
LuminanceNoiseReductionContrast | 0 |
LuminanceNoiseReductionDetail | 50 |
LuminanceSmoothing | 50 |
Make | NIKON CORPORATION |
Marked | True |
MaxApertureValue | 1.4 |
Megapixels | 0.429 |
MeteringMode | Multi-segment |
Model | NIKON D80 |
ModifyDate (1) | 2010:09:22 23:32:24+02:00 |
ModifyDate | 2010:09:22 23:32:24 |
PaintCorrectionActive | true |
PaintCorrectionAmount | 1.000000 |
PaintCorrectionBrightness | 0.000000 |
PaintCorrectionClarity | 0.655172 |
PaintCorrectionContrast | 0.000000 |
PaintCorrectionExposure (1) | 0.098000 |
PaintCorrectionExposure | 0.122000 |
PaintCorrectionHue | 240.000000 |
PaintCorrectionMaskCenterWeight | 0.000000 |
PaintCorrectionMaskFlow | 0.800000 |
PaintCorrectionMaskRadius | 0.088382 |
PaintCorrectionMaskValue | 1.000000 |
PaintCorrectionMaskWhat | Mask/Paint |
PaintCorrectionSaturation (1) | 0.701149 |
PaintCorrectionSaturation | 0.000000 |
PaintCorrectionSharpness | 0.000000 |
PaintCorrectionWhat | Correction |
ParametricDarks | +36 |
ParametricHighlights | +24 |
ParametricHighlightSplit | 75 |
ParametricLights | +38 |
ParametricMidtoneSplit | 50 |
ParametricShadows | -7 |
ParametricShadowSplit | 25 |
PerspectiveHorizontal | 0 |
PerspectiveRotate | 0.0 |
PerspectiveScale | 100 |
PerspectiveVertical | 0 |
PostCropVignetteAmount | 0 |
ProcessVersion | 5.7 |
ProfileDescription | sRGB IEC61966-2.1 |
RedHue | 0 |
RedSaturation | 0 |
Rights | WWW.BLINK-SKUDD.COM |
Saturation (2) | -67 |
Saturation | High |
SaturationAdjustmentAqua | 0 |
SaturationAdjustmentBlue | 0 |
SaturationAdjustmentGreen | 0 |
SaturationAdjustmentMagenta | 0 |
SaturationAdjustmentOrange | 0 |
SaturationAdjustmentPurple | 0 |
SaturationAdjustmentRed | 0 |
SaturationAdjustmentYellow | 0 |
ScaleFactor35efl | 1.5 |
SceneCaptureType | Standard |
SceneType | Directly photographed |
SensingMethod | One-chip color area |
SensitivityType | Unknown |
SerialNumber | 4285254 |
Shadows | 76 |
ShadowTint | 0 |
SharpenDetail | 25 |
SharpenEdgeMasking | 0 |
SharpenRadius | +1.0 |
Sharpness (2) | 0 |
Sharpness | Hard |
ShutterSpeed | 1/400 |
ShutterSpeedValue | 1/400 |
Software | Ver.1.11 |
SplitToningBalance | 0 |
SplitToningHighlightHue | 0 |
SplitToningHighlightSaturation | 0 |
SplitToningShadowHue | 0 |
SplitToningShadowSaturation | 0 |
Subject | GATEPORTRETT_BERGEN_BT BT_GATEPORTRETT |
SubjectDistance | 0.71 m |
SubjectDistanceRange | Unknown |
Tint | +1 |
ToneCurve | 0, 0, 255, 255 |
ToneCurveName | Linear |
URL | WWW.BLINK-SKUDD.COM |
UserComment | ALEXANDER KLEPPESTO2008(C) |
Version | 6.2 |
Vibrance | -24 |
VignetteAmount | -100 |
VignetteMidpoint | 20 |
WebStatement | WWW.BLINK-SKUDD.COM |
WhiteBalance (2) | As Shot |
WhiteBalance | Auto |