Felt | Verdi |
AlreadyApplied | True |
Aperture | 5.0 |
ApertureValue | 5.0 |
BitsPerSample | 8 |
BlueHue | 0 |
BlueSaturation | +63 |
Brightness | +6 |
CameraProfile | Embedded |
ChromaticAberrationB | 0 |
ChromaticAberrationR | 0 |
CircleOfConfusion | 0.019 mm |
Clarity | 0 |
ColorComponents | 3 |
ColorNoiseReduction | 25 |
Contrast | 0 |
ConvertToGrayscale | True |
CreateDate (1) | 2010:11:19 15:30:50.03+01:00 |
CreateDate | 2010:11:19 15:30:50 |
CreatorTool | Adobe Photoshop Lightroom |
CustomRendered | Normal |
DateTimeDigitized | 2010:11:19 15:30:50.03+01:00 |
DateTimeOriginal (1) | 2010:11:19 15:30:50.03+01:00 |
DateTimeOriginal | 2010:11:19 15:30:50 |
Defringe | 0 |
ExifImageHeight | 750 |
ExifImageWidth | 610 |
Exposure | +0.50 |
ExposureCompensation | -2/3 |
ExposureMode | Auto |
ExposureProgram | Aperture-priority AE |
ExposureTime | 0.5 |
FillLight | 0 |
Flash | Off, Did not fire |
FlashFired | False |
FlashFunction | False |
FlashMode | Off |
FlashRedEyeMode | False |
FlashReturn | No return detection |
FNumber | 5.0 |
FocalLength | 50.0 mm |
FocalLength35efl | 50.0 mm (35 mm equivalent: 80.8 mm) |
FOV | 25.1 deg |
GrayMixerAqua | -13 |
GrayMixerBlue | +16 |
GrayMixerGreen | -19 |
GrayMixerMagenta | +19 |
GrayMixerOrange | -5 |
GrayMixerPurple | +25 |
GrayMixerRed | +10 |
GrayMixerYellow | -12 |
GreenHue | 0 |
GreenSaturation | 0 |
HasCrop | False |
HasSettings | True |
HighlightRecovery | 0 |
HyperfocalDistance | 26.88 m |
ImageHeight | 750 |
ImageSize | 610x750 |
ImageWidth | 610 |
IncrementalTemperature | +23 |
IncrementalTint | +49 |
ISO | 100 |
LightValue | 5.6 |
LuminanceSmoothing | 0 |
Make | Canon |
Megapixels | 0.458 |
MeteringMode | Spot |
Model | Canon EOS 450D |
ModifyDate (1) | 2010:11:19 20:09:22+01:00 |
ModifyDate | 2010:11:19 20:09:22 |
ParametricDarks | -2 |
ParametricHighlights | 0 |
ParametricHighlightSplit | 75 |
ParametricLights | +2 |
ParametricMidtoneSplit | 50 |
ParametricShadows | -20 |
ParametricShadowSplit | 25 |
PostCropVignetteAmount | 0 |
ProfileDescription | sRGB IEC61966-2.1 |
RedHue | 0 |
RedSaturation | -34 |
ScaleFactor35efl | 1.6 |
SceneCaptureType | Standard |
Shadows | 8 |
ShadowTint | 0 |
SharpenDetail | 25 |
SharpenEdgeMasking | 0 |
SharpenRadius | +1.0 |
Sharpness | 25 |
ShutterSpeed | 0.5 |
ShutterSpeedValue | 0.5 |
Software | QuickTime 7.6.6 |
SplitToningBalance | 0 |
SplitToningHighlightHue | 50 |
SplitToningHighlightSaturation | 66 |
SplitToningShadowHue | 30 |
SplitToningShadowSaturation | 28 |
ToneCurve | 0, 0, 255, 255 |
ToneCurveName | Linear |
Version | 5.6 |
VignetteAmount | -41 |
VignetteMidpoint | 48 |
WhiteBalance (2) | Custom |
WhiteBalance | Manual |