Felt | Verdi |
AlreadyApplied | True |
Aperture | 5.0 |
ApertureValue | 5.0 |
Artist | Photographer:Tore Hobbelstad |
BitsPerSample | 8 |
BlueHue | 0 |
BlueSaturation | 0 |
Brightness | +50 |
By-line | Photographer:Tore Hobbelstad |
CameraProfile | Adobe Standard |
ChromaticAberrationB | 0 |
ChromaticAberrationR | 0 |
CircleOfConfusion | 0.031 mm |
Clarity | +57 |
ColorComponents | 3 |
ColorMode | RGB |
ColorNoiseReduction | 93 |
ColorNoiseReductionDetail | 50 |
ColorSpace | Uncalibrated |
ColorTemperature | 7000 |
Contrast | +25 |
ConvertToGrayscale | False |
Copyright | Copyright: Tore Hobbelstad Tlf 911 32 701 |
CopyrightNotice | Copyright: Tore Hobbelstad Tlf 911 32 701 |
CreateDate (1) | 2012:04:12 19:54:12.88+02:00 |
CreateDate | 2012:04:12 19:54:12 |
Creator | Photographer:Tore Hobbelstad |
CustomRendered | Normal |
DateCreated (1) | 2012-04- |
DateCreated | 2012:01:04 |
DateTimeOriginal | 2012:04:12 19:54:12 |
Defringe | 0 |
DOF | 2.72 m (55.37 - 58.09 m) |
ExifImageHeight | 655 |
ExifImageWidth | 1200 |
Exposure | 0.00 |
ExposureCompensation | 0 |
ExposureMode | Auto |
ExposureProgram | Aperture-priority AE |
ExposureTime | 1/1600 |
FillLight | 0 |
Firmware | 2.1.2 |
Flash | Off, Did not fire |
FlashCompensation | 0 |
FNumber | 5.0 |
FocalLength | 600.0 mm |
FocalLength35efl | 600.0 mm (35 mm equivalent: 585.6 mm) |
Format | image/jpeg |
FOV | 3.5 deg |
GrainAmount | 0 |
GreenHue | 0 |
GreenSaturation | 0 |
HasCrop | False |
HasSettings | True |
HighlightRecovery | 14 |
HueAdjustmentAqua | 0 |
HueAdjustmentBlue | 0 |
HueAdjustmentGreen | 0 |
HueAdjustmentMagenta | 0 |
HueAdjustmentOrange | 0 |
HueAdjustmentPurple | 0 |
HueAdjustmentRed | 0 |
HueAdjustmentYellow | 0 |
HyperfocalDistance | 2338.65 m |
ICCProfileName | Adobe RGB (1998) |
ImageHeight | 655 |
ImageNumber | 0 |
ImageSize | 1200x655 |
ImageWidth | 1200 |
ISO | 6400 |
Lens | EF600mm f/4L IS USM |
LensID (1) | 185 |
LensID | Canon EF 600mm f/4L IS USM |
LensInfo | 600mm f/? |
LightValue | 9.3 |
LuminanceAdjustmentAqua | 0 |
LuminanceAdjustmentBlue | 0 |
LuminanceAdjustmentGreen | 0 |
LuminanceAdjustmentMagenta | 0 |
LuminanceAdjustmentOrange | 0 |
LuminanceAdjustmentPurple | 0 |
LuminanceAdjustmentRed | 0 |
LuminanceAdjustmentYellow | 0 |
LuminanceNoiseReductionContrast | 0 |
LuminanceNoiseReductionDetail | 60 |
LuminanceSmoothing | 92 |
Make | Canon |
MaxApertureValue | 4.0 |
Megapixels | 0.786 |
MeteringMode | Multi-segment |
Model | Canon EOS 5D Mark II |
ModifyDate (1) | 2012:04:13 08:36:47+02:00 |
ModifyDate | 2012:04:13 08:36:47 |
Orientation | Horizontal (normal) |
OwnerName | Tore Hobbelstad |
ParametricDarks | 0 |
ParametricHighlights | 0 |
ParametricHighlightSplit | 75 |
ParametricLights | 0 |
ParametricMidtoneSplit | 50 |
ParametricShadows | 0 |
ParametricShadowSplit | 25 |
PostCropVignetteAmount | 0 |
ProcessVersion | 5.7 |
ProfileDescription | Adobe RGB (1998) |
Rating | 0 |
RawFileName | IMG_0642.CR2 |
RedHue | 0 |
RedSaturation | 0 |
Rights | Copyright: Tore Hobbelstad Tlf 911 32 701 |
Saturation | 0 |
SaturationAdjustmentAqua | 0 |
SaturationAdjustmentBlue | 0 |
SaturationAdjustmentGreen | 0 |
SaturationAdjustmentMagenta | 0 |
SaturationAdjustmentOrange | 0 |
SaturationAdjustmentPurple | 0 |
SaturationAdjustmentRed | 0 |
SaturationAdjustmentYellow | 0 |
ScaleFactor35efl | 1.0 |
SceneCaptureType | Standard |
SerialNumber | 630326000 |
Shadows | 5 |
ShadowTint | 0 |
SharpenDetail | 25 |
SharpenEdgeMasking | 0 |
SharpenRadius | +1.0 |
Sharpness | 25 |
ShutterSpeed | 1/1600 |
ShutterSpeedValue | 1/1600 |
SidecarForExtension | CR2 |
Software | Adobe Photoshop CS5 (12.0x20100115 [20100115.m.998 2010/01/15:02:00:00 cutoff; m branch]) Windows |
SplitToningBalance | 0 |
SplitToningHighlightHue | 0 |
SplitToningHighlightSaturation | 0 |
SplitToningShadowHue | 0 |
SplitToningShadowSaturation | 0 |
SubjectDistance | 56.7 m |
Tint | -10 |
ToneCurve | 0, 0, 32, 22, 64, 56, 128, 128, 192, 196, 255, 255 |
ToneCurveName | Medium Contrast |
URL_List | |
Version | 6.0 |
Vibrance | 0 |
VignetteAmount | 0 |
WhiteBalance (1) | Custom |
WhiteBalance | Auto |