Felt | Verdi |
AlreadyApplied | True |
Aperture | 3.5 |
ApertureValue | 3.5 |
Artist | Chris Eric Bratland |
BitsPerSample (1) | 8 8 8 8 |
BitsPerSample | 8 |
BlueHue | 0 |
BlueSaturation | 0 |
Brightness | +50 |
By-line | Chris Eric Bratland |
CameraProfile | Adobe Standard |
CFAPattern | [Red,Green][Green,Blue] |
ChromaticAberrationB | 0 |
ChromaticAberrationR | 0 |
CircleOfConfusion | 0.030 mm |
Clarity | 0 |
ColorComponents | 1 |
ColorMode | Grayscale |
ColorNoiseReduction | 25 |
ColorNoiseReductionDetail | 50 |
ColorSpace | Uncalibrated |
ColorTemperature | 4550 |
Contrast (1) | +46 |
Contrast | High |
ConvertToGrayscale | True |
Copyright | Chris Eric Bratland |
CopyrightNotice | Chris Eric Bratland |
CreateDate (1) | 2013:06:15 09:52:30.07+02:00 |
CreateDate | 2013:06:15 09:52:30 |
Creator | Chris Eric Bratland |
CreatorTool | Adobe Photoshop CS5 Windows |
CustomRendered | Custom |
DateCreated (1) | 2013:06:15 |
DateCreated | 2013:06:15 09:52:30.007 |
DateTimeOriginal | 2013:06:15 09:52:30 |
Defringe | 0 |
DigitalZoomRatio | 1 |
DOF | 0.11 m (3.11 - 3.22 m) |
ExifImageHeight | 1000 |
ExifImageWidth | 665 |
Exposure | 0.00 |
ExposureCompensation | -14/3 |
ExposureMode | Manual |
ExposureProgram | Manual |
ExposureTime | 1/160 |
FillLight | 59 |
Flash | No Flash |
FNumber | 3.5 |
FocalLength | 135.0 mm |
FocalLength35efl | 135.0 mm (35 mm equivalent: 135.0 mm) |
FocalLengthIn35mmFormat | 135 mm |
Format | image/jpeg |
FOV | 15.2 deg |
GainControl | Low gain up |
GrainAmount | 0 |
GrayMixerAqua | +15 |
GrayMixerBlue | +34 |
GrayMixerGreen | -25 |
GrayMixerMagenta | +3 |
GrayMixerOrange | -21 |
GrayMixerPurple | -3 |
GrayMixerRed | -18 |
GrayMixerYellow | -21 |
GreenHue | 0 |
GreenSaturation | 0 |
HasCrop | False |
HasSettings | True |
HighlightRecovery | 26 |
HyperfocalDistance | 173.30 m |
ICCProfileName | Gray Gamma 2.2 |
ImageHeight | 1000 |
ImageNumber | 37456 |
ImageSize | 665x1000 |
ImageWidth | 665 |
ISO | 800 |
Lens | 70.0-200.0 mm f/2.8 |
LensID (1) | 162 |
LensID | AF-S Nikkor 70-200mm f/2.8G ED VR II |
LensInfo | 70-200mm f/2.8 |
LightSource | Unknown |
LightValue | 7.9 |
LuminanceSmoothing | 0 |
Make | NIKON CORPORATION |
MaxApertureValue | 2.8 |
Megapixels | 0.665 |
MeteringMode | Center-weighted average |
Model | NIKON D700 |
ModifyDate (1) | 2013:06:24 23:37:39+02:00 |
ModifyDate | 2013:06:24 23:37:39 |
Orientation | Horizontal (normal) |
ParametricDarks | 0 |
ParametricHighlights | 0 |
ParametricHighlightSplit | 75 |
ParametricLights | 0 |
ParametricMidtoneSplit | 50 |
ParametricShadows | 0 |
ParametricShadowSplit | 25 |
PhotometricInterpretation | BlackIsZero |
PostCropVignetteAmount | 0 |
ProcessVersion | 5.7 |
ProfileDescription | Gray Gamma 2.2 |
Rating | 1 |
RawFileName | _DSC5895.NEF |
RedHue | 0 |
RedSaturation | 0 |
Rights | Chris Eric Bratland |
Saturation | Normal |
ScaleFactor35efl | 1.0 |
SceneCaptureType | Standard |
SceneType | Directly photographed |
SensingMethod | One-chip color area |
SerialNumber | 2013959 |
Shadows | 39 |
ShadowTint | 0 |
SharpenDetail | 25 |
SharpenEdgeMasking | 0 |
SharpenRadius | +1.0 |
Sharpness (1) | 25 |
Sharpness | Normal |
ShutterSpeed | 1/160 |
ShutterSpeedValue | 1/160 |
SidecarForExtension | NEF |
Software | Adobe Photoshop CS5 Windows |
SplitToningBalance | 0 |
SplitToningHighlightHue | 0 |
SplitToningHighlightSaturation | 0 |
SplitToningShadowHue | 0 |
SplitToningShadowSaturation | 0 |
SubjectDistance | 3.16 m |
SubjectDistanceRange | Unknown |
Tint | +7 |
ToneCurve | 0, 0, 32, 22, 64, 56, 128, 128, 192, 196, 255, 255 |
ToneCurveName | Medium Contrast |
URL_List | |
Version | 6.0 |
VignetteAmount | 0 |
WhiteBalance (1) | Custom |
WhiteBalance | Auto |