Felt | Verdi |
AlreadyApplied | True |
Aperture | 5.6 |
ApertureValue | 5.6 |
ApproximateFocusDistance | 5.78 |
Artist | Tommy Johansen |
AutoLateralCA | 0 |
BitsPerSample | 8 |
Blacks2012 | -100 |
BlueHue | 0 |
BlueSaturation | 0 |
Brightness | +50 |
By-line | Tommy Johansen |
CameraProfile | Adobe Standard |
Caption-Abstract | A crow dancing along. |
CircleOfConfusion | 0.031 mm |
Clarity | 0 |
Clarity2012 | 0 |
ColorComponents | 1 |
ColorMode | Grayscale |
ColorNoiseReduction | 25 |
ColorNoiseReductionDetail | 50 |
ColorSpace | Uncalibrated |
ColorTemperature | 5900 |
Contrast | +25 |
Contrast2012 | +100 |
ConvertToGrayscale | True |
Copyright | All right reserved Tommy Johansen Aka Grayscale foto (C) 2013 |
CopyrightFlag | True |
CopyrightNotice | All right reserved Tommy Johansen Aka Grayscale foto (C) 2013 |
CreateDate | 2013:10:02 11:05:07 |
Creator | Tommy Johansen |
CustomRendered | Normal |
DateCreated (1) | 2013:10:02 |
DateCreated | 2013:10:02 11:05:07.006 |
DateTimeOriginal | 2013:10:02 11:05:07 |
Defringe | 0 |
Description | A crow dancing along. |
DOF | 0.28 m (5.64 - 5.92 m) |
ExifImageHeight | 3051 |
ExifImageWidth | 5425 |
Exposure | 0.00 |
Exposure2012 | +1.55 |
ExposureCompensation | 0 |
ExposureMode | Auto |
ExposureProgram | Shutter speed priority AE |
ExposureTime | 1/500 |
FillLight | 0 |
Firmware | 2.1.2 |
Flash | Off, Did not fire |
FlashCompensation | 0 |
FNumber | 5.6 |
FocalLength | 200.0 mm |
FocalLength35efl | 200.0 mm (35 mm equivalent: 195.2 mm) |
Format | image/jpeg |
FOV | 10.5 deg |
GrainAmount | 0 |
GrayMixerAqua | -18 |
GrayMixerBlue | +10 |
GrayMixerGreen | -27 |
GrayMixerMagenta | +4 |
GrayMixerOrange | -19 |
GrayMixerPurple | +16 |
GrayMixerRed | -10 |
GrayMixerYellow | -23 |
GreenHue | 0 |
GreenSaturation | 0 |
HasCrop | False |
HasSettings | True |
HighlightRecovery | 0 |
Highlights2012 | -37 |
HyperfocalDistance | 232.01 m |
ICCProfileName | Gray Gamma 2.2 |
ImageDescription | A crow dancing along. |
ImageHeight | 3051 |
ImageNumber | 0 |
ImageSize | 5425x3051 |
ImageWidth | 5425 |
ISO | 640 |
Keywords | Crow, Dancing, Jump |
Lens | 70-200mm |
LensID (1) | 174 |
LensID | Sigma 70-200mm f/2.8 EX DG APO OS HSM |
LensInfo | 70-200mm f/? |
LensManualDistortionAmount | 0 |
LensModel | 70-200mm |
LensProfileEnable | 0 |
LensProfileSetup | LensDefaults |
LightValue | 11.3 |
LuminanceSmoothing | 0 |
Make | Canon |
Marked | True |
MaxApertureValue | 2.8 |
Megapixels | 16.6 |
MeteringMode | Multi-segment |
Model | Canon EOS 5D Mark II |
ModifyDate (1) | 2013:10:02 13:14:54+02:00 |
ModifyDate | 2013:10:02 13:14:54 |
ObjectName | Jump around... |
Orientation | Horizontal (normal) |
OwnerName | Tommy Johansen |
ParametricDarks | 0 |
ParametricHighlights | 0 |
ParametricHighlightSplit | 75 |
ParametricLights | 0 |
ParametricMidtoneSplit | 50 |
ParametricShadows | 0 |
ParametricShadowSplit | 25 |
PerspectiveHorizontal | 0 |
PerspectiveRotate | 0.0 |
PerspectiveScale | 100 |
PerspectiveVertical | 0 |
PostCropVignetteAmount | 0 |
ProcessVersion | 6.7 |
ProfileDescription | Gray Gamma 2.2 |
Rating | 0 |
RawFileName | IMG_9151.CR2 |
RedHue | 0 |
RedSaturation | 0 |
Rights | All right reserved Tommy Johansen Aka Grayscale foto (C) 2013 |
ScaleFactor35efl | 1.0 |
SceneCaptureType | Standard |
SerialNumber | 1721002101 |
Shadows | 5 |
Shadows2012 | -100 |
ShadowTint | 0 |
SharpenDetail | 25 |
SharpenEdgeMasking | 0 |
SharpenRadius | +1.0 |
Sharpness | 25 |
ShutterSpeed | 1/500 |
ShutterSpeedValue | 1/500 |
Software | Adobe Photoshop CS6 (Windows) |
SplitToningBalance | 0 |
SplitToningHighlightHue | 0 |
SplitToningHighlightSaturation | 0 |
SplitToningShadowHue | 0 |
SplitToningShadowSaturation | 0 |
Subject | Crow, Dancing, Jump |
Tint | 0 |
Title | Jump around... |
ToneCurve | 0, 0, 32, 22, 64, 56, 128, 128, 192, 196, 255, 255 |
ToneCurveBlue | 0, 0, 255, 255 |
ToneCurveGreen | 0, 0, 255, 255 |
ToneCurveName | Medium Contrast |
ToneCurveName2012 | Linear |
ToneCurvePV2012 | 0, 0, 255, 255 |
ToneCurvePV2012Blue | 0, 0, 255, 255 |
ToneCurvePV2012Green | 0, 0, 255, 255 |
ToneCurvePV2012Red | 0, 0, 255, 255 |
ToneCurveRed | 0, 0, 255, 255 |
URL | www.facebook.com/GrayscaleFoto |
URL_List | |
Version | 7.0 |
VignetteAmount | 0 |
WebStatement | www.facebook.com/GrayscaleFoto |
WhiteBalance (1) | Custom |
WhiteBalance | Manual |
Whites2012 | -10 |